BEGIN:VCALENDAR
PRODID:-//eluceo/ical//2.0/EN
VERSION:2.0
CALSCALE:GREGORIAN
BEGIN:VEVENT
UID:https://hbb.rivio.dev/senioren/2020/wedstrijd/26610
DTSTAMP:20260420T234614Z
SUMMARY:De Valken 1 - RBC 1
DESCRIPTION:Baan 14\, Wedstrijdnummer 44\, Afdeling Overgangsklasse 
DTSTART:20200924T200000
DTEND:20200924T230000
LOCATION:City Resort Helmond
ATTACH;FMTTYPE=text/plain:https://hbb.rivio.dev/senioren/2020/wedstrijd/266
 10
END:VEVENT
BEGIN:VEVENT
UID:https://hbb.rivio.dev/senioren/2020/wedstrijd/26645
DTSTAMP:20260420T234614Z
SUMMARY:Mierlo 4 - RBC 1
DESCRIPTION:Baan 4\, Wedstrijdnummer 49\, Afdeling Overgangsklasse 
DTSTART:20201008T200000
DTEND:20201008T230000
LOCATION:City Resort Helmond
ATTACH;FMTTYPE=text/plain:https://hbb.rivio.dev/senioren/2020/wedstrijd/266
 45
END:VEVENT
BEGIN:VEVENT
UID:https://hbb.rivio.dev/senioren/2020/wedstrijd/26684
DTSTAMP:20260420T234614Z
SUMMARY:RBC 1 - Eindhoven 1
DESCRIPTION:Baan 3\, Wedstrijdnummer 53\, Afdeling Overgangsklasse 
DTSTART:20201029T200000
DTEND:20201029T230000
LOCATION:City Resort Helmond
ATTACH;FMTTYPE=text/plain:https://hbb.rivio.dev/senioren/2020/wedstrijd/266
 84
END:VEVENT
BEGIN:VEVENT
UID:https://hbb.rivio.dev/senioren/2020/wedstrijd/26708
DTSTAMP:20260420T234614Z
SUMMARY:Brabantia 2 - RBC 1
DESCRIPTION:Baan 13\, Wedstrijdnummer 55\, Afdeling Overgangsklasse 
DTSTART:20201105T200000
DTEND:20201105T230000
LOCATION:City Resort Helmond
ATTACH;FMTTYPE=text/plain:https://hbb.rivio.dev/senioren/2020/wedstrijd/267
 08
END:VEVENT
BEGIN:VEVENT
UID:https://hbb.rivio.dev/senioren/2020/wedstrijd/26782
DTSTAMP:20260420T234614Z
SUMMARY:RBC 1 - Mixed 3
DESCRIPTION:Baan 4\, Wedstrijdnummer 60\, Afdeling Overgangsklasse 
DTSTART:20201203T200000
DTEND:20201203T230000
LOCATION:City Resort Helmond
ATTACH;FMTTYPE=text/plain:https://hbb.rivio.dev/senioren/2020/wedstrijd/267
 82
END:VEVENT
BEGIN:VEVENT
UID:https://hbb.rivio.dev/senioren/2020/wedstrijd/26829
DTSTAMP:20260420T234614Z
SUMMARY:Phoenix 2 - RBC 1
DESCRIPTION:Baan 1\, Wedstrijdnummer 70\, Afdeling Overgangsklasse 
DTSTART:20210106T200000
DTEND:20210106T230000
LOCATION:City Resort Helmond
ATTACH;FMTTYPE=text/plain:https://hbb.rivio.dev/senioren/2020/wedstrijd/268
 29
END:VEVENT
BEGIN:VEVENT
UID:https://hbb.rivio.dev/senioren/2020/wedstrijd/26870
DTSTAMP:20260420T234614Z
SUMMARY:RBC 1 - Bakel 1
DESCRIPTION:Baan 11\, Wedstrijdnummer 71\, Afdeling Overgangsklasse 
DTSTART:20210121T200000
DTEND:20210121T230000
LOCATION:City Resort Helmond
ATTACH;FMTTYPE=text/plain:https://hbb.rivio.dev/senioren/2020/wedstrijd/268
 70
END:VEVENT
BEGIN:VEVENT
UID:https://hbb.rivio.dev/senioren/2020/wedstrijd/26908
DTSTAMP:20260420T234614Z
SUMMARY:RBC 1 - Con Brio 3
DESCRIPTION:Baan 4\, Wedstrijdnummer 78\, Afdeling Overgangsklasse 
DTSTART:20210204T200000
DTEND:20210204T230000
LOCATION:City Resort Helmond
ATTACH;FMTTYPE=text/plain:https://hbb.rivio.dev/senioren/2020/wedstrijd/269
 08
END:VEVENT
BEGIN:VTIMEZONE
TZID:Europe/Amsterdam
BEGIN:STANDARD
DTSTART:20200101T000000
TZNAME:CET
TZOFFSETTO:+0100
TZOFFSETFROM:+0100
END:STANDARD
BEGIN:DAYLIGHT
DTSTART:20200329T030000
TZNAME:CEST
TZOFFSETTO:+0200
TZOFFSETFROM:+0100
END:DAYLIGHT
BEGIN:STANDARD
DTSTART:20201025T020000
TZNAME:CET
TZOFFSETTO:+0100
TZOFFSETFROM:+0200
END:STANDARD
BEGIN:DAYLIGHT
DTSTART:20210328T030000
TZNAME:CEST
TZOFFSETTO:+0200
TZOFFSETFROM:+0100
END:DAYLIGHT
BEGIN:STANDARD
DTSTART:20211031T020000
TZNAME:CET
TZOFFSETTO:+0100
TZOFFSETFROM:+0200
END:STANDARD
END:VTIMEZONE
END:VCALENDAR
