BEGIN:VCALENDAR
PRODID:-//eluceo/ical//2.0/EN
VERSION:2.0
CALSCALE:GREGORIAN
BEGIN:VEVENT
UID:https://hbb.rivio.dev/jeugd/2020/wedstrijd/26389
DTSTAMP:20260420T203221Z
SUMMARY:Mixed 1 - Mixed 2
DESCRIPTION:Baan 3\, Afdeling AB-klasse 
DTSTART:20200927T093000
DTEND:20200927T111500
LOCATION:City Resort Helmond
ATTACH;FMTTYPE=text/plain:https://hbb.rivio.dev/jeugd/2020/wedstrijd/26389
END:VEVENT
BEGIN:VEVENT
UID:https://hbb.rivio.dev/jeugd/2020/wedstrijd/26406
DTSTAMP:20260420T203221Z
SUMMARY:Phoenix 2 - Mixed 2
DESCRIPTION:Baan 4\, Afdeling AB-klasse 
DTSTART:20201004T093000
DTEND:20201004T111500
LOCATION:City Resort Helmond
ATTACH;FMTTYPE=text/plain:https://hbb.rivio.dev/jeugd/2020/wedstrijd/26406
END:VEVENT
BEGIN:VEVENT
UID:https://hbb.rivio.dev/jeugd/2020/wedstrijd/26418
DTSTAMP:20260420T203221Z
SUMMARY:Mixed 2 - Phoenix 1
DESCRIPTION:Baan 2\, Afdeling AB-klasse 
DTSTART:20201011T093000
DTEND:20201011T111500
LOCATION:City Resort Helmond
ATTACH;FMTTYPE=text/plain:https://hbb.rivio.dev/jeugd/2020/wedstrijd/26418
END:VEVENT
BEGIN:VEVENT
UID:https://hbb.rivio.dev/jeugd/2020/wedstrijd/26434
DTSTAMP:20260420T203221Z
SUMMARY:Bakel 3 - Mixed 2
DESCRIPTION:Baan 2\, Afdeling AB-klasse 
DTSTART:20201101T093000
DTEND:20201101T111500
LOCATION:City Resort Helmond
ATTACH;FMTTYPE=text/plain:https://hbb.rivio.dev/jeugd/2020/wedstrijd/26434
END:VEVENT
BEGIN:VEVENT
UID:https://hbb.rivio.dev/jeugd/2020/wedstrijd/26447
DTSTAMP:20260420T203221Z
SUMMARY:Bakel 1 - Mixed 2
DESCRIPTION:Baan 1\, Afdeling AB-klasse 
DTSTART:20201108T093000
DTEND:20201108T111500
LOCATION:City Resort Helmond
ATTACH;FMTTYPE=text/plain:https://hbb.rivio.dev/jeugd/2020/wedstrijd/26447
END:VEVENT
BEGIN:VEVENT
UID:https://hbb.rivio.dev/jeugd/2020/wedstrijd/26466
DTSTAMP:20260420T203221Z
SUMMARY:Mixed 2 - Bakel 2
DESCRIPTION:Baan 4\, Afdeling AB-klasse 
DTSTART:20201115T093000
DTEND:20201115T111500
LOCATION:City Resort Helmond
ATTACH;FMTTYPE=text/plain:https://hbb.rivio.dev/jeugd/2020/wedstrijd/26466
END:VEVENT
BEGIN:VEVENT
UID:https://hbb.rivio.dev/jeugd/2020/wedstrijd/26480
DTSTAMP:20260420T203221Z
SUMMARY:Mixed 2 - Mierlo 2
DESCRIPTION:Baan 4\, Afdeling AB-klasse 
DTSTART:20201122T093000
DTEND:20201122T111500
LOCATION:City Resort Helmond
ATTACH;FMTTYPE=text/plain:https://hbb.rivio.dev/jeugd/2020/wedstrijd/26480
END:VEVENT
BEGIN:VEVENT
UID:https://hbb.rivio.dev/jeugd/2020/wedstrijd/26509
DTSTAMP:20260420T203221Z
SUMMARY:Mixed 2 - Mierlo 1
DESCRIPTION:Baan 3\, Afdeling AB-klasse 
DTSTART:20201213T093000
DTEND:20201213T111500
LOCATION:City Resort Helmond
ATTACH;FMTTYPE=text/plain:https://hbb.rivio.dev/jeugd/2020/wedstrijd/26509
END:VEVENT
BEGIN:VTIMEZONE
TZID:Europe/Amsterdam
BEGIN:STANDARD
DTSTART:20200101T000000
TZNAME:CET
TZOFFSETTO:+0100
TZOFFSETFROM:+0100
END:STANDARD
BEGIN:DAYLIGHT
DTSTART:20200329T030000
TZNAME:CEST
TZOFFSETTO:+0200
TZOFFSETFROM:+0100
END:DAYLIGHT
BEGIN:STANDARD
DTSTART:20201025T020000
TZNAME:CET
TZOFFSETTO:+0100
TZOFFSETFROM:+0200
END:STANDARD
BEGIN:DAYLIGHT
DTSTART:20210328T030000
TZNAME:CEST
TZOFFSETTO:+0200
TZOFFSETFROM:+0100
END:DAYLIGHT
BEGIN:STANDARD
DTSTART:20211031T020000
TZNAME:CET
TZOFFSETTO:+0100
TZOFFSETFROM:+0200
END:STANDARD
END:VTIMEZONE
END:VCALENDAR
