BEGIN:VCALENDAR
PRODID:-//eluceo/ical//2.0/EN
VERSION:2.0
CALSCALE:GREGORIAN
BEGIN:VEVENT
UID:https://hbb.rivio.dev/senioren/2020/wedstrijd/26599
DTSTAMP:20260420T202817Z
SUMMARY:Geldrop 2 - Con Brio 4
DESCRIPTION:Baan 13\, Wedstrijdnummer 108\, Afdeling 2e klasse I
DTSTART:20200923T200000
DTEND:20200923T230000
LOCATION:City Resort Helmond
ATTACH;FMTTYPE=text/plain:https://hbb.rivio.dev/senioren/2020/wedstrijd/265
 99
END:VEVENT
BEGIN:VEVENT
UID:https://hbb.rivio.dev/senioren/2020/wedstrijd/26635
DTSTAMP:20260420T202817Z
SUMMARY:Con Brio 4 - Mixed 5
DESCRIPTION:Baan 4\, Wedstrijdnummer 112\, Afdeling 2e klasse I
DTSTART:20201007T200000
DTEND:20201007T230000
LOCATION:City Resort Helmond
ATTACH;FMTTYPE=text/plain:https://hbb.rivio.dev/senioren/2020/wedstrijd/266
 35
END:VEVENT
BEGIN:VEVENT
UID:https://hbb.rivio.dev/senioren/2020/wedstrijd/26669
DTSTAMP:20260420T202817Z
SUMMARY:Hanevoet 3 - Con Brio 4
DESCRIPTION:Baan 13\, Wedstrijdnummer 115\, Afdeling 2e klasse I
DTSTART:20201015T200000
DTEND:20201015T230000
LOCATION:City Resort Helmond
ATTACH;FMTTYPE=text/plain:https://hbb.rivio.dev/senioren/2020/wedstrijd/266
 69
END:VEVENT
BEGIN:VEVENT
UID:https://hbb.rivio.dev/senioren/2020/wedstrijd/26700
DTSTAMP:20260420T202817Z
SUMMARY:De Valken 3 - Con Brio 4
DESCRIPTION:Baan 14\, Wedstrijdnummer 122\, Afdeling 2e klasse I
DTSTART:20201104T200000
DTEND:20201104T230000
LOCATION:City Resort Helmond
ATTACH;FMTTYPE=text/plain:https://hbb.rivio.dev/senioren/2020/wedstrijd/267
 00
END:VEVENT
BEGIN:VEVENT
UID:https://hbb.rivio.dev/senioren/2020/wedstrijd/26741
DTSTAMP:20260420T202817Z
SUMMARY:Con Brio 4 - Mierlo 7
DESCRIPTION:Baan 3\, Wedstrijdnummer 2036\, Afdeling 2e klasse I
DTSTART:20201119T200000
DTEND:20201119T230000
LOCATION:City Resort Helmond
ATTACH;FMTTYPE=text/plain:https://hbb.rivio.dev/senioren/2020/wedstrijd/267
 41
END:VEVENT
BEGIN:VEVENT
UID:https://hbb.rivio.dev/senioren/2020/wedstrijd/26757
DTSTAMP:20260420T202817Z
SUMMARY:Con Brio 4 - Gemert 2
DESCRIPTION:Baan 14\, Wedstrijdnummer 126\, Afdeling 2e klasse I
DTSTART:20201125T200000
DTEND:20201125T230000
LOCATION:City Resort Helmond
ATTACH;FMTTYPE=text/plain:https://hbb.rivio.dev/senioren/2020/wedstrijd/267
 57
END:VEVENT
BEGIN:VEVENT
UID:https://hbb.rivio.dev/senioren/2020/wedstrijd/26791
DTSTAMP:20260420T202817Z
SUMMARY:Mierlo 6 - Con Brio 4
DESCRIPTION:Baan 3\, Wedstrijdnummer 130\, Afdeling 2e klasse I
DTSTART:20201209T200000
DTEND:20201209T230000
LOCATION:City Resort Helmond
ATTACH;FMTTYPE=text/plain:https://hbb.rivio.dev/senioren/2020/wedstrijd/267
 91
END:VEVENT
BEGIN:VEVENT
UID:https://hbb.rivio.dev/senioren/2020/wedstrijd/26841
DTSTAMP:20260420T202817Z
SUMMARY:Con Brio 4 - Someren 2
DESCRIPTION:Baan 3\, Wedstrijdnummer 134\, Afdeling 2e klasse I
DTSTART:20210107T200000
DTEND:20210107T230000
LOCATION:City Resort Helmond
ATTACH;FMTTYPE=text/plain:https://hbb.rivio.dev/senioren/2020/wedstrijd/268
 41
END:VEVENT
BEGIN:VEVENT
UID:https://hbb.rivio.dev/senioren/2020/wedstrijd/26861
DTSTAMP:20260420T202817Z
SUMMARY:Con Brio 4 - Geldrop 2
DESCRIPTION:Baan 12\, Wedstrijdnummer 1108\, Afdeling 2e klasse I
DTSTART:20210120T200000
DTEND:20210120T230000
LOCATION:City Resort Helmond
ATTACH;FMTTYPE=text/plain:https://hbb.rivio.dev/senioren/2020/wedstrijd/268
 61
END:VEVENT
BEGIN:VEVENT
UID:https://hbb.rivio.dev/senioren/2020/wedstrijd/26883
DTSTAMP:20260420T202817Z
SUMMARY:Mixed 5 - Con Brio 4
DESCRIPTION:Baan 14\, Wedstrijdnummer 1112\, Afdeling 2e klasse I
DTSTART:20210127T200000
DTEND:20210127T230000
LOCATION:City Resort Helmond
ATTACH;FMTTYPE=text/plain:https://hbb.rivio.dev/senioren/2020/wedstrijd/268
 83
END:VEVENT
BEGIN:VEVENT
UID:https://hbb.rivio.dev/senioren/2020/wedstrijd/26930
DTSTAMP:20260420T202817Z
SUMMARY:Con Brio 4 - Hanevoet 3
DESCRIPTION:Baan 11\, Wedstrijdnummer 1115\, Afdeling 2e klasse I
DTSTART:20210211T200000
DTEND:20210211T230000
LOCATION:City Resort Helmond
ATTACH;FMTTYPE=text/plain:https://hbb.rivio.dev/senioren/2020/wedstrijd/269
 30
END:VEVENT
BEGIN:VEVENT
UID:https://hbb.rivio.dev/senioren/2020/wedstrijd/26950
DTSTAMP:20260420T202817Z
SUMMARY:Con Brio 4 - De Valken 3
DESCRIPTION:Baan 4\, Wedstrijdnummer 1122\, Afdeling 2e klasse I
DTSTART:20210303T200000
DTEND:20210303T230000
LOCATION:City Resort Helmond
ATTACH;FMTTYPE=text/plain:https://hbb.rivio.dev/senioren/2020/wedstrijd/269
 50
END:VEVENT
BEGIN:VEVENT
UID:https://hbb.rivio.dev/senioren/2020/wedstrijd/26972
DTSTAMP:20260420T202817Z
SUMMARY:Gemert 2 - Con Brio 4
DESCRIPTION:Baan 13\, Wedstrijdnummer 1126\, Afdeling 2e klasse I
DTSTART:20210310T200000
DTEND:20210310T230000
LOCATION:City Resort Helmond
ATTACH;FMTTYPE=text/plain:https://hbb.rivio.dev/senioren/2020/wedstrijd/269
 72
END:VEVENT
BEGIN:VEVENT
UID:https://hbb.rivio.dev/senioren/2020/wedstrijd/27002
DTSTAMP:20260420T202817Z
SUMMARY:Con Brio 4 - Mierlo 6
DESCRIPTION:Baan 2\, Wedstrijdnummer 1130\, Afdeling 2e klasse I
DTSTART:20210325T200000
DTEND:20210325T230000
LOCATION:City Resort Helmond
ATTACH;FMTTYPE=text/plain:https://hbb.rivio.dev/senioren/2020/wedstrijd/270
 02
END:VEVENT
BEGIN:VEVENT
UID:https://hbb.rivio.dev/senioren/2020/wedstrijd/27024
DTSTAMP:20260420T202817Z
SUMMARY:Someren 2 - Con Brio 4
DESCRIPTION:Baan 15\, Wedstrijdnummer 1134\, Afdeling 2e klasse I
DTSTART:20210401T200000
DTEND:20210401T230000
LOCATION:City Resort Helmond
ATTACH;FMTTYPE=text/plain:https://hbb.rivio.dev/senioren/2020/wedstrijd/270
 24
END:VEVENT
BEGIN:VTIMEZONE
TZID:Europe/Amsterdam
BEGIN:STANDARD
DTSTART:20200101T000000
TZNAME:CET
TZOFFSETTO:+0100
TZOFFSETFROM:+0100
END:STANDARD
BEGIN:DAYLIGHT
DTSTART:20200329T030000
TZNAME:CEST
TZOFFSETTO:+0200
TZOFFSETFROM:+0100
END:DAYLIGHT
BEGIN:STANDARD
DTSTART:20201025T020000
TZNAME:CET
TZOFFSETTO:+0100
TZOFFSETFROM:+0200
END:STANDARD
BEGIN:DAYLIGHT
DTSTART:20210328T030000
TZNAME:CEST
TZOFFSETTO:+0200
TZOFFSETFROM:+0100
END:DAYLIGHT
BEGIN:STANDARD
DTSTART:20211031T020000
TZNAME:CET
TZOFFSETTO:+0100
TZOFFSETFROM:+0200
END:STANDARD
END:VTIMEZONE
END:VCALENDAR
