BEGIN:VCALENDAR
PRODID:-//eluceo/ical//2.0/EN
VERSION:2.0
CALSCALE:GREGORIAN
BEGIN:VEVENT
UID:https://hbb.rivio.dev/senioren/2020/wedstrijd/26644
DTSTAMP:20260420T090610Z
SUMMARY:Con Brio 3 - Bakel 1
DESCRIPTION:Baan 3\, Wedstrijdnummer 47\, Afdeling Overgangsklasse 
DTSTART:20201008T200000
DTEND:20201008T230000
LOCATION:City Resort Helmond
ATTACH;FMTTYPE=text/plain:https://hbb.rivio.dev/senioren/2020/wedstrijd/266
 44
END:VEVENT
BEGIN:VEVENT
UID:https://hbb.rivio.dev/senioren/2020/wedstrijd/26674
DTSTAMP:20260420T090610Z
SUMMARY:Brabantia 2 - Con Brio 3
DESCRIPTION:Baan 3\, Wedstrijdnummer 54\, Afdeling Overgangsklasse 
DTSTART:20201028T200000
DTEND:20201028T230000
LOCATION:City Resort Helmond
ATTACH;FMTTYPE=text/plain:https://hbb.rivio.dev/senioren/2020/wedstrijd/266
 74
END:VEVENT
BEGIN:VEVENT
UID:https://hbb.rivio.dev/senioren/2020/wedstrijd/26697
DTSTAMP:20260420T090610Z
SUMMARY:Con Brio 3 - Phoenix 2
DESCRIPTION:Baan 11\, Wedstrijdnummer 56\, Afdeling Overgangsklasse 
DTSTART:20201104T200000
DTEND:20201104T230000
LOCATION:City Resort Helmond
ATTACH;FMTTYPE=text/plain:https://hbb.rivio.dev/senioren/2020/wedstrijd/266
 97
END:VEVENT
BEGIN:VEVENT
UID:https://hbb.rivio.dev/senioren/2020/wedstrijd/26735
DTSTAMP:20260420T090610Z
SUMMARY:Mixed 3 - Con Brio 3
DESCRIPTION:Baan 12\, Wedstrijdnummer 2015\, Afdeling Overgangsklasse 
DTSTART:20201118T200000
DTEND:20201118T230000
LOCATION:City Resort Helmond
ATTACH;FMTTYPE=text/plain:https://hbb.rivio.dev/senioren/2020/wedstrijd/267
 35
END:VEVENT
BEGIN:VEVENT
UID:https://hbb.rivio.dev/senioren/2020/wedstrijd/26780
DTSTAMP:20260420T090610Z
SUMMARY:Con Brio 3 - De Valken 1
DESCRIPTION:Baan 2\, Wedstrijdnummer 62\, Afdeling Overgangsklasse 
DTSTART:20201203T200000
DTEND:20201203T230000
LOCATION:City Resort Helmond
ATTACH;FMTTYPE=text/plain:https://hbb.rivio.dev/senioren/2020/wedstrijd/267
 80
END:VEVENT
BEGIN:VEVENT
UID:https://hbb.rivio.dev/senioren/2020/wedstrijd/26794
DTSTAMP:20260420T090610Z
SUMMARY:Mixed 3 - Con Brio 3
DESCRIPTION:Baan 11\, Wedstrijdnummer 65\, Afdeling Overgangsklasse 
DTSTART:20201209T200000
DTEND:20201209T230000
LOCATION:City Resort Helmond
ATTACH;FMTTYPE=text/plain:https://hbb.rivio.dev/senioren/2020/wedstrijd/267
 94
END:VEVENT
BEGIN:VEVENT
UID:https://hbb.rivio.dev/senioren/2020/wedstrijd/26844
DTSTAMP:20260420T090610Z
SUMMARY:Eindhoven 1 - Con Brio 3
DESCRIPTION:Baan 11\, Wedstrijdnummer 68\, Afdeling Overgangsklasse 
DTSTART:20210107T200000
DTEND:20210107T230000
LOCATION:City Resort Helmond
ATTACH;FMTTYPE=text/plain:https://hbb.rivio.dev/senioren/2020/wedstrijd/268
 44
END:VEVENT
BEGIN:VEVENT
UID:https://hbb.rivio.dev/senioren/2020/wedstrijd/26864
DTSTAMP:20260420T090610Z
SUMMARY:Con Brio 3 - Mierlo 4
DESCRIPTION:Baan 15\, Wedstrijdnummer 73\, Afdeling Overgangsklasse 
DTSTART:20210120T200000
DTEND:20210120T230000
LOCATION:City Resort Helmond
ATTACH;FMTTYPE=text/plain:https://hbb.rivio.dev/senioren/2020/wedstrijd/268
 64
END:VEVENT
BEGIN:VEVENT
UID:https://hbb.rivio.dev/senioren/2020/wedstrijd/26908
DTSTAMP:20260420T090610Z
SUMMARY:RBC 1 - Con Brio 3
DESCRIPTION:Baan 4\, Wedstrijdnummer 78\, Afdeling Overgangsklasse 
DTSTART:20210204T200000
DTEND:20210204T230000
LOCATION:City Resort Helmond
ATTACH;FMTTYPE=text/plain:https://hbb.rivio.dev/senioren/2020/wedstrijd/269
 08
END:VEVENT
BEGIN:VTIMEZONE
TZID:Europe/Amsterdam
BEGIN:STANDARD
DTSTART:20200101T000000
TZNAME:CET
TZOFFSETTO:+0100
TZOFFSETFROM:+0100
END:STANDARD
BEGIN:DAYLIGHT
DTSTART:20200329T030000
TZNAME:CEST
TZOFFSETTO:+0200
TZOFFSETFROM:+0100
END:DAYLIGHT
BEGIN:STANDARD
DTSTART:20201025T020000
TZNAME:CET
TZOFFSETTO:+0100
TZOFFSETFROM:+0200
END:STANDARD
BEGIN:DAYLIGHT
DTSTART:20210328T030000
TZNAME:CEST
TZOFFSETTO:+0200
TZOFFSETFROM:+0100
END:DAYLIGHT
BEGIN:STANDARD
DTSTART:20211031T020000
TZNAME:CET
TZOFFSETTO:+0100
TZOFFSETFROM:+0200
END:STANDARD
END:VTIMEZONE
END:VCALENDAR
