BEGIN:VCALENDAR
PRODID:-//eluceo/ical//2.0/EN
VERSION:2.0
CALSCALE:GREGORIAN
BEGIN:VEVENT
UID:https://hbb.rivio.dev/senioren/2020/wedstrijd/26596
DTSTAMP:20260420T150809Z
SUMMARY:Con Brio 1 - Con Brio 2
DESCRIPTION:Baan 5\, Wedstrijdnummer 1\, Afdeling Topklasse 
DTSTART:20200923T200000
DTEND:20200923T230000
LOCATION:City Resort Helmond
ATTACH;FMTTYPE=text/plain:https://hbb.rivio.dev/senioren/2020/wedstrijd/265
 96
END:VEVENT
BEGIN:VEVENT
UID:https://hbb.rivio.dev/senioren/2020/wedstrijd/26625
DTSTAMP:20260420T150809Z
SUMMARY:Mierlo 2 - Con Brio 2
DESCRIPTION:Baan 4\, Wedstrijdnummer 5\, Afdeling Topklasse 
DTSTART:20201001T200000
DTEND:20201001T230000
LOCATION:City Resort Helmond
ATTACH;FMTTYPE=text/plain:https://hbb.rivio.dev/senioren/2020/wedstrijd/266
 25
END:VEVENT
BEGIN:VEVENT
UID:https://hbb.rivio.dev/senioren/2020/wedstrijd/26658
DTSTAMP:20260420T150809Z
SUMMARY:Con Brio 2 - Mierlo 1
DESCRIPTION:Baan 12\, Wedstrijdnummer 8\, Afdeling Topklasse 
DTSTART:20201014T200000
DTEND:20201014T230000
LOCATION:City Resort Helmond
ATTACH;FMTTYPE=text/plain:https://hbb.rivio.dev/senioren/2020/wedstrijd/266
 58
END:VEVENT
BEGIN:VEVENT
UID:https://hbb.rivio.dev/senioren/2020/wedstrijd/26694
DTSTAMP:20260420T150809Z
SUMMARY:Ganzeveer 1 - Con Brio 2
DESCRIPTION:Baan 3\, Wedstrijdnummer 11\, Afdeling Topklasse 
DTSTART:20201104T200000
DTEND:20201104T230000
LOCATION:City Resort Helmond
ATTACH;FMTTYPE=text/plain:https://hbb.rivio.dev/senioren/2020/wedstrijd/266
 94
END:VEVENT
BEGIN:VEVENT
UID:https://hbb.rivio.dev/senioren/2020/wedstrijd/26730
DTSTAMP:20260420T150809Z
SUMMARY:Mixed 1 - Con Brio 2
DESCRIPTION:Baan 2\, Wedstrijdnummer 2003\, Afdeling Topklasse 
DTSTART:20201118T200000
DTEND:20201118T230000
LOCATION:City Resort Helmond
ATTACH;FMTTYPE=text/plain:https://hbb.rivio.dev/senioren/2020/wedstrijd/267
 30
END:VEVENT
BEGIN:VEVENT
UID:https://hbb.rivio.dev/senioren/2020/wedstrijd/26754
DTSTAMP:20260420T150809Z
SUMMARY:Con Brio 2 - Brabantia 1
DESCRIPTION:Baan 11\, Wedstrijdnummer 14\, Afdeling Topklasse 
DTSTART:20201125T200000
DTEND:20201125T230000
LOCATION:City Resort Helmond
ATTACH;FMTTYPE=text/plain:https://hbb.rivio.dev/senioren/2020/wedstrijd/267
 54
END:VEVENT
BEGIN:VEVENT
UID:https://hbb.rivio.dev/senioren/2020/wedstrijd/26813
DTSTAMP:20260420T150809Z
SUMMARY:Con Brio 2 - Mixed 1
DESCRIPTION:Baan 5\, Wedstrijdnummer 19\, Afdeling Topklasse 
DTSTART:20201216T200000
DTEND:20201216T230000
LOCATION:City Resort Helmond
ATTACH;FMTTYPE=text/plain:https://hbb.rivio.dev/senioren/2020/wedstrijd/268
 13
END:VEVENT
BEGIN:VEVENT
UID:https://hbb.rivio.dev/senioren/2020/wedstrijd/26833
DTSTAMP:20260420T150809Z
SUMMARY:Con Brio 2 - Con Brio 1
DESCRIPTION:Baan 5\, Wedstrijdnummer 1001\, Afdeling Topklasse 
DTSTART:20210106T200000
DTEND:20210106T230000
LOCATION:City Resort Helmond
ATTACH;FMTTYPE=text/plain:https://hbb.rivio.dev/senioren/2020/wedstrijd/268
 33
END:VEVENT
BEGIN:VEVENT
UID:https://hbb.rivio.dev/senioren/2020/wedstrijd/26881
DTSTAMP:20260420T150809Z
SUMMARY:Con Brio 2 - Mierlo 2
DESCRIPTION:Baan 12\, Wedstrijdnummer 1005\, Afdeling Topklasse 
DTSTART:20210127T200000
DTEND:20210127T230000
LOCATION:City Resort Helmond
ATTACH;FMTTYPE=text/plain:https://hbb.rivio.dev/senioren/2020/wedstrijd/268
 81
END:VEVENT
BEGIN:VEVENT
UID:https://hbb.rivio.dev/senioren/2020/wedstrijd/26916
DTSTAMP:20260420T150809Z
SUMMARY:Mierlo 1 - Con Brio 2
DESCRIPTION:Baan 2\, Wedstrijdnummer 1008\, Afdeling Topklasse 
DTSTART:20210210T200000
DTEND:20210210T230000
LOCATION:City Resort Helmond
ATTACH;FMTTYPE=text/plain:https://hbb.rivio.dev/senioren/2020/wedstrijd/269
 16
END:VEVENT
BEGIN:VEVENT
UID:https://hbb.rivio.dev/senioren/2020/wedstrijd/26936
DTSTAMP:20260420T150809Z
SUMMARY:Con Brio 2 - Ganzeveer 1
DESCRIPTION:Baan 15\, Wedstrijdnummer 1011\, Afdeling Topklasse 
DTSTART:20210224T200000
DTEND:20210224T230000
LOCATION:City Resort Helmond
ATTACH;FMTTYPE=text/plain:https://hbb.rivio.dev/senioren/2020/wedstrijd/269
 36
END:VEVENT
BEGIN:VEVENT
UID:https://hbb.rivio.dev/senioren/2020/wedstrijd/26969
DTSTAMP:20260420T150809Z
SUMMARY:Brabantia 1 - Con Brio 2
DESCRIPTION:Baan 5\, Wedstrijdnummer 1014\, Afdeling Topklasse 
DTSTART:20210310T200000
DTEND:20210310T230000
LOCATION:City Resort Helmond
ATTACH;FMTTYPE=text/plain:https://hbb.rivio.dev/senioren/2020/wedstrijd/269
 69
END:VEVENT
BEGIN:VEVENT
UID:https://hbb.rivio.dev/senioren/2020/wedstrijd/27020
DTSTAMP:20260420T150809Z
SUMMARY:Mixed 1 - Con Brio 2
DESCRIPTION:Baan 11\, Wedstrijdnummer 1019\, Afdeling Topklasse 
DTSTART:20210401T200000
DTEND:20210401T230000
LOCATION:City Resort Helmond
ATTACH;FMTTYPE=text/plain:https://hbb.rivio.dev/senioren/2020/wedstrijd/270
 20
END:VEVENT
BEGIN:VTIMEZONE
TZID:Europe/Amsterdam
BEGIN:STANDARD
DTSTART:20200101T000000
TZNAME:CET
TZOFFSETTO:+0100
TZOFFSETFROM:+0100
END:STANDARD
BEGIN:DAYLIGHT
DTSTART:20200329T030000
TZNAME:CEST
TZOFFSETTO:+0200
TZOFFSETFROM:+0100
END:DAYLIGHT
BEGIN:STANDARD
DTSTART:20201025T020000
TZNAME:CET
TZOFFSETTO:+0100
TZOFFSETFROM:+0200
END:STANDARD
BEGIN:DAYLIGHT
DTSTART:20210328T030000
TZNAME:CEST
TZOFFSETTO:+0200
TZOFFSETFROM:+0100
END:DAYLIGHT
BEGIN:STANDARD
DTSTART:20211031T020000
TZNAME:CET
TZOFFSETTO:+0100
TZOFFSETFROM:+0200
END:STANDARD
END:VTIMEZONE
END:VCALENDAR
