BEGIN:VCALENDAR
PRODID:-//eluceo/ical//2.0/EN
VERSION:2.0
CALSCALE:GREGORIAN
BEGIN:VEVENT
UID:https://hbb.rivio.dev/senioren/2020/wedstrijd/26596
DTSTAMP:20260420T103502Z
SUMMARY:Con Brio 1 - Con Brio 2
DESCRIPTION:Baan 5\, Wedstrijdnummer 1\, Afdeling Topklasse 
DTSTART:20200923T200000
DTEND:20200923T230000
LOCATION:City Resort Helmond
ATTACH;FMTTYPE=text/plain:https://hbb.rivio.dev/senioren/2020/wedstrijd/265
 96
END:VEVENT
BEGIN:VEVENT
UID:https://hbb.rivio.dev/senioren/2020/wedstrijd/26632
DTSTAMP:20260420T103502Z
SUMMARY:Mierlo 1 - Con Brio 1
DESCRIPTION:Baan 1\, Wedstrijdnummer 4\, Afdeling Topklasse 
DTSTART:20201007T200000
DTEND:20201007T230000
LOCATION:City Resort Helmond
ATTACH;FMTTYPE=text/plain:https://hbb.rivio.dev/senioren/2020/wedstrijd/266
 32
END:VEVENT
BEGIN:VEVENT
UID:https://hbb.rivio.dev/senioren/2020/wedstrijd/26657
DTSTAMP:20260420T103502Z
SUMMARY:Con Brio 1 - Mierlo 2
DESCRIPTION:Baan 11\, Wedstrijdnummer 7\, Afdeling Topklasse 
DTSTART:20201014T200000
DTEND:20201014T230000
LOCATION:City Resort Helmond
ATTACH;FMTTYPE=text/plain:https://hbb.rivio.dev/senioren/2020/wedstrijd/266
 57
END:VEVENT
BEGIN:VEVENT
UID:https://hbb.rivio.dev/senioren/2020/wedstrijd/26693
DTSTAMP:20260420T103502Z
SUMMARY:Brabantia 1 - Con Brio 1
DESCRIPTION:Baan 2\, Wedstrijdnummer 10\, Afdeling Topklasse 
DTSTART:20201104T200000
DTEND:20201104T230000
LOCATION:City Resort Helmond
ATTACH;FMTTYPE=text/plain:https://hbb.rivio.dev/senioren/2020/wedstrijd/266
 93
END:VEVENT
BEGIN:VEVENT
UID:https://hbb.rivio.dev/senioren/2020/wedstrijd/26728
DTSTAMP:20260420T103502Z
SUMMARY:Con Brio 1 - Mierlo 2
DESCRIPTION:Baan 15\, Wedstrijdnummer 2002\, Afdeling Topklasse 
DTSTART:20201112T200000
DTEND:20201112T230000
LOCATION:City Resort Helmond
ATTACH;FMTTYPE=text/plain:https://hbb.rivio.dev/senioren/2020/wedstrijd/267
 28
END:VEVENT
BEGIN:VEVENT
UID:https://hbb.rivio.dev/senioren/2020/wedstrijd/26753
DTSTAMP:20260420T103502Z
SUMMARY:Con Brio 1 - Ganzeveer 1
DESCRIPTION:Baan 5\, Wedstrijdnummer 13\, Afdeling Topklasse 
DTSTART:20201125T200000
DTEND:20201125T230000
LOCATION:City Resort Helmond
ATTACH;FMTTYPE=text/plain:https://hbb.rivio.dev/senioren/2020/wedstrijd/267
 53
END:VEVENT
BEGIN:VEVENT
UID:https://hbb.rivio.dev/senioren/2020/wedstrijd/26777
DTSTAMP:20260420T103502Z
SUMMARY:Mixed 1 - Con Brio 1
DESCRIPTION:Baan 14\, Wedstrijdnummer 16\, Afdeling Topklasse 
DTSTART:20201202T200000
DTEND:20201202T230000
LOCATION:City Resort Helmond
ATTACH;FMTTYPE=text/plain:https://hbb.rivio.dev/senioren/2020/wedstrijd/267
 77
END:VEVENT
BEGIN:VEVENT
UID:https://hbb.rivio.dev/senioren/2020/wedstrijd/26833
DTSTAMP:20260420T103502Z
SUMMARY:Con Brio 2 - Con Brio 1
DESCRIPTION:Baan 5\, Wedstrijdnummer 1001\, Afdeling Topklasse 
DTSTART:20210106T200000
DTEND:20210106T230000
LOCATION:City Resort Helmond
ATTACH;FMTTYPE=text/plain:https://hbb.rivio.dev/senioren/2020/wedstrijd/268
 33
END:VEVENT
BEGIN:VEVENT
UID:https://hbb.rivio.dev/senioren/2020/wedstrijd/26880
DTSTAMP:20260420T103502Z
SUMMARY:Con Brio 1 - Mierlo 1
DESCRIPTION:Baan 11\, Wedstrijdnummer 1004\, Afdeling Topklasse 
DTSTART:20210127T200000
DTEND:20210127T230000
LOCATION:City Resort Helmond
ATTACH;FMTTYPE=text/plain:https://hbb.rivio.dev/senioren/2020/wedstrijd/268
 80
END:VEVENT
BEGIN:VEVENT
UID:https://hbb.rivio.dev/senioren/2020/wedstrijd/26915
DTSTAMP:20260420T103502Z
SUMMARY:Mierlo 2 - Con Brio 1
DESCRIPTION:Baan 1\, Wedstrijdnummer 1007\, Afdeling Topklasse 
DTSTART:20210210T200000
DTEND:20210210T230000
LOCATION:City Resort Helmond
ATTACH;FMTTYPE=text/plain:https://hbb.rivio.dev/senioren/2020/wedstrijd/269
 15
END:VEVENT
BEGIN:VEVENT
UID:https://hbb.rivio.dev/senioren/2020/wedstrijd/26945
DTSTAMP:20260420T103502Z
SUMMARY:Con Brio 1 - Brabantia 1
DESCRIPTION:Baan 14\, Wedstrijdnummer 1010\, Afdeling Topklasse 
DTSTART:20210225T200000
DTEND:20210225T230000
LOCATION:City Resort Helmond
ATTACH;FMTTYPE=text/plain:https://hbb.rivio.dev/senioren/2020/wedstrijd/269
 45
END:VEVENT
BEGIN:VEVENT
UID:https://hbb.rivio.dev/senioren/2020/wedstrijd/26968
DTSTAMP:20260420T103502Z
SUMMARY:Ganzeveer 1 - Con Brio 1
DESCRIPTION:Baan 4\, Wedstrijdnummer 1013\, Afdeling Topklasse 
DTSTART:20210310T200000
DTEND:20210310T230000
LOCATION:City Resort Helmond
ATTACH;FMTTYPE=text/plain:https://hbb.rivio.dev/senioren/2020/wedstrijd/269
 68
END:VEVENT
BEGIN:VEVENT
UID:https://hbb.rivio.dev/senioren/2020/wedstrijd/26982
DTSTAMP:20260420T103502Z
SUMMARY:Con Brio 1 - Mixed 1
DESCRIPTION:Baan 15\, Wedstrijdnummer 1016\, Afdeling Topklasse 
DTSTART:20210317T200000
DTEND:20210317T230000
LOCATION:City Resort Helmond
ATTACH;FMTTYPE=text/plain:https://hbb.rivio.dev/senioren/2020/wedstrijd/269
 82
END:VEVENT
BEGIN:VTIMEZONE
TZID:Europe/Amsterdam
BEGIN:STANDARD
DTSTART:20200101T000000
TZNAME:CET
TZOFFSETTO:+0100
TZOFFSETFROM:+0100
END:STANDARD
BEGIN:DAYLIGHT
DTSTART:20200329T030000
TZNAME:CEST
TZOFFSETTO:+0200
TZOFFSETFROM:+0100
END:DAYLIGHT
BEGIN:STANDARD
DTSTART:20201025T020000
TZNAME:CET
TZOFFSETTO:+0100
TZOFFSETFROM:+0200
END:STANDARD
BEGIN:DAYLIGHT
DTSTART:20210328T030000
TZNAME:CEST
TZOFFSETTO:+0200
TZOFFSETFROM:+0100
END:DAYLIGHT
BEGIN:STANDARD
DTSTART:20211031T020000
TZNAME:CET
TZOFFSETTO:+0100
TZOFFSETFROM:+0200
END:STANDARD
END:VTIMEZONE
END:VCALENDAR
