BEGIN:VCALENDAR
PRODID:-//eluceo/ical//2.0/EN
VERSION:2.0
CALSCALE:GREGORIAN
BEGIN:VEVENT
UID:https://hbb.rivio.dev/senioren/2020/wedstrijd/26623
DTSTAMP:20260420T220703Z
SUMMARY:BCAB 4 - De Valken 5
DESCRIPTION:Baan 2\, Wedstrijdnummer 159\, Afdeling 3e klasse I
DTSTART:20201001T200000
DTEND:20201001T230000
LOCATION:City Resort Helmond
ATTACH;FMTTYPE=text/plain:https://hbb.rivio.dev/senioren/2020/wedstrijd/266
 23
END:VEVENT
BEGIN:VEVENT
UID:https://hbb.rivio.dev/senioren/2020/wedstrijd/26648
DTSTAMP:20260420T220703Z
SUMMARY:De Valken 5 - Hanevoet 4
DESCRIPTION:Baan 12\, Wedstrijdnummer 163\, Afdeling 3e klasse I
DTSTART:20201008T200000
DTEND:20201008T230000
LOCATION:City Resort Helmond
ATTACH;FMTTYPE=text/plain:https://hbb.rivio.dev/senioren/2020/wedstrijd/266
 48
END:VEVENT
BEGIN:VEVENT
UID:https://hbb.rivio.dev/senioren/2020/wedstrijd/26676
DTSTAMP:20260420T220703Z
SUMMARY:Mierlo 9 - De Valken 5
DESCRIPTION:Baan 5\, Wedstrijdnummer 166\, Afdeling 3e klasse I
DTSTART:20201028T200000
DTEND:20201028T230000
LOCATION:City Resort Helmond
ATTACH;FMTTYPE=text/plain:https://hbb.rivio.dev/senioren/2020/wedstrijd/266
 76
END:VEVENT
BEGIN:VEVENT
UID:https://hbb.rivio.dev/senioren/2020/wedstrijd/26721
DTSTAMP:20260420T220703Z
SUMMARY:Never Down 2 - De Valken 5
DESCRIPTION:Baan 2\, Wedstrijdnummer 2048\, Afdeling 3e klasse II
DTSTART:20201112T200000
DTEND:20201112T230000
LOCATION:City Resort Helmond
ATTACH;FMTTYPE=text/plain:https://hbb.rivio.dev/senioren/2020/wedstrijd/267
 21
END:VEVENT
BEGIN:VEVENT
UID:https://hbb.rivio.dev/senioren/2020/wedstrijd/26746
DTSTAMP:20260420T220703Z
SUMMARY:De Valken 5 - Heiakker 1
DESCRIPTION:Baan 13\, Wedstrijdnummer 171\, Afdeling 3e klasse I
DTSTART:20201119T200000
DTEND:20201119T230000
LOCATION:City Resort Helmond
ATTACH;FMTTYPE=text/plain:https://hbb.rivio.dev/senioren/2020/wedstrijd/267
 46
END:VEVENT
BEGIN:VEVENT
UID:https://hbb.rivio.dev/senioren/2020/wedstrijd/26770
DTSTAMP:20260420T220703Z
SUMMARY:Geldrop 3 - De Valken 5
DESCRIPTION:Baan 2\, Wedstrijdnummer 174\, Afdeling 3e klasse I
DTSTART:20201202T200000
DTEND:20201202T230000
LOCATION:City Resort Helmond
ATTACH;FMTTYPE=text/plain:https://hbb.rivio.dev/senioren/2020/wedstrijd/267
 70
END:VEVENT
BEGIN:VEVENT
UID:https://hbb.rivio.dev/senioren/2020/wedstrijd/26808
DTSTAMP:20260420T220703Z
SUMMARY:De Valken 5 - Never Down 1
DESCRIPTION:Baan 15\, Wedstrijdnummer 177\, Afdeling 3e klasse I
DTSTART:20201210T200000
DTEND:20201210T230000
LOCATION:City Resort Helmond
ATTACH;FMTTYPE=text/plain:https://hbb.rivio.dev/senioren/2020/wedstrijd/268
 08
END:VEVENT
BEGIN:VEVENT
UID:https://hbb.rivio.dev/senioren/2020/wedstrijd/26830
DTSTAMP:20260420T220703Z
SUMMARY:Gemert 3 - De Valken 5
DESCRIPTION:Baan 2\, Wedstrijdnummer 180\, Afdeling 3e klasse I
DTSTART:20210106T200000
DTEND:20210106T230000
LOCATION:City Resort Helmond
ATTACH;FMTTYPE=text/plain:https://hbb.rivio.dev/senioren/2020/wedstrijd/268
 30
END:VEVENT
BEGIN:VEVENT
UID:https://hbb.rivio.dev/senioren/2020/wedstrijd/26849
DTSTAMP:20260420T220703Z
SUMMARY:De Valken 5 - BCAB 4
DESCRIPTION:Baan 15\, Wedstrijdnummer 1159\, Afdeling 3e klasse I
DTSTART:20210113T200000
DTEND:20210113T230000
LOCATION:City Resort Helmond
ATTACH;FMTTYPE=text/plain:https://hbb.rivio.dev/senioren/2020/wedstrijd/268
 49
END:VEVENT
BEGIN:VEVENT
UID:https://hbb.rivio.dev/senioren/2020/wedstrijd/26911
DTSTAMP:20260420T220703Z
SUMMARY:Hanevoet 4 - De Valken 5
DESCRIPTION:Baan 12\, Wedstrijdnummer 1163\, Afdeling 3e klasse I
DTSTART:20210204T200000
DTEND:20210204T230000
LOCATION:City Resort Helmond
ATTACH;FMTTYPE=text/plain:https://hbb.rivio.dev/senioren/2020/wedstrijd/269
 11
END:VEVENT
BEGIN:VEVENT
UID:https://hbb.rivio.dev/senioren/2020/wedstrijd/26922
DTSTAMP:20260420T220703Z
SUMMARY:De Valken 5 - Mierlo 9
DESCRIPTION:Baan 13\, Wedstrijdnummer 1166\, Afdeling 3e klasse I
DTSTART:20210210T200000
DTEND:20210210T230000
LOCATION:City Resort Helmond
ATTACH;FMTTYPE=text/plain:https://hbb.rivio.dev/senioren/2020/wedstrijd/269
 22
END:VEVENT
BEGIN:VEVENT
UID:https://hbb.rivio.dev/senioren/2020/wedstrijd/26957
DTSTAMP:20260420T220703Z
SUMMARY:Heiakker 1 - De Valken 5
DESCRIPTION:Baan 3\, Wedstrijdnummer 1171\, Afdeling 3e klasse I
DTSTART:20210304T200000
DTEND:20210304T230000
LOCATION:City Resort Helmond
ATTACH;FMTTYPE=text/plain:https://hbb.rivio.dev/senioren/2020/wedstrijd/269
 57
END:VEVENT
BEGIN:VEVENT
UID:https://hbb.rivio.dev/senioren/2020/wedstrijd/26978
DTSTAMP:20260420T220703Z
SUMMARY:De Valken 5 - Geldrop 3
DESCRIPTION:Baan 2\, Wedstrijdnummer 1174\, Afdeling 3e klasse I
DTSTART:20210317T200000
DTEND:20210317T230000
LOCATION:City Resort Helmond
ATTACH;FMTTYPE=text/plain:https://hbb.rivio.dev/senioren/2020/wedstrijd/269
 78
END:VEVENT
BEGIN:VEVENT
UID:https://hbb.rivio.dev/senioren/2020/wedstrijd/27004
DTSTAMP:20260420T220703Z
SUMMARY:Never Down 1 - De Valken 5
DESCRIPTION:Baan 4\, Wedstrijdnummer 1177\, Afdeling 3e klasse I
DTSTART:20210325T200000
DTEND:20210325T230000
LOCATION:City Resort Helmond
ATTACH;FMTTYPE=text/plain:https://hbb.rivio.dev/senioren/2020/wedstrijd/270
 04
END:VEVENT
BEGIN:VEVENT
UID:https://hbb.rivio.dev/senioren/2020/wedstrijd/27033
DTSTAMP:20260420T220703Z
SUMMARY:De Valken 5 - Gemert 3
DESCRIPTION:Baan 3\, Wedstrijdnummer 1180\, Afdeling 3e klasse I
DTSTART:20210421T200000
DTEND:20210421T230000
LOCATION:City Resort Helmond
ATTACH;FMTTYPE=text/plain:https://hbb.rivio.dev/senioren/2020/wedstrijd/270
 33
END:VEVENT
BEGIN:VTIMEZONE
TZID:Europe/Amsterdam
BEGIN:STANDARD
DTSTART:20200101T000000
TZNAME:CET
TZOFFSETTO:+0100
TZOFFSETFROM:+0100
END:STANDARD
BEGIN:DAYLIGHT
DTSTART:20200329T030000
TZNAME:CEST
TZOFFSETTO:+0200
TZOFFSETFROM:+0100
END:DAYLIGHT
BEGIN:STANDARD
DTSTART:20201025T020000
TZNAME:CET
TZOFFSETTO:+0100
TZOFFSETFROM:+0200
END:STANDARD
BEGIN:DAYLIGHT
DTSTART:20210328T030000
TZNAME:CEST
TZOFFSETTO:+0200
TZOFFSETFROM:+0100
END:DAYLIGHT
BEGIN:STANDARD
DTSTART:20211031T020000
TZNAME:CET
TZOFFSETTO:+0100
TZOFFSETFROM:+0200
END:STANDARD
END:VTIMEZONE
END:VCALENDAR
