BEGIN:VCALENDAR
PRODID:-//eluceo/ical//2.0/EN
VERSION:2.0
CALSCALE:GREGORIAN
BEGIN:VEVENT
UID:https://hbb.rivio.dev/senioren/2020/wedstrijd/26617
DTSTAMP:20260420T184355Z
SUMMARY:Ganzeveer 2 - BCAB 3
DESCRIPTION:Baan 11\, Wedstrijdnummer 184\, Afdeling 3e klasse II
DTSTART:20200930T200000
DTEND:20200930T230000
LOCATION:City Resort Helmond
ATTACH;FMTTYPE=text/plain:https://hbb.rivio.dev/senioren/2020/wedstrijd/266
 17
END:VEVENT
BEGIN:VEVENT
UID:https://hbb.rivio.dev/senioren/2020/wedstrijd/26649
DTSTAMP:20260420T184355Z
SUMMARY:Never Down 2 - Ganzeveer 2
DESCRIPTION:Baan 13\, Wedstrijdnummer 187\, Afdeling 3e klasse II
DTSTART:20201008T200000
DTEND:20201008T230000
LOCATION:City Resort Helmond
ATTACH;FMTTYPE=text/plain:https://hbb.rivio.dev/senioren/2020/wedstrijd/266
 49
END:VEVENT
BEGIN:VEVENT
UID:https://hbb.rivio.dev/senioren/2020/wedstrijd/26677
DTSTAMP:20260420T184355Z
SUMMARY:Ganzeveer 2 - Someren 4
DESCRIPTION:Baan 11\, Wedstrijdnummer 190\, Afdeling 3e klasse II
DTSTART:20201028T200000
DTEND:20201028T230000
LOCATION:City Resort Helmond
ATTACH;FMTTYPE=text/plain:https://hbb.rivio.dev/senioren/2020/wedstrijd/266
 77
END:VEVENT
BEGIN:VEVENT
UID:https://hbb.rivio.dev/senioren/2020/wedstrijd/26710
DTSTAMP:20260420T184355Z
SUMMARY:Ganzeveer 2 - BCAB 4
DESCRIPTION:Baan 1\, Wedstrijdnummer 2044\, Afdeling 3e klasse II
DTSTART:20201111T200000
DTEND:20201111T230000
LOCATION:City Resort Helmond
ATTACH;FMTTYPE=text/plain:https://hbb.rivio.dev/senioren/2020/wedstrijd/267
 10
END:VEVENT
BEGIN:VEVENT
UID:https://hbb.rivio.dev/senioren/2020/wedstrijd/26738
DTSTAMP:20260420T184355Z
SUMMARY:De Valken 4 - Ganzeveer 2
DESCRIPTION:Baan 15\, Wedstrijdnummer 193\, Afdeling 3e klasse II
DTSTART:20201118T200000
DTEND:20201118T230000
LOCATION:City Resort Helmond
ATTACH;FMTTYPE=text/plain:https://hbb.rivio.dev/senioren/2020/wedstrijd/267
 38
END:VEVENT
BEGIN:VEVENT
UID:https://hbb.rivio.dev/senioren/2020/wedstrijd/26771
DTSTAMP:20260420T184355Z
SUMMARY:Ganzeveer 2 - Mierlo 8
DESCRIPTION:Baan 3\, Wedstrijdnummer 196\, Afdeling 3e klasse II
DTSTART:20201202T200000
DTEND:20201202T230000
LOCATION:City Resort Helmond
ATTACH;FMTTYPE=text/plain:https://hbb.rivio.dev/senioren/2020/wedstrijd/267
 71
END:VEVENT
BEGIN:VEVENT
UID:https://hbb.rivio.dev/senioren/2020/wedstrijd/26816
DTSTAMP:20260420T184355Z
SUMMARY:Mixed 6 - Ganzeveer 2
DESCRIPTION:Baan 13\, Wedstrijdnummer 199\, Afdeling 3e klasse II
DTSTART:20201216T200000
DTEND:20201216T230000
LOCATION:City Resort Helmond
ATTACH;FMTTYPE=text/plain:https://hbb.rivio.dev/senioren/2020/wedstrijd/268
 16
END:VEVENT
BEGIN:VEVENT
UID:https://hbb.rivio.dev/senioren/2020/wedstrijd/26887
DTSTAMP:20260420T184355Z
SUMMARY:BCAB 3 - Ganzeveer 2
DESCRIPTION:Baan 3\, Wedstrijdnummer 1184\, Afdeling 3e klasse II
DTSTART:20210128T200000
DTEND:20210128T230000
LOCATION:City Resort Helmond
ATTACH;FMTTYPE=text/plain:https://hbb.rivio.dev/senioren/2020/wedstrijd/268
 87
END:VEVENT
BEGIN:VEVENT
UID:https://hbb.rivio.dev/senioren/2020/wedstrijd/26899
DTSTAMP:20260420T184355Z
SUMMARY:Ganzeveer 2 - Never Down 2
DESCRIPTION:Baan 5\, Wedstrijdnummer 1187\, Afdeling 3e klasse II
DTSTART:20210203T200000
DTEND:20210203T230000
LOCATION:City Resort Helmond
ATTACH;FMTTYPE=text/plain:https://hbb.rivio.dev/senioren/2020/wedstrijd/268
 99
END:VEVENT
BEGIN:VEVENT
UID:https://hbb.rivio.dev/senioren/2020/wedstrijd/26938
DTSTAMP:20260420T184355Z
SUMMARY:Someren 4 - Ganzeveer 2
DESCRIPTION:Baan 2\, Wedstrijdnummer 1190\, Afdeling 3e klasse II
DTSTART:20210225T200000
DTEND:20210225T230000
LOCATION:City Resort Helmond
ATTACH;FMTTYPE=text/plain:https://hbb.rivio.dev/senioren/2020/wedstrijd/269
 38
END:VEVENT
BEGIN:VEVENT
UID:https://hbb.rivio.dev/senioren/2020/wedstrijd/26965
DTSTAMP:20260420T184355Z
SUMMARY:Ganzeveer 2 - De Valken 4
DESCRIPTION:Baan 1\, Wedstrijdnummer 1193\, Afdeling 3e klasse II
DTSTART:20210310T200000
DTEND:20210310T230000
LOCATION:City Resort Helmond
ATTACH;FMTTYPE=text/plain:https://hbb.rivio.dev/senioren/2020/wedstrijd/269
 65
END:VEVENT
BEGIN:VEVENT
UID:https://hbb.rivio.dev/senioren/2020/wedstrijd/26979
DTSTAMP:20260420T184355Z
SUMMARY:Mierlo 8 - Ganzeveer 2
DESCRIPTION:Baan 3\, Wedstrijdnummer 1196\, Afdeling 3e klasse II
DTSTART:20210317T200000
DTEND:20210317T230000
LOCATION:City Resort Helmond
ATTACH;FMTTYPE=text/plain:https://hbb.rivio.dev/senioren/2020/wedstrijd/269
 79
END:VEVENT
BEGIN:VEVENT
UID:https://hbb.rivio.dev/senioren/2020/wedstrijd/27011
DTSTAMP:20260420T184355Z
SUMMARY:Ganzeveer 2 - Mixed 6
DESCRIPTION:Baan 1\, Wedstrijdnummer 1199\, Afdeling 3e klasse II
DTSTART:20210331T200000
DTEND:20210331T230000
LOCATION:City Resort Helmond
ATTACH;FMTTYPE=text/plain:https://hbb.rivio.dev/senioren/2020/wedstrijd/270
 11
END:VEVENT
BEGIN:VTIMEZONE
TZID:Europe/Amsterdam
BEGIN:STANDARD
DTSTART:20200101T000000
TZNAME:CET
TZOFFSETTO:+0100
TZOFFSETFROM:+0100
END:STANDARD
BEGIN:DAYLIGHT
DTSTART:20200329T030000
TZNAME:CEST
TZOFFSETTO:+0200
TZOFFSETFROM:+0100
END:DAYLIGHT
BEGIN:STANDARD
DTSTART:20201025T020000
TZNAME:CET
TZOFFSETTO:+0100
TZOFFSETFROM:+0200
END:STANDARD
BEGIN:DAYLIGHT
DTSTART:20210328T030000
TZNAME:CEST
TZOFFSETTO:+0200
TZOFFSETFROM:+0100
END:DAYLIGHT
BEGIN:STANDARD
DTSTART:20211031T020000
TZNAME:CET
TZOFFSETTO:+0100
TZOFFSETFROM:+0200
END:STANDARD
END:VTIMEZONE
END:VCALENDAR
