BEGIN:VCALENDAR
PRODID:-//eluceo/ical//2.0/EN
VERSION:2.0
CALSCALE:GREGORIAN
BEGIN:VEVENT
UID:https://hbb.rivio.dev/senioren/2020/wedstrijd/26605
DTSTAMP:20260420T151907Z
SUMMARY:BC '85 2 - Heeze 1
DESCRIPTION:Baan 4\, Wedstrijdnummer 215\, Afdeling 4e klasse II
DTSTART:20200924T200000
DTEND:20200924T230000
LOCATION:City Resort Helmond
ATTACH;FMTTYPE=text/plain:https://hbb.rivio.dev/senioren/2020/wedstrijd/266
 05
END:VEVENT
BEGIN:VEVENT
UID:https://hbb.rivio.dev/senioren/2020/wedstrijd/26642
DTSTAMP:20260420T151907Z
SUMMARY:Heeze 1 - Someren 5
DESCRIPTION:Baan 1\, Wedstrijdnummer 218\, Afdeling 4e klasse II
DTSTART:20201008T200000
DTEND:20201008T230000
LOCATION:City Resort Helmond
ATTACH;FMTTYPE=text/plain:https://hbb.rivio.dev/senioren/2020/wedstrijd/266
 42
END:VEVENT
BEGIN:VEVENT
UID:https://hbb.rivio.dev/senioren/2020/wedstrijd/26705
DTSTAMP:20260420T151907Z
SUMMARY:Mierlo 10 - Heeze 1
DESCRIPTION:Baan 5\, Wedstrijdnummer 222\, Afdeling 4e klasse II
DTSTART:20201105T200000
DTEND:20201105T230000
LOCATION:City Resort Helmond
ATTACH;FMTTYPE=text/plain:https://hbb.rivio.dev/senioren/2020/wedstrijd/267
 05
END:VEVENT
BEGIN:VEVENT
UID:https://hbb.rivio.dev/senioren/2020/wedstrijd/26727
DTSTAMP:20260420T151907Z
SUMMARY:Heeze 1 - Con Brio 5
DESCRIPTION:Baan 14\, Wedstrijdnummer 2061\, Afdeling 4e klasse II
DTSTART:20201112T200000
DTEND:20201112T230000
LOCATION:City Resort Helmond
ATTACH;FMTTYPE=text/plain:https://hbb.rivio.dev/senioren/2020/wedstrijd/267
 27
END:VEVENT
BEGIN:VEVENT
UID:https://hbb.rivio.dev/senioren/2020/wedstrijd/26752
DTSTAMP:20260420T151907Z
SUMMARY:Heeze 1 - Ganzeveer 3
DESCRIPTION:Baan 4\, Wedstrijdnummer 223\, Afdeling 4e klasse II
DTSTART:20201125T200000
DTEND:20201125T230000
LOCATION:City Resort Helmond
ATTACH;FMTTYPE=text/plain:https://hbb.rivio.dev/senioren/2020/wedstrijd/267
 52
END:VEVENT
BEGIN:VEVENT
UID:https://hbb.rivio.dev/senioren/2020/wedstrijd/26803
DTSTAMP:20260420T151907Z
SUMMARY:Heeze 1 - BC '85 2
DESCRIPTION:Baan 5\, Wedstrijdnummer 1215\, Afdeling 4e klasse II
DTSTART:20201210T200000
DTEND:20201210T230000
LOCATION:City Resort Helmond
ATTACH;FMTTYPE=text/plain:https://hbb.rivio.dev/senioren/2020/wedstrijd/268
 03
END:VEVENT
BEGIN:VEVENT
UID:https://hbb.rivio.dev/senioren/2020/wedstrijd/26839
DTSTAMP:20260420T151907Z
SUMMARY:Someren 5 - Heeze 1
DESCRIPTION:Baan 1\, Wedstrijdnummer 1218\, Afdeling 4e klasse II
DTSTART:20210107T200000
DTEND:20210107T230000
LOCATION:City Resort Helmond
ATTACH;FMTTYPE=text/plain:https://hbb.rivio.dev/senioren/2020/wedstrijd/268
 39
END:VEVENT
BEGIN:VEVENT
UID:https://hbb.rivio.dev/senioren/2020/wedstrijd/26892
DTSTAMP:20260420T151907Z
SUMMARY:Heeze 1 - Mierlo 10
DESCRIPTION:Baan 13\, Wedstrijdnummer 1222\, Afdeling 4e klasse II
DTSTART:20210128T200000
DTEND:20210128T230000
LOCATION:City Resort Helmond
ATTACH;FMTTYPE=text/plain:https://hbb.rivio.dev/senioren/2020/wedstrijd/268
 92
END:VEVENT
BEGIN:VEVENT
UID:https://hbb.rivio.dev/senioren/2020/wedstrijd/26904
DTSTAMP:20260420T151907Z
SUMMARY:Ganzeveer 3 - Heeze 1
DESCRIPTION:Baan 15\, Wedstrijdnummer 1223\, Afdeling 4e klasse II
DTSTART:20210203T200000
DTEND:20210203T230000
LOCATION:City Resort Helmond
ATTACH;FMTTYPE=text/plain:https://hbb.rivio.dev/senioren/2020/wedstrijd/269
 04
END:VEVENT
BEGIN:VTIMEZONE
TZID:Europe/Amsterdam
BEGIN:STANDARD
DTSTART:20200101T000000
TZNAME:CET
TZOFFSETTO:+0100
TZOFFSETFROM:+0100
END:STANDARD
BEGIN:DAYLIGHT
DTSTART:20200329T030000
TZNAME:CEST
TZOFFSETTO:+0200
TZOFFSETFROM:+0100
END:DAYLIGHT
BEGIN:STANDARD
DTSTART:20201025T020000
TZNAME:CET
TZOFFSETTO:+0100
TZOFFSETFROM:+0200
END:STANDARD
BEGIN:DAYLIGHT
DTSTART:20210328T030000
TZNAME:CEST
TZOFFSETTO:+0200
TZOFFSETFROM:+0100
END:DAYLIGHT
BEGIN:STANDARD
DTSTART:20211031T020000
TZNAME:CET
TZOFFSETTO:+0100
TZOFFSETFROM:+0200
END:STANDARD
END:VTIMEZONE
END:VCALENDAR
