BEGIN:VCALENDAR
PRODID:-//eluceo/ical//2.0/EN
VERSION:2.0
CALSCALE:GREGORIAN
BEGIN:VEVENT
UID:https://hbb.rivio.dev/senioren/2020/wedstrijd/26594
DTSTAMP:20260420T133615Z
SUMMARY:BC '85 3 - Mierlo 11
DESCRIPTION:Baan 3\, Wedstrijdnummer 206\, Afdeling 4e klasse I
DTSTART:20200923T200000
DTEND:20200923T230000
LOCATION:City Resort Helmond
ATTACH;FMTTYPE=text/plain:https://hbb.rivio.dev/senioren/2020/wedstrijd/265
 94
END:VEVENT
BEGIN:VEVENT
UID:https://hbb.rivio.dev/senioren/2020/wedstrijd/26620
DTSTAMP:20260420T133615Z
SUMMARY:BC '85 3 - Smashing Bruang 3
DESCRIPTION:Baan 14\, Wedstrijdnummer 207\, Afdeling 4e klasse I
DTSTART:20200930T200000
DTEND:20200930T230000
LOCATION:City Resort Helmond
ATTACH;FMTTYPE=text/plain:https://hbb.rivio.dev/senioren/2020/wedstrijd/266
 20
END:VEVENT
BEGIN:VEVENT
UID:https://hbb.rivio.dev/senioren/2020/wedstrijd/26667
DTSTAMP:20260420T133615Z
SUMMARY:Gemert 4 - BC '85 3
DESCRIPTION:Baan 11\, Wedstrijdnummer 210\, Afdeling 4e klasse I
DTSTART:20201015T200000
DTEND:20201015T230000
LOCATION:City Resort Helmond
ATTACH;FMTTYPE=text/plain:https://hbb.rivio.dev/senioren/2020/wedstrijd/266
 67
END:VEVENT
BEGIN:VEVENT
UID:https://hbb.rivio.dev/senioren/2020/wedstrijd/26719
DTSTAMP:20260420T133615Z
SUMMARY:BC '85 3 - Mierlo 10
DESCRIPTION:Baan 15\, Wedstrijdnummer 2062\, Afdeling 4e klasse I
DTSTART:20201111T200000
DTEND:20201111T230000
LOCATION:City Resort Helmond
ATTACH;FMTTYPE=text/plain:https://hbb.rivio.dev/senioren/2020/wedstrijd/267
 19
END:VEVENT
BEGIN:VEVENT
UID:https://hbb.rivio.dev/senioren/2020/wedstrijd/26751
DTSTAMP:20260420T133615Z
SUMMARY:Con Brio 5 - BC '85 3
DESCRIPTION:Baan 3\, Wedstrijdnummer 213\, Afdeling 4e klasse I
DTSTART:20201125T200000
DTEND:20201125T230000
LOCATION:City Resort Helmond
ATTACH;FMTTYPE=text/plain:https://hbb.rivio.dev/senioren/2020/wedstrijd/267
 51
END:VEVENT
BEGIN:VEVENT
UID:https://hbb.rivio.dev/senioren/2020/wedstrijd/26775
DTSTAMP:20260420T133615Z
SUMMARY:Mierlo 11 - BC '85 3
DESCRIPTION:Baan 12\, Wedstrijdnummer 1206\, Afdeling 4e klasse I
DTSTART:20201202T200000
DTEND:20201202T230000
LOCATION:City Resort Helmond
ATTACH;FMTTYPE=text/plain:https://hbb.rivio.dev/senioren/2020/wedstrijd/267
 75
END:VEVENT
BEGIN:VEVENT
UID:https://hbb.rivio.dev/senioren/2020/wedstrijd/26811
DTSTAMP:20260420T133615Z
SUMMARY:Smashing Bruang 3 - BC '85 3
DESCRIPTION:Baan 3\, Wedstrijdnummer 1207\, Afdeling 4e klasse I
DTSTART:20201216T200000
DTEND:20201216T230000
LOCATION:City Resort Helmond
ATTACH;FMTTYPE=text/plain:https://hbb.rivio.dev/senioren/2020/wedstrijd/268
 11
END:VEVENT
BEGIN:VEVENT
UID:https://hbb.rivio.dev/senioren/2020/wedstrijd/26837
DTSTAMP:20260420T133615Z
SUMMARY:BC '85 3 - Gemert 4
DESCRIPTION:Baan 14\, Wedstrijdnummer 1210\, Afdeling 4e klasse I
DTSTART:20210106T200000
DTEND:20210106T230000
LOCATION:City Resort Helmond
ATTACH;FMTTYPE=text/plain:https://hbb.rivio.dev/senioren/2020/wedstrijd/268
 37
END:VEVENT
BEGIN:VEVENT
UID:https://hbb.rivio.dev/senioren/2020/wedstrijd/26903
DTSTAMP:20260420T133615Z
SUMMARY:BC '85 3 - Con Brio 5
DESCRIPTION:Baan 14\, Wedstrijdnummer 1213\, Afdeling 4e klasse I
DTSTART:20210203T200000
DTEND:20210203T230000
LOCATION:City Resort Helmond
ATTACH;FMTTYPE=text/plain:https://hbb.rivio.dev/senioren/2020/wedstrijd/269
 03
END:VEVENT
BEGIN:VTIMEZONE
TZID:Europe/Amsterdam
BEGIN:STANDARD
DTSTART:20200101T000000
TZNAME:CET
TZOFFSETTO:+0100
TZOFFSETFROM:+0100
END:STANDARD
BEGIN:DAYLIGHT
DTSTART:20200329T030000
TZNAME:CEST
TZOFFSETTO:+0200
TZOFFSETFROM:+0100
END:DAYLIGHT
BEGIN:STANDARD
DTSTART:20201025T020000
TZNAME:CET
TZOFFSETTO:+0100
TZOFFSETFROM:+0200
END:STANDARD
BEGIN:DAYLIGHT
DTSTART:20210328T030000
TZNAME:CEST
TZOFFSETTO:+0200
TZOFFSETFROM:+0100
END:DAYLIGHT
BEGIN:STANDARD
DTSTART:20211031T020000
TZNAME:CET
TZOFFSETTO:+0100
TZOFFSETFROM:+0200
END:STANDARD
END:VTIMEZONE
END:VCALENDAR
