BEGIN:VCALENDAR
PRODID:-//eluceo/ical//2.0/EN
VERSION:2.0
CALSCALE:GREGORIAN
BEGIN:VEVENT
UID:https://hbb.rivio.dev/senioren/2020/wedstrijd/26602
DTSTAMP:20260420T151136Z
SUMMARY:Bakel 2 - BC '85 1
DESCRIPTION:Baan 1\, Wedstrijdnummer 79\, Afdeling 1e klasse 
DTSTART:20200924T200000
DTEND:20200924T230000
LOCATION:City Resort Helmond
ATTACH;FMTTYPE=text/plain:https://hbb.rivio.dev/senioren/2020/wedstrijd/266
 02
END:VEVENT
BEGIN:VEVENT
UID:https://hbb.rivio.dev/senioren/2020/wedstrijd/26619
DTSTAMP:20260420T151136Z
SUMMARY:De Valken 2 - BC '85 1
DESCRIPTION:Baan 13\, Wedstrijdnummer 84\, Afdeling 1e klasse 
DTSTART:20200930T200000
DTEND:20200930T230000
LOCATION:City Resort Helmond
ATTACH;FMTTYPE=text/plain:https://hbb.rivio.dev/senioren/2020/wedstrijd/266
 19
END:VEVENT
BEGIN:VEVENT
UID:https://hbb.rivio.dev/senioren/2020/wedstrijd/26679
DTSTAMP:20260420T151136Z
SUMMARY:Mierlo 5 - BC '85 1
DESCRIPTION:Baan 13\, Wedstrijdnummer 92\, Afdeling 1e klasse 
DTSTART:20201028T200000
DTEND:20201028T230000
LOCATION:City Resort Helmond
ATTACH;FMTTYPE=text/plain:https://hbb.rivio.dev/senioren/2020/wedstrijd/266
 79
END:VEVENT
BEGIN:VEVENT
UID:https://hbb.rivio.dev/senioren/2020/wedstrijd/26716
DTSTAMP:20260420T151136Z
SUMMARY:BC '85 1 - De Valken 2
DESCRIPTION:Baan 12\, Wedstrijdnummer 2023\, Afdeling 1e klasse 
DTSTART:20201111T200000
DTEND:20201111T230000
LOCATION:City Resort Helmond
ATTACH;FMTTYPE=text/plain:https://hbb.rivio.dev/senioren/2020/wedstrijd/267
 16
END:VEVENT
BEGIN:VEVENT
UID:https://hbb.rivio.dev/senioren/2020/wedstrijd/26762
DTSTAMP:20260420T151136Z
SUMMARY:BC '85 1 - Hanevoet 2
DESCRIPTION:Baan 4\, Wedstrijdnummer 96\, Afdeling 1e klasse 
DTSTART:20201126T200000
DTEND:20201126T230000
LOCATION:City Resort Helmond
ATTACH;FMTTYPE=text/plain:https://hbb.rivio.dev/senioren/2020/wedstrijd/267
 62
END:VEVENT
BEGIN:VEVENT
UID:https://hbb.rivio.dev/senioren/2020/wedstrijd/26801
DTSTAMP:20260420T151136Z
SUMMARY:Smashing Bruang 2 - BC '85 1
DESCRIPTION:Baan 3\, Wedstrijdnummer 100\, Afdeling 1e klasse 
DTSTART:20201210T200000
DTEND:20201210T230000
LOCATION:City Resort Helmond
ATTACH;FMTTYPE=text/plain:https://hbb.rivio.dev/senioren/2020/wedstrijd/268
 01
END:VEVENT
BEGIN:VEVENT
UID:https://hbb.rivio.dev/senioren/2020/wedstrijd/26810
DTSTAMP:20260420T151136Z
SUMMARY:BC '85 1 - Mixed 4
DESCRIPTION:Baan 2\, Wedstrijdnummer 104\, Afdeling 1e klasse 
DTSTART:20201216T200000
DTEND:20201216T230000
LOCATION:City Resort Helmond
ATTACH;FMTTYPE=text/plain:https://hbb.rivio.dev/senioren/2020/wedstrijd/268
 10
END:VEVENT
BEGIN:VEVENT
UID:https://hbb.rivio.dev/senioren/2020/wedstrijd/26854
DTSTAMP:20260420T151136Z
SUMMARY:BC '85 1 - Bakel 2
DESCRIPTION:Baan 5\, Wedstrijdnummer 1079\, Afdeling 1e klasse 
DTSTART:20210114T200000
DTEND:20210114T230000
LOCATION:City Resort Helmond
ATTACH;FMTTYPE=text/plain:https://hbb.rivio.dev/senioren/2020/wedstrijd/268
 54
END:VEVENT
BEGIN:VEVENT
UID:https://hbb.rivio.dev/senioren/2020/wedstrijd/26877
DTSTAMP:20260420T151136Z
SUMMARY:BC '85 1 - De Valken 2
DESCRIPTION:Baan 3\, Wedstrijdnummer 1084\, Afdeling 1e klasse 
DTSTART:20210127T200000
DTEND:20210127T230000
LOCATION:City Resort Helmond
ATTACH;FMTTYPE=text/plain:https://hbb.rivio.dev/senioren/2020/wedstrijd/268
 77
END:VEVENT
BEGIN:VEVENT
UID:https://hbb.rivio.dev/senioren/2020/wedstrijd/26935
DTSTAMP:20260420T151136Z
SUMMARY:BC '85 1 - Mierlo 5
DESCRIPTION:Baan 5\, Wedstrijdnummer 1092\, Afdeling 1e klasse 
DTSTART:20210224T200000
DTEND:20210224T230000
LOCATION:City Resort Helmond
ATTACH;FMTTYPE=text/plain:https://hbb.rivio.dev/senioren/2020/wedstrijd/269
 35
END:VEVENT
BEGIN:VEVENT
UID:https://hbb.rivio.dev/senioren/2020/wedstrijd/26963
DTSTAMP:20260420T151136Z
SUMMARY:Hanevoet 2 - BC '85 1
DESCRIPTION:Baan 14\, Wedstrijdnummer 1096\, Afdeling 1e klasse 
DTSTART:20210304T200000
DTEND:20210304T230000
LOCATION:City Resort Helmond
ATTACH;FMTTYPE=text/plain:https://hbb.rivio.dev/senioren/2020/wedstrijd/269
 63
END:VEVENT
BEGIN:VEVENT
UID:https://hbb.rivio.dev/senioren/2020/wedstrijd/26991
DTSTAMP:20260420T151136Z
SUMMARY:BC '85 1 - Smashing Bruang 2
DESCRIPTION:Baan 14\, Wedstrijdnummer 1100\, Afdeling 1e klasse 
DTSTART:20210318T200000
DTEND:20210318T230000
LOCATION:City Resort Helmond
ATTACH;FMTTYPE=text/plain:https://hbb.rivio.dev/senioren/2020/wedstrijd/269
 91
END:VEVENT
BEGIN:VEVENT
UID:https://hbb.rivio.dev/senioren/2020/wedstrijd/27012
DTSTAMP:20260420T151136Z
SUMMARY:Mixed 4 - BC '85 1
DESCRIPTION:Baan 2\, Wedstrijdnummer 1104\, Afdeling 1e klasse 
DTSTART:20210331T200000
DTEND:20210331T230000
LOCATION:City Resort Helmond
ATTACH;FMTTYPE=text/plain:https://hbb.rivio.dev/senioren/2020/wedstrijd/270
 12
END:VEVENT
BEGIN:VTIMEZONE
TZID:Europe/Amsterdam
BEGIN:STANDARD
DTSTART:20200101T000000
TZNAME:CET
TZOFFSETTO:+0100
TZOFFSETFROM:+0100
END:STANDARD
BEGIN:DAYLIGHT
DTSTART:20200329T030000
TZNAME:CEST
TZOFFSETTO:+0200
TZOFFSETFROM:+0100
END:DAYLIGHT
BEGIN:STANDARD
DTSTART:20201025T020000
TZNAME:CET
TZOFFSETTO:+0100
TZOFFSETFROM:+0200
END:STANDARD
BEGIN:DAYLIGHT
DTSTART:20210328T030000
TZNAME:CEST
TZOFFSETTO:+0200
TZOFFSETFROM:+0100
END:DAYLIGHT
BEGIN:STANDARD
DTSTART:20211031T020000
TZNAME:CET
TZOFFSETTO:+0100
TZOFFSETFROM:+0200
END:STANDARD
END:VTIMEZONE
END:VCALENDAR
