BEGIN:VCALENDAR
PRODID:-//eluceo/ical//2.0/EN
VERSION:2.0
CALSCALE:GREGORIAN
BEGIN:VEVENT
UID:https://hbb.rivio.dev/jeugd/2020/wedstrijd/26398
DTSTAMP:20260420T202952Z
SUMMARY:Con Brio 1 - Ganzeveer 1
DESCRIPTION:Baan 14\, Afdeling G-klasse 
DTSTART:20200927T093000
DTEND:20200927T111500
LOCATION:City Resort Helmond
ATTACH;FMTTYPE=text/plain:https://hbb.rivio.dev/jeugd/2020/wedstrijd/26398
END:VEVENT
BEGIN:VEVENT
UID:https://hbb.rivio.dev/jeugd/2020/wedstrijd/26402
DTSTAMP:20260420T202952Z
SUMMARY:Mixed 6 - Ganzeveer 1
DESCRIPTION:Baan 15\, Afdeling G-klasse 
DTSTART:20200927T111500
DTEND:20200927T130000
LOCATION:City Resort Helmond
ATTACH;FMTTYPE=text/plain:https://hbb.rivio.dev/jeugd/2020/wedstrijd/26402
END:VEVENT
BEGIN:VEVENT
UID:https://hbb.rivio.dev/jeugd/2020/wedstrijd/26427
DTSTAMP:20260420T202952Z
SUMMARY:Ganzeveer 1 - Mixed 5
DESCRIPTION:Baan 5\, Afdeling G-klasse 
DTSTART:20201011T093000
DTEND:20201011T111500
LOCATION:City Resort Helmond
ATTACH;FMTTYPE=text/plain:https://hbb.rivio.dev/jeugd/2020/wedstrijd/26427
END:VEVENT
BEGIN:VEVENT
UID:https://hbb.rivio.dev/jeugd/2020/wedstrijd/26432
DTSTAMP:20260420T202952Z
SUMMARY:Mierlo 7 - Ganzeveer 1
DESCRIPTION:Baan 15\, Afdeling G-klasse 
DTSTART:20201011T111500
DTEND:20201011T130000
LOCATION:City Resort Helmond
ATTACH;FMTTYPE=text/plain:https://hbb.rivio.dev/jeugd/2020/wedstrijd/26432
END:VEVENT
BEGIN:VEVENT
UID:https://hbb.rivio.dev/jeugd/2020/wedstrijd/26459
DTSTAMP:20260420T202952Z
SUMMARY:Ganzeveer 1 - Gemert 2
DESCRIPTION:Baan 15\, Afdeling G-klasse 
DTSTART:20201108T093000
DTEND:20201108T111500
LOCATION:City Resort Helmond
ATTACH;FMTTYPE=text/plain:https://hbb.rivio.dev/jeugd/2020/wedstrijd/26459
END:VEVENT
BEGIN:VEVENT
UID:https://hbb.rivio.dev/jeugd/2020/wedstrijd/26461
DTSTAMP:20260420T202952Z
SUMMARY:Ganzeveer 1 - Con Brio 1
DESCRIPTION:Baan 14\, Afdeling G-klasse 
DTSTART:20201108T111500
DTEND:20201108T130000
LOCATION:City Resort Helmond
ATTACH;FMTTYPE=text/plain:https://hbb.rivio.dev/jeugd/2020/wedstrijd/26461
END:VEVENT
BEGIN:VEVENT
UID:https://hbb.rivio.dev/jeugd/2020/wedstrijd/26489
DTSTAMP:20260420T202952Z
SUMMARY:Ganzeveer 1 - Mixed 6
DESCRIPTION:Baan 15\, Afdeling G-klasse 
DTSTART:20201122T093000
DTEND:20201122T111500
LOCATION:City Resort Helmond
ATTACH;FMTTYPE=text/plain:https://hbb.rivio.dev/jeugd/2020/wedstrijd/26489
END:VEVENT
BEGIN:VEVENT
UID:https://hbb.rivio.dev/jeugd/2020/wedstrijd/26490
DTSTAMP:20260420T202952Z
SUMMARY:Mixed 5 - Ganzeveer 1
DESCRIPTION:Baan 5\, Afdeling G-klasse 
DTSTART:20201122T111500
DTEND:20201122T130000
LOCATION:City Resort Helmond
ATTACH;FMTTYPE=text/plain:https://hbb.rivio.dev/jeugd/2020/wedstrijd/26490
END:VEVENT
BEGIN:VEVENT
UID:https://hbb.rivio.dev/jeugd/2020/wedstrijd/26513
DTSTAMP:20260420T202952Z
SUMMARY:Ganzeveer 1 - Mierlo 7
DESCRIPTION:Baan 13\, Afdeling G-klasse 
DTSTART:20201213T093000
DTEND:20201213T111500
LOCATION:City Resort Helmond
ATTACH;FMTTYPE=text/plain:https://hbb.rivio.dev/jeugd/2020/wedstrijd/26513
END:VEVENT
BEGIN:VEVENT
UID:https://hbb.rivio.dev/jeugd/2020/wedstrijd/26516
DTSTAMP:20260420T202952Z
SUMMARY:Gemert 2 - Ganzeveer 1
DESCRIPTION:Baan 13\, Afdeling G-klasse 
DTSTART:20201213T111500
DTEND:20201213T130000
LOCATION:City Resort Helmond
ATTACH;FMTTYPE=text/plain:https://hbb.rivio.dev/jeugd/2020/wedstrijd/26516
END:VEVENT
BEGIN:VEVENT
UID:https://hbb.rivio.dev/jeugd/2020/wedstrijd/26538
DTSTAMP:20260420T202952Z
SUMMARY:Con Brio 1 - Ganzeveer 1
DESCRIPTION:Baan 12\, Afdeling G-klasse 
DTSTART:20210117T093000
DTEND:20210117T111500
LOCATION:City Resort Helmond
ATTACH;FMTTYPE=text/plain:https://hbb.rivio.dev/jeugd/2020/wedstrijd/26538
END:VEVENT
BEGIN:VEVENT
UID:https://hbb.rivio.dev/jeugd/2020/wedstrijd/26542
DTSTAMP:20260420T202952Z
SUMMARY:Mixed 6 - Ganzeveer 1
DESCRIPTION:Baan 13\, Afdeling G-klasse 
DTSTART:20210117T111500
DTEND:20210117T130000
LOCATION:City Resort Helmond
ATTACH;FMTTYPE=text/plain:https://hbb.rivio.dev/jeugd/2020/wedstrijd/26542
END:VEVENT
BEGIN:VEVENT
UID:https://hbb.rivio.dev/jeugd/2020/wedstrijd/26565
DTSTAMP:20260420T202952Z
SUMMARY:Ganzeveer 1 - Mixed 5
DESCRIPTION:Baan 11\, Afdeling G-klasse 
DTSTART:20210228T093000
DTEND:20210228T111500
LOCATION:City Resort Helmond
ATTACH;FMTTYPE=text/plain:https://hbb.rivio.dev/jeugd/2020/wedstrijd/26565
END:VEVENT
BEGIN:VEVENT
UID:https://hbb.rivio.dev/jeugd/2020/wedstrijd/26570
DTSTAMP:20260420T202952Z
SUMMARY:Mierlo 7 - Ganzeveer 1
DESCRIPTION:Baan 13\, Afdeling G-klasse 
DTSTART:20210228T111500
DTEND:20210228T130000
LOCATION:City Resort Helmond
ATTACH;FMTTYPE=text/plain:https://hbb.rivio.dev/jeugd/2020/wedstrijd/26570
END:VEVENT
BEGIN:VEVENT
UID:https://hbb.rivio.dev/jeugd/2020/wedstrijd/26587
DTSTAMP:20260420T202952Z
SUMMARY:Ganzeveer 1 - Gemert 2
DESCRIPTION:Baan 5\, Afdeling G-klasse 
DTSTART:20210314T093000
DTEND:20210314T111500
LOCATION:City Resort Helmond
ATTACH;FMTTYPE=text/plain:https://hbb.rivio.dev/jeugd/2020/wedstrijd/26587
END:VEVENT
BEGIN:VTIMEZONE
TZID:Europe/Amsterdam
BEGIN:STANDARD
DTSTART:20200101T000000
TZNAME:CET
TZOFFSETTO:+0100
TZOFFSETFROM:+0100
END:STANDARD
BEGIN:DAYLIGHT
DTSTART:20200329T030000
TZNAME:CEST
TZOFFSETTO:+0200
TZOFFSETFROM:+0100
END:DAYLIGHT
BEGIN:STANDARD
DTSTART:20201025T020000
TZNAME:CET
TZOFFSETTO:+0100
TZOFFSETFROM:+0200
END:STANDARD
BEGIN:DAYLIGHT
DTSTART:20210328T030000
TZNAME:CEST
TZOFFSETTO:+0200
TZOFFSETFROM:+0100
END:DAYLIGHT
BEGIN:STANDARD
DTSTART:20211031T020000
TZNAME:CET
TZOFFSETTO:+0100
TZOFFSETFROM:+0200
END:STANDARD
END:VTIMEZONE
END:VCALENDAR
