BEGIN:VCALENDAR
PRODID:-//eluceo/ical//2.0/EN
VERSION:2.0
CALSCALE:GREGORIAN
BEGIN:VEVENT
UID:https://hbb.rivio.dev/senioren/2020/wedstrijd/26615
DTSTAMP:20260420T165503Z
SUMMARY:Geldrop 3 - Heiakker 1
DESCRIPTION:Baan 4\, Wedstrijdnummer 157\, Afdeling 3e klasse I
DTSTART:20200930T200000
DTEND:20200930T230000
LOCATION:City Resort Helmond
ATTACH;FMTTYPE=text/plain:https://hbb.rivio.dev/senioren/2020/wedstrijd/266
 15
END:VEVENT
BEGIN:VEVENT
UID:https://hbb.rivio.dev/senioren/2020/wedstrijd/26646
DTSTAMP:20260420T165503Z
SUMMARY:Heiakker 1 - Never Down 1
DESCRIPTION:Baan 5\, Wedstrijdnummer 161\, Afdeling 3e klasse I
DTSTART:20201008T200000
DTEND:20201008T230000
LOCATION:City Resort Helmond
ATTACH;FMTTYPE=text/plain:https://hbb.rivio.dev/senioren/2020/wedstrijd/266
 46
END:VEVENT
BEGIN:VEVENT
UID:https://hbb.rivio.dev/senioren/2020/wedstrijd/26675
DTSTAMP:20260420T165503Z
SUMMARY:Gemert 3 - Heiakker 1
DESCRIPTION:Baan 4\, Wedstrijdnummer 164\, Afdeling 3e klasse I
DTSTART:20201028T200000
DTEND:20201028T230000
LOCATION:City Resort Helmond
ATTACH;FMTTYPE=text/plain:https://hbb.rivio.dev/senioren/2020/wedstrijd/266
 75
END:VEVENT
BEGIN:VEVENT
UID:https://hbb.rivio.dev/senioren/2020/wedstrijd/26722
DTSTAMP:20260420T165503Z
SUMMARY:Heiakker 1 - De Valken 4
DESCRIPTION:Baan 3\, Wedstrijdnummer 2049\, Afdeling 3e klasse I
DTSTART:20201112T200000
DTEND:20201112T230000
LOCATION:City Resort Helmond
ATTACH;FMTTYPE=text/plain:https://hbb.rivio.dev/senioren/2020/wedstrijd/267
 22
END:VEVENT
BEGIN:VEVENT
UID:https://hbb.rivio.dev/senioren/2020/wedstrijd/26746
DTSTAMP:20260420T165503Z
SUMMARY:De Valken 5 - Heiakker 1
DESCRIPTION:Baan 13\, Wedstrijdnummer 171\, Afdeling 3e klasse I
DTSTART:20201119T200000
DTEND:20201119T230000
LOCATION:City Resort Helmond
ATTACH;FMTTYPE=text/plain:https://hbb.rivio.dev/senioren/2020/wedstrijd/267
 46
END:VEVENT
BEGIN:VEVENT
UID:https://hbb.rivio.dev/senioren/2020/wedstrijd/26785
DTSTAMP:20260420T165503Z
SUMMARY:Heiakker 1 - BCAB 4
DESCRIPTION:Baan 12\, Wedstrijdnummer 175\, Afdeling 3e klasse I
DTSTART:20201203T200000
DTEND:20201203T230000
LOCATION:City Resort Helmond
ATTACH;FMTTYPE=text/plain:https://hbb.rivio.dev/senioren/2020/wedstrijd/267
 85
END:VEVENT
BEGIN:VEVENT
UID:https://hbb.rivio.dev/senioren/2020/wedstrijd/26819
DTSTAMP:20260420T165503Z
SUMMARY:Hanevoet 4 - Heiakker 1
DESCRIPTION:Baan 1\, Wedstrijdnummer 179\, Afdeling 3e klasse I
DTSTART:20201217T200000
DTEND:20201217T230000
LOCATION:City Resort Helmond
ATTACH;FMTTYPE=text/plain:https://hbb.rivio.dev/senioren/2020/wedstrijd/268
 19
END:VEVENT
BEGIN:VEVENT
UID:https://hbb.rivio.dev/senioren/2020/wedstrijd/26847
DTSTAMP:20260420T165503Z
SUMMARY:Heiakker 1 - Mierlo 9
DESCRIPTION:Baan 14\, Wedstrijdnummer 183\, Afdeling 3e klasse I
DTSTART:20210107T200000
DTEND:20210107T230000
LOCATION:City Resort Helmond
ATTACH;FMTTYPE=text/plain:https://hbb.rivio.dev/senioren/2020/wedstrijd/268
 47
END:VEVENT
BEGIN:VEVENT
UID:https://hbb.rivio.dev/senioren/2020/wedstrijd/26858
DTSTAMP:20260420T165503Z
SUMMARY:Heiakker 1 - Geldrop 3
DESCRIPTION:Baan 15\, Wedstrijdnummer 1157\, Afdeling 3e klasse I
DTSTART:20210114T200000
DTEND:20210114T230000
LOCATION:City Resort Helmond
ATTACH;FMTTYPE=text/plain:https://hbb.rivio.dev/senioren/2020/wedstrijd/268
 58
END:VEVENT
BEGIN:VEVENT
UID:https://hbb.rivio.dev/senioren/2020/wedstrijd/26909
DTSTAMP:20260420T165503Z
SUMMARY:Never Down 1 - Heiakker 1
DESCRIPTION:Baan 5\, Wedstrijdnummer 1161\, Afdeling 3e klasse I
DTSTART:20210204T200000
DTEND:20210204T230000
LOCATION:City Resort Helmond
ATTACH;FMTTYPE=text/plain:https://hbb.rivio.dev/senioren/2020/wedstrijd/269
 09
END:VEVENT
BEGIN:VEVENT
UID:https://hbb.rivio.dev/senioren/2020/wedstrijd/26934
DTSTAMP:20260420T165503Z
SUMMARY:Heiakker 1 - Gemert 3
DESCRIPTION:Baan 15\, Wedstrijdnummer 1164\, Afdeling 3e klasse I
DTSTART:20210211T200000
DTEND:20210211T230000
LOCATION:City Resort Helmond
ATTACH;FMTTYPE=text/plain:https://hbb.rivio.dev/senioren/2020/wedstrijd/269
 34
END:VEVENT
BEGIN:VEVENT
UID:https://hbb.rivio.dev/senioren/2020/wedstrijd/26957
DTSTAMP:20260420T165503Z
SUMMARY:Heiakker 1 - De Valken 5
DESCRIPTION:Baan 3\, Wedstrijdnummer 1171\, Afdeling 3e klasse I
DTSTART:20210304T200000
DTEND:20210304T230000
LOCATION:City Resort Helmond
ATTACH;FMTTYPE=text/plain:https://hbb.rivio.dev/senioren/2020/wedstrijd/269
 57
END:VEVENT
BEGIN:VEVENT
UID:https://hbb.rivio.dev/senioren/2020/wedstrijd/26985
DTSTAMP:20260420T165503Z
SUMMARY:BCAB 4 - Heiakker 1
DESCRIPTION:Baan 3\, Wedstrijdnummer 1175\, Afdeling 3e klasse I
DTSTART:20210318T200000
DTEND:20210318T230000
LOCATION:City Resort Helmond
ATTACH;FMTTYPE=text/plain:https://hbb.rivio.dev/senioren/2020/wedstrijd/269
 85
END:VEVENT
BEGIN:VEVENT
UID:https://hbb.rivio.dev/senioren/2020/wedstrijd/27005
DTSTAMP:20260420T165503Z
SUMMARY:Heiakker 1 - Hanevoet 4
DESCRIPTION:Baan 5\, Wedstrijdnummer 1179\, Afdeling 3e klasse I
DTSTART:20210325T200000
DTEND:20210325T230000
LOCATION:City Resort Helmond
ATTACH;FMTTYPE=text/plain:https://hbb.rivio.dev/senioren/2020/wedstrijd/270
 05
END:VEVENT
BEGIN:VEVENT
UID:https://hbb.rivio.dev/senioren/2020/wedstrijd/27034
DTSTAMP:20260420T165503Z
SUMMARY:Mierlo 9 - Heiakker 1
DESCRIPTION:Baan 4\, Wedstrijdnummer 1183\, Afdeling 3e klasse I
DTSTART:20210421T200000
DTEND:20210421T230000
LOCATION:City Resort Helmond
ATTACH;FMTTYPE=text/plain:https://hbb.rivio.dev/senioren/2020/wedstrijd/270
 34
END:VEVENT
BEGIN:VTIMEZONE
TZID:Europe/Amsterdam
BEGIN:STANDARD
DTSTART:20200101T000000
TZNAME:CET
TZOFFSETTO:+0100
TZOFFSETFROM:+0100
END:STANDARD
BEGIN:DAYLIGHT
DTSTART:20200329T030000
TZNAME:CEST
TZOFFSETTO:+0200
TZOFFSETFROM:+0100
END:DAYLIGHT
BEGIN:STANDARD
DTSTART:20201025T020000
TZNAME:CET
TZOFFSETTO:+0100
TZOFFSETFROM:+0200
END:STANDARD
BEGIN:DAYLIGHT
DTSTART:20210328T030000
TZNAME:CEST
TZOFFSETTO:+0200
TZOFFSETFROM:+0100
END:DAYLIGHT
BEGIN:STANDARD
DTSTART:20211031T020000
TZNAME:CET
TZOFFSETTO:+0100
TZOFFSETFROM:+0200
END:STANDARD
END:VTIMEZONE
END:VCALENDAR
