BEGIN:VCALENDAR
PRODID:-//eluceo/ical//2.0/EN
VERSION:2.0
CALSCALE:GREGORIAN
BEGIN:VEVENT
UID:https://hbb.rivio.dev/senioren/2020/wedstrijd/26624
DTSTAMP:20260420T090308Z
SUMMARY:Never Down 2 - Someren 4
DESCRIPTION:Baan 3\, Wedstrijdnummer 185\, Afdeling 3e klasse II
DTSTART:20201001T200000
DTEND:20201001T230000
LOCATION:City Resort Helmond
ATTACH;FMTTYPE=text/plain:https://hbb.rivio.dev/senioren/2020/wedstrijd/266
 24
END:VEVENT
BEGIN:VEVENT
UID:https://hbb.rivio.dev/senioren/2020/wedstrijd/26649
DTSTAMP:20260420T090308Z
SUMMARY:Never Down 2 - Ganzeveer 2
DESCRIPTION:Baan 13\, Wedstrijdnummer 187\, Afdeling 3e klasse II
DTSTART:20201008T200000
DTEND:20201008T230000
LOCATION:City Resort Helmond
ATTACH;FMTTYPE=text/plain:https://hbb.rivio.dev/senioren/2020/wedstrijd/266
 49
END:VEVENT
BEGIN:VEVENT
UID:https://hbb.rivio.dev/senioren/2020/wedstrijd/26687
DTSTAMP:20260420T090308Z
SUMMARY:BCAB 3 - Never Down 2
DESCRIPTION:Baan 11\, Wedstrijdnummer 191\, Afdeling 3e klasse II
DTSTART:20201029T200000
DTEND:20201029T230000
LOCATION:City Resort Helmond
ATTACH;FMTTYPE=text/plain:https://hbb.rivio.dev/senioren/2020/wedstrijd/266
 87
END:VEVENT
BEGIN:VEVENT
UID:https://hbb.rivio.dev/senioren/2020/wedstrijd/26721
DTSTAMP:20260420T090308Z
SUMMARY:Never Down 2 - De Valken 5
DESCRIPTION:Baan 2\, Wedstrijdnummer 2048\, Afdeling 3e klasse II
DTSTART:20201112T200000
DTEND:20201112T230000
LOCATION:City Resort Helmond
ATTACH;FMTTYPE=text/plain:https://hbb.rivio.dev/senioren/2020/wedstrijd/267
 21
END:VEVENT
BEGIN:VEVENT
UID:https://hbb.rivio.dev/senioren/2020/wedstrijd/26748
DTSTAMP:20260420T090308Z
SUMMARY:Never Down 2 - Mixed 6
DESCRIPTION:Baan 15\, Wedstrijdnummer 195\, Afdeling 3e klasse II
DTSTART:20201119T200000
DTEND:20201119T230000
LOCATION:City Resort Helmond
ATTACH;FMTTYPE=text/plain:https://hbb.rivio.dev/senioren/2020/wedstrijd/267
 48
END:VEVENT
BEGIN:VEVENT
UID:https://hbb.rivio.dev/senioren/2020/wedstrijd/26820
DTSTAMP:20260420T090308Z
SUMMARY:De Valken 4 - Never Down 2
DESCRIPTION:Baan 2\, Wedstrijdnummer 200\, Afdeling 3e klasse II
DTSTART:20201217T200000
DTEND:20201217T230000
LOCATION:City Resort Helmond
ATTACH;FMTTYPE=text/plain:https://hbb.rivio.dev/senioren/2020/wedstrijd/268
 20
END:VEVENT
BEGIN:VEVENT
UID:https://hbb.rivio.dev/senioren/2020/wedstrijd/26850
DTSTAMP:20260420T090308Z
SUMMARY:Never Down 2 - Mierlo 8
DESCRIPTION:Baan 1\, Wedstrijdnummer 203\, Afdeling 3e klasse II
DTSTART:20210114T200000
DTEND:20210114T230000
LOCATION:City Resort Helmond
ATTACH;FMTTYPE=text/plain:https://hbb.rivio.dev/senioren/2020/wedstrijd/268
 50
END:VEVENT
BEGIN:VEVENT
UID:https://hbb.rivio.dev/senioren/2020/wedstrijd/26888
DTSTAMP:20260420T090308Z
SUMMARY:Someren 4 - Never Down 2
DESCRIPTION:Baan 4\, Wedstrijdnummer 1185\, Afdeling 3e klasse II
DTSTART:20210128T200000
DTEND:20210128T230000
LOCATION:City Resort Helmond
ATTACH;FMTTYPE=text/plain:https://hbb.rivio.dev/senioren/2020/wedstrijd/268
 88
END:VEVENT
BEGIN:VEVENT
UID:https://hbb.rivio.dev/senioren/2020/wedstrijd/26899
DTSTAMP:20260420T090308Z
SUMMARY:Ganzeveer 2 - Never Down 2
DESCRIPTION:Baan 5\, Wedstrijdnummer 1187\, Afdeling 3e klasse II
DTSTART:20210203T200000
DTEND:20210203T230000
LOCATION:City Resort Helmond
ATTACH;FMTTYPE=text/plain:https://hbb.rivio.dev/senioren/2020/wedstrijd/268
 99
END:VEVENT
BEGIN:VEVENT
UID:https://hbb.rivio.dev/senioren/2020/wedstrijd/26939
DTSTAMP:20260420T090308Z
SUMMARY:Never Down 2 - BCAB 3
DESCRIPTION:Baan 3\, Wedstrijdnummer 1191\, Afdeling 3e klasse II
DTSTART:20210225T200000
DTEND:20210225T230000
LOCATION:City Resort Helmond
ATTACH;FMTTYPE=text/plain:https://hbb.rivio.dev/senioren/2020/wedstrijd/269
 39
END:VEVENT
BEGIN:VEVENT
UID:https://hbb.rivio.dev/senioren/2020/wedstrijd/26959
DTSTAMP:20260420T090308Z
SUMMARY:Mixed 6 - Never Down 2
DESCRIPTION:Baan 5\, Wedstrijdnummer 1195\, Afdeling 3e klasse II
DTSTART:20210304T200000
DTEND:20210304T230000
LOCATION:City Resort Helmond
ATTACH;FMTTYPE=text/plain:https://hbb.rivio.dev/senioren/2020/wedstrijd/269
 59
END:VEVENT
BEGIN:VEVENT
UID:https://hbb.rivio.dev/senioren/2020/wedstrijd/27006
DTSTAMP:20260420T090308Z
SUMMARY:Never Down 2 - De Valken 4
DESCRIPTION:Baan 11\, Wedstrijdnummer 1200\, Afdeling 3e klasse II
DTSTART:20210325T200000
DTEND:20210325T230000
LOCATION:City Resort Helmond
ATTACH;FMTTYPE=text/plain:https://hbb.rivio.dev/senioren/2020/wedstrijd/270
 06
END:VEVENT
BEGIN:VEVENT
UID:https://hbb.rivio.dev/senioren/2020/wedstrijd/27029
DTSTAMP:20260420T090308Z
SUMMARY:Mierlo 8 - Never Down 2
DESCRIPTION:Baan 5\, Wedstrijdnummer 1203\, Afdeling 3e klasse II
DTSTART:20210415T200000
DTEND:20210415T230000
LOCATION:City Resort Helmond
ATTACH;FMTTYPE=text/plain:https://hbb.rivio.dev/senioren/2020/wedstrijd/270
 29
END:VEVENT
BEGIN:VTIMEZONE
TZID:Europe/Amsterdam
BEGIN:STANDARD
DTSTART:20200101T000000
TZNAME:CET
TZOFFSETTO:+0100
TZOFFSETFROM:+0100
END:STANDARD
BEGIN:DAYLIGHT
DTSTART:20200329T030000
TZNAME:CEST
TZOFFSETTO:+0200
TZOFFSETFROM:+0100
END:DAYLIGHT
BEGIN:STANDARD
DTSTART:20201025T020000
TZNAME:CET
TZOFFSETTO:+0100
TZOFFSETFROM:+0200
END:STANDARD
BEGIN:DAYLIGHT
DTSTART:20210328T030000
TZNAME:CEST
TZOFFSETTO:+0200
TZOFFSETFROM:+0100
END:DAYLIGHT
BEGIN:STANDARD
DTSTART:20211031T020000
TZNAME:CET
TZOFFSETTO:+0100
TZOFFSETFROM:+0200
END:STANDARD
END:VTIMEZONE
END:VCALENDAR
