BEGIN:VCALENDAR
PRODID:-//eluceo/ical//2.0/EN
VERSION:2.0
CALSCALE:GREGORIAN
BEGIN:VEVENT
UID:https://hbb.rivio.dev/senioren/2020/wedstrijd/26614
DTSTAMP:20260420T103719Z
SUMMARY:Gemert 3 - Never Down 1
DESCRIPTION:Baan 3\, Wedstrijdnummer 156\, Afdeling 3e klasse I
DTSTART:20200930T200000
DTEND:20200930T230000
LOCATION:City Resort Helmond
ATTACH;FMTTYPE=text/plain:https://hbb.rivio.dev/senioren/2020/wedstrijd/266
 14
END:VEVENT
BEGIN:VEVENT
UID:https://hbb.rivio.dev/senioren/2020/wedstrijd/26646
DTSTAMP:20260420T103719Z
SUMMARY:Heiakker 1 - Never Down 1
DESCRIPTION:Baan 5\, Wedstrijdnummer 161\, Afdeling 3e klasse I
DTSTART:20201008T200000
DTEND:20201008T230000
LOCATION:City Resort Helmond
ATTACH;FMTTYPE=text/plain:https://hbb.rivio.dev/senioren/2020/wedstrijd/266
 46
END:VEVENT
BEGIN:VEVENT
UID:https://hbb.rivio.dev/senioren/2020/wedstrijd/26685
DTSTAMP:20260420T103719Z
SUMMARY:Never Down 1 - Geldrop 3
DESCRIPTION:Baan 4\, Wedstrijdnummer 165\, Afdeling 3e klasse I
DTSTART:20201029T200000
DTEND:20201029T230000
LOCATION:City Resort Helmond
ATTACH;FMTTYPE=text/plain:https://hbb.rivio.dev/senioren/2020/wedstrijd/266
 85
END:VEVENT
BEGIN:VEVENT
UID:https://hbb.rivio.dev/senioren/2020/wedstrijd/26713
DTSTAMP:20260420T103719Z
SUMMARY:Geldrop 3 - Never Down 1
DESCRIPTION:Baan 4\, Wedstrijdnummer 2050\, Afdeling 3e klasse I
DTSTART:20201111T200000
DTEND:20201111T230000
LOCATION:City Resort Helmond
ATTACH;FMTTYPE=text/plain:https://hbb.rivio.dev/senioren/2020/wedstrijd/267
 13
END:VEVENT
BEGIN:VEVENT
UID:https://hbb.rivio.dev/senioren/2020/wedstrijd/26744
DTSTAMP:20260420T103719Z
SUMMARY:Hanevoet 4 - Never Down 1
DESCRIPTION:Baan 11\, Wedstrijdnummer 169\, Afdeling 3e klasse I
DTSTART:20201119T200000
DTEND:20201119T230000
LOCATION:City Resort Helmond
ATTACH;FMTTYPE=text/plain:https://hbb.rivio.dev/senioren/2020/wedstrijd/267
 44
END:VEVENT
BEGIN:VEVENT
UID:https://hbb.rivio.dev/senioren/2020/wedstrijd/26784
DTSTAMP:20260420T103719Z
SUMMARY:Never Down 1 - Mierlo 9
DESCRIPTION:Baan 11\, Wedstrijdnummer 173\, Afdeling 3e klasse I
DTSTART:20201203T200000
DTEND:20201203T230000
LOCATION:City Resort Helmond
ATTACH;FMTTYPE=text/plain:https://hbb.rivio.dev/senioren/2020/wedstrijd/267
 84
END:VEVENT
BEGIN:VEVENT
UID:https://hbb.rivio.dev/senioren/2020/wedstrijd/26808
DTSTAMP:20260420T103719Z
SUMMARY:De Valken 5 - Never Down 1
DESCRIPTION:Baan 15\, Wedstrijdnummer 177\, Afdeling 3e klasse I
DTSTART:20201210T200000
DTEND:20201210T230000
LOCATION:City Resort Helmond
ATTACH;FMTTYPE=text/plain:https://hbb.rivio.dev/senioren/2020/wedstrijd/268
 08
END:VEVENT
BEGIN:VEVENT
UID:https://hbb.rivio.dev/senioren/2020/wedstrijd/26846
DTSTAMP:20260420T103719Z
SUMMARY:Never Down 1 - BCAB 4
DESCRIPTION:Baan 13\, Wedstrijdnummer 181\, Afdeling 3e klasse I
DTSTART:20210107T200000
DTEND:20210107T230000
LOCATION:City Resort Helmond
ATTACH;FMTTYPE=text/plain:https://hbb.rivio.dev/senioren/2020/wedstrijd/268
 46
END:VEVENT
BEGIN:VEVENT
UID:https://hbb.rivio.dev/senioren/2020/wedstrijd/26886
DTSTAMP:20260420T103719Z
SUMMARY:Never Down 1 - Gemert 3
DESCRIPTION:Baan 2\, Wedstrijdnummer 1156\, Afdeling 3e klasse I
DTSTART:20210128T200000
DTEND:20210128T230000
LOCATION:City Resort Helmond
ATTACH;FMTTYPE=text/plain:https://hbb.rivio.dev/senioren/2020/wedstrijd/268
 86
END:VEVENT
BEGIN:VEVENT
UID:https://hbb.rivio.dev/senioren/2020/wedstrijd/26909
DTSTAMP:20260420T103719Z
SUMMARY:Never Down 1 - Heiakker 1
DESCRIPTION:Baan 5\, Wedstrijdnummer 1161\, Afdeling 3e klasse I
DTSTART:20210204T200000
DTEND:20210204T230000
LOCATION:City Resort Helmond
ATTACH;FMTTYPE=text/plain:https://hbb.rivio.dev/senioren/2020/wedstrijd/269
 09
END:VEVENT
BEGIN:VEVENT
UID:https://hbb.rivio.dev/senioren/2020/wedstrijd/26921
DTSTAMP:20260420T103719Z
SUMMARY:Geldrop 3 - Never Down 1
DESCRIPTION:Baan 12\, Wedstrijdnummer 1165\, Afdeling 3e klasse I
DTSTART:20210210T200000
DTEND:20210210T230000
LOCATION:City Resort Helmond
ATTACH;FMTTYPE=text/plain:https://hbb.rivio.dev/senioren/2020/wedstrijd/269
 21
END:VEVENT
BEGIN:VEVENT
UID:https://hbb.rivio.dev/senioren/2020/wedstrijd/26956
DTSTAMP:20260420T103719Z
SUMMARY:Never Down 1 - Hanevoet 4
DESCRIPTION:Baan 2\, Wedstrijdnummer 1169\, Afdeling 3e klasse I
DTSTART:20210304T200000
DTEND:20210304T230000
LOCATION:City Resort Helmond
ATTACH;FMTTYPE=text/plain:https://hbb.rivio.dev/senioren/2020/wedstrijd/269
 56
END:VEVENT
BEGIN:VEVENT
UID:https://hbb.rivio.dev/senioren/2020/wedstrijd/26984
DTSTAMP:20260420T103719Z
SUMMARY:Mierlo 9 - Never Down 1
DESCRIPTION:Baan 2\, Wedstrijdnummer 1173\, Afdeling 3e klasse I
DTSTART:20210318T200000
DTEND:20210318T230000
LOCATION:City Resort Helmond
ATTACH;FMTTYPE=text/plain:https://hbb.rivio.dev/senioren/2020/wedstrijd/269
 84
END:VEVENT
BEGIN:VEVENT
UID:https://hbb.rivio.dev/senioren/2020/wedstrijd/27004
DTSTAMP:20260420T103719Z
SUMMARY:Never Down 1 - De Valken 5
DESCRIPTION:Baan 4\, Wedstrijdnummer 1177\, Afdeling 3e klasse I
DTSTART:20210325T200000
DTEND:20210325T230000
LOCATION:City Resort Helmond
ATTACH;FMTTYPE=text/plain:https://hbb.rivio.dev/senioren/2020/wedstrijd/270
 04
END:VEVENT
BEGIN:VEVENT
UID:https://hbb.rivio.dev/senioren/2020/wedstrijd/27026
DTSTAMP:20260420T103719Z
SUMMARY:BCAB 4 - Never Down 1
DESCRIPTION:Baan 2\, Wedstrijdnummer 1181\, Afdeling 3e klasse I
DTSTART:20210415T200000
DTEND:20210415T230000
LOCATION:City Resort Helmond
ATTACH;FMTTYPE=text/plain:https://hbb.rivio.dev/senioren/2020/wedstrijd/270
 26
END:VEVENT
BEGIN:VTIMEZONE
TZID:Europe/Amsterdam
BEGIN:STANDARD
DTSTART:20200101T000000
TZNAME:CET
TZOFFSETTO:+0100
TZOFFSETFROM:+0100
END:STANDARD
BEGIN:DAYLIGHT
DTSTART:20200329T030000
TZNAME:CEST
TZOFFSETTO:+0200
TZOFFSETFROM:+0100
END:DAYLIGHT
BEGIN:STANDARD
DTSTART:20201025T020000
TZNAME:CET
TZOFFSETTO:+0100
TZOFFSETFROM:+0200
END:STANDARD
BEGIN:DAYLIGHT
DTSTART:20210328T030000
TZNAME:CEST
TZOFFSETTO:+0200
TZOFFSETFROM:+0100
END:DAYLIGHT
BEGIN:STANDARD
DTSTART:20211031T020000
TZNAME:CET
TZOFFSETTO:+0100
TZOFFSETFROM:+0200
END:STANDARD
END:VTIMEZONE
END:VCALENDAR
