BEGIN:VCALENDAR
PRODID:-//eluceo/ical//2.0/EN
VERSION:2.0
CALSCALE:GREGORIAN
BEGIN:VEVENT
UID:https://hbb.rivio.dev/jeugd/2020/wedstrijd/26414
DTSTAMP:20260420T164831Z
SUMMARY:Mierlo 8 - De Valken 3
DESCRIPTION:Baan 15\, Afdeling H-klasse 
DTSTART:20201004T093000
DTEND:20201004T111500
LOCATION:City Resort Helmond
ATTACH;FMTTYPE=text/plain:https://hbb.rivio.dev/jeugd/2020/wedstrijd/26414
END:VEVENT
BEGIN:VEVENT
UID:https://hbb.rivio.dev/jeugd/2020/wedstrijd/26415
DTSTAMP:20260420T164831Z
SUMMARY:Mierlo 8 - Mixed 7
DESCRIPTION:Baan 14\, Afdeling H-klasse 
DTSTART:20201004T111500
DTEND:20201004T130000
LOCATION:City Resort Helmond
ATTACH;FMTTYPE=text/plain:https://hbb.rivio.dev/jeugd/2020/wedstrijd/26415
END:VEVENT
BEGIN:VEVENT
UID:https://hbb.rivio.dev/jeugd/2020/wedstrijd/26444
DTSTAMP:20260420T164831Z
SUMMARY:Mixed 8 - Mierlo 8
DESCRIPTION:Baan 15\, Afdeling H-klasse 
DTSTART:20201101T093000
DTEND:20201101T111500
LOCATION:City Resort Helmond
ATTACH;FMTTYPE=text/plain:https://hbb.rivio.dev/jeugd/2020/wedstrijd/26444
END:VEVENT
BEGIN:VEVENT
UID:https://hbb.rivio.dev/jeugd/2020/wedstrijd/26446
DTSTAMP:20260420T164831Z
SUMMARY:De Valken 3 - Mierlo 8
DESCRIPTION:Baan 15\, Afdeling H-klasse 
DTSTART:20201101T111500
DTEND:20201101T130000
LOCATION:City Resort Helmond
ATTACH;FMTTYPE=text/plain:https://hbb.rivio.dev/jeugd/2020/wedstrijd/26446
END:VEVENT
BEGIN:VEVENT
UID:https://hbb.rivio.dev/jeugd/2020/wedstrijd/26503
DTSTAMP:20260420T164831Z
SUMMARY:Mierlo 8 - Phoenix 5
DESCRIPTION:Baan 14\, Afdeling H-klasse 
DTSTART:20201129T093000
DTEND:20201129T111500
LOCATION:City Resort Helmond
ATTACH;FMTTYPE=text/plain:https://hbb.rivio.dev/jeugd/2020/wedstrijd/26503
END:VEVENT
BEGIN:VEVENT
UID:https://hbb.rivio.dev/jeugd/2020/wedstrijd/26505
DTSTAMP:20260420T164831Z
SUMMARY:Mierlo 8 - Mixed 8
DESCRIPTION:Baan 14\, Afdeling H-klasse 
DTSTART:20201129T111500
DTEND:20201129T130000
LOCATION:City Resort Helmond
ATTACH;FMTTYPE=text/plain:https://hbb.rivio.dev/jeugd/2020/wedstrijd/26505
END:VEVENT
BEGIN:VEVENT
UID:https://hbb.rivio.dev/jeugd/2020/wedstrijd/26517
DTSTAMP:20260420T164831Z
SUMMARY:Mixed 7 - Mierlo 8
DESCRIPTION:Baan 14\, Afdeling H-klasse 
DTSTART:20201213T093000
DTEND:20201213T111500
LOCATION:City Resort Helmond
ATTACH;FMTTYPE=text/plain:https://hbb.rivio.dev/jeugd/2020/wedstrijd/26517
END:VEVENT
BEGIN:VEVENT
UID:https://hbb.rivio.dev/jeugd/2020/wedstrijd/26520
DTSTAMP:20260420T164831Z
SUMMARY:Phoenix 5 - Mierlo 8
DESCRIPTION:Baan 15\, Afdeling H-klasse 
DTSTART:20201213T111500
DTEND:20201213T130000
LOCATION:City Resort Helmond
ATTACH;FMTTYPE=text/plain:https://hbb.rivio.dev/jeugd/2020/wedstrijd/26520
END:VEVENT
BEGIN:VEVENT
UID:https://hbb.rivio.dev/jeugd/2020/wedstrijd/26534
DTSTAMP:20260420T164831Z
SUMMARY:Mierlo 8 - De Valken 3
DESCRIPTION:Baan 15\, Afdeling H-klasse 
DTSTART:20210110T093000
DTEND:20210110T111500
LOCATION:City Resort Helmond
ATTACH;FMTTYPE=text/plain:https://hbb.rivio.dev/jeugd/2020/wedstrijd/26534
END:VEVENT
BEGIN:VEVENT
UID:https://hbb.rivio.dev/jeugd/2020/wedstrijd/26535
DTSTAMP:20260420T164831Z
SUMMARY:Mierlo 8 - Mixed 7
DESCRIPTION:Baan 14\, Afdeling H-klasse 
DTSTART:20210110T111500
DTEND:20210110T130000
LOCATION:City Resort Helmond
ATTACH;FMTTYPE=text/plain:https://hbb.rivio.dev/jeugd/2020/wedstrijd/26535
END:VEVENT
BEGIN:VEVENT
UID:https://hbb.rivio.dev/jeugd/2020/wedstrijd/26544
DTSTAMP:20260420T164831Z
SUMMARY:Mixed 8 - Mierlo 8
DESCRIPTION:Baan 15\, Afdeling H-klasse 
DTSTART:20210117T093000
DTEND:20210117T111500
LOCATION:City Resort Helmond
ATTACH;FMTTYPE=text/plain:https://hbb.rivio.dev/jeugd/2020/wedstrijd/26544
END:VEVENT
BEGIN:VEVENT
UID:https://hbb.rivio.dev/jeugd/2020/wedstrijd/26546
DTSTAMP:20260420T164831Z
SUMMARY:De Valken 3 - Mierlo 8
DESCRIPTION:Baan 15\, Afdeling H-klasse 
DTSTART:20210117T111500
DTEND:20210117T130000
LOCATION:City Resort Helmond
ATTACH;FMTTYPE=text/plain:https://hbb.rivio.dev/jeugd/2020/wedstrijd/26546
END:VEVENT
BEGIN:VEVENT
UID:https://hbb.rivio.dev/jeugd/2020/wedstrijd/26581
DTSTAMP:20260420T164831Z
SUMMARY:Mierlo 8 - Phoenix 5
DESCRIPTION:Baan 14\, Afdeling H-klasse 
DTSTART:20210307T093000
DTEND:20210307T111500
LOCATION:City Resort Helmond
ATTACH;FMTTYPE=text/plain:https://hbb.rivio.dev/jeugd/2020/wedstrijd/26581
END:VEVENT
BEGIN:VEVENT
UID:https://hbb.rivio.dev/jeugd/2020/wedstrijd/26583
DTSTAMP:20260420T164831Z
SUMMARY:Mierlo 8 - Mixed 8
DESCRIPTION:Baan 14\, Afdeling H-klasse 
DTSTART:20210307T111500
DTEND:20210307T130000
LOCATION:City Resort Helmond
ATTACH;FMTTYPE=text/plain:https://hbb.rivio.dev/jeugd/2020/wedstrijd/26583
END:VEVENT
BEGIN:VEVENT
UID:https://hbb.rivio.dev/jeugd/2020/wedstrijd/26588
DTSTAMP:20260420T164831Z
SUMMARY:Mixed 7 - Mierlo 8
DESCRIPTION:Baan 9\, Afdeling H-klasse 
DTSTART:20210314T093000
DTEND:20210314T111500
LOCATION:City Resort Helmond
ATTACH;FMTTYPE=text/plain:https://hbb.rivio.dev/jeugd/2020/wedstrijd/26588
END:VEVENT
BEGIN:VEVENT
UID:https://hbb.rivio.dev/jeugd/2020/wedstrijd/26591
DTSTAMP:20260420T164831Z
SUMMARY:Phoenix 5 - Mierlo 8
DESCRIPTION:Baan 10\, Afdeling H-klasse 
DTSTART:20210314T111500
DTEND:20210314T130000
LOCATION:City Resort Helmond
ATTACH;FMTTYPE=text/plain:https://hbb.rivio.dev/jeugd/2020/wedstrijd/26591
END:VEVENT
BEGIN:VTIMEZONE
TZID:Europe/Amsterdam
BEGIN:STANDARD
DTSTART:20200101T000000
TZNAME:CET
TZOFFSETTO:+0100
TZOFFSETFROM:+0100
END:STANDARD
BEGIN:DAYLIGHT
DTSTART:20200329T030000
TZNAME:CEST
TZOFFSETTO:+0200
TZOFFSETFROM:+0100
END:DAYLIGHT
BEGIN:STANDARD
DTSTART:20201025T020000
TZNAME:CET
TZOFFSETTO:+0100
TZOFFSETFROM:+0200
END:STANDARD
BEGIN:DAYLIGHT
DTSTART:20210328T030000
TZNAME:CEST
TZOFFSETTO:+0200
TZOFFSETFROM:+0100
END:DAYLIGHT
BEGIN:STANDARD
DTSTART:20211031T020000
TZNAME:CET
TZOFFSETTO:+0100
TZOFFSETFROM:+0200
END:STANDARD
END:VTIMEZONE
END:VCALENDAR
