BEGIN:VCALENDAR
PRODID:-//eluceo/ical//2.0/EN
VERSION:2.0
CALSCALE:GREGORIAN
BEGIN:VEVENT
UID:https://hbb.rivio.dev/senioren/2020/wedstrijd/26612
DTSTAMP:20260420T165808Z
SUMMARY:Geldrop 1 - Someren 3
DESCRIPTION:Baan 1\, Wedstrijdnummer 137\, Afdeling 2e klasse II
DTSTART:20200930T200000
DTEND:20200930T230000
LOCATION:City Resort Helmond
ATTACH;FMTTYPE=text/plain:https://hbb.rivio.dev/senioren/2020/wedstrijd/266
 12
END:VEVENT
BEGIN:VEVENT
UID:https://hbb.rivio.dev/senioren/2020/wedstrijd/26682
DTSTAMP:20260420T165808Z
SUMMARY:Someren 3 - Gemert 1
DESCRIPTION:Baan 1\, Wedstrijdnummer 143\, Afdeling 2e klasse II
DTSTART:20201029T200000
DTEND:20201029T230000
LOCATION:City Resort Helmond
ATTACH;FMTTYPE=text/plain:https://hbb.rivio.dev/senioren/2020/wedstrijd/266
 82
END:VEVENT
BEGIN:VEVENT
UID:https://hbb.rivio.dev/senioren/2020/wedstrijd/26707
DTSTAMP:20260420T165808Z
SUMMARY:Someren 3 - RBC 2
DESCRIPTION:Baan 12\, Wedstrijdnummer 145\, Afdeling 2e klasse II
DTSTART:20201105T200000
DTEND:20201105T230000
LOCATION:City Resort Helmond
ATTACH;FMTTYPE=text/plain:https://hbb.rivio.dev/senioren/2020/wedstrijd/267
 07
END:VEVENT
BEGIN:VEVENT
UID:https://hbb.rivio.dev/senioren/2020/wedstrijd/26739
DTSTAMP:20260420T165808Z
SUMMARY:Someren 3 - Someren 2
DESCRIPTION:Baan 1\, Wedstrijdnummer 2033\, Afdeling 2e klasse II
DTSTART:20201119T200000
DTEND:20201119T230000
LOCATION:City Resort Helmond
ATTACH;FMTTYPE=text/plain:https://hbb.rivio.dev/senioren/2020/wedstrijd/267
 39
END:VEVENT
BEGIN:VEVENT
UID:https://hbb.rivio.dev/senioren/2020/wedstrijd/26758
DTSTAMP:20260420T165808Z
SUMMARY:Phoenix 3 - Someren 3
DESCRIPTION:Baan 15\, Wedstrijdnummer 147\, Afdeling 2e klasse II
DTSTART:20201125T200000
DTEND:20201125T230000
LOCATION:City Resort Helmond
ATTACH;FMTTYPE=text/plain:https://hbb.rivio.dev/senioren/2020/wedstrijd/267
 58
END:VEVENT
BEGIN:VEVENT
UID:https://hbb.rivio.dev/senioren/2020/wedstrijd/26805
DTSTAMP:20260420T165808Z
SUMMARY:Someren 3 - Bakel 3
DESCRIPTION:Baan 12\, Wedstrijdnummer 152\, Afdeling 2e klasse II
DTSTART:20201210T200000
DTEND:20201210T230000
LOCATION:City Resort Helmond
ATTACH;FMTTYPE=text/plain:https://hbb.rivio.dev/senioren/2020/wedstrijd/268
 05
END:VEVENT
BEGIN:VEVENT
UID:https://hbb.rivio.dev/senioren/2020/wedstrijd/26842
DTSTAMP:20260420T165808Z
SUMMARY:Mierlo 7 - Someren 3
DESCRIPTION:Baan 4\, Wedstrijdnummer 154\, Afdeling 2e klasse II
DTSTART:20210107T200000
DTEND:20210107T230000
LOCATION:City Resort Helmond
ATTACH;FMTTYPE=text/plain:https://hbb.rivio.dev/senioren/2020/wedstrijd/268
 42
END:VEVENT
BEGIN:VEVENT
UID:https://hbb.rivio.dev/senioren/2020/wedstrijd/26869
DTSTAMP:20260420T165808Z
SUMMARY:Someren 3 - Geldrop 1
DESCRIPTION:Baan 5\, Wedstrijdnummer 1137\, Afdeling 2e klasse II
DTSTART:20210121T200000
DTEND:20210121T230000
LOCATION:City Resort Helmond
ATTACH;FMTTYPE=text/plain:https://hbb.rivio.dev/senioren/2020/wedstrijd/268
 69
END:VEVENT
BEGIN:VEVENT
UID:https://hbb.rivio.dev/senioren/2020/wedstrijd/26920
DTSTAMP:20260420T165808Z
SUMMARY:Gemert 1 - Someren 3
DESCRIPTION:Baan 11\, Wedstrijdnummer 1143\, Afdeling 2e klasse II
DTSTART:20210210T200000
DTEND:20210210T230000
LOCATION:City Resort Helmond
ATTACH;FMTTYPE=text/plain:https://hbb.rivio.dev/senioren/2020/wedstrijd/269
 20
END:VEVENT
BEGIN:VEVENT
UID:https://hbb.rivio.dev/senioren/2020/wedstrijd/26955
DTSTAMP:20260420T165808Z
SUMMARY:RBC 2 - Someren 3
DESCRIPTION:Baan 1\, Wedstrijdnummer 1145\, Afdeling 2e klasse II
DTSTART:20210304T200000
DTEND:20210304T230000
LOCATION:City Resort Helmond
ATTACH;FMTTYPE=text/plain:https://hbb.rivio.dev/senioren/2020/wedstrijd/269
 55
END:VEVENT
BEGIN:VEVENT
UID:https://hbb.rivio.dev/senioren/2020/wedstrijd/26977
DTSTAMP:20260420T165808Z
SUMMARY:Someren 3 - Phoenix 3
DESCRIPTION:Baan 12\, Wedstrijdnummer 1147\, Afdeling 2e klasse II
DTSTART:20210311T200000
DTEND:20210311T230000
LOCATION:City Resort Helmond
ATTACH;FMTTYPE=text/plain:https://hbb.rivio.dev/senioren/2020/wedstrijd/269
 77
END:VEVENT
BEGIN:VEVENT
UID:https://hbb.rivio.dev/senioren/2020/wedstrijd/27003
DTSTAMP:20260420T165808Z
SUMMARY:Bakel 3 - Someren 3
DESCRIPTION:Baan 3\, Wedstrijdnummer 1152\, Afdeling 2e klasse II
DTSTART:20210325T200000
DTEND:20210325T230000
LOCATION:City Resort Helmond
ATTACH;FMTTYPE=text/plain:https://hbb.rivio.dev/senioren/2020/wedstrijd/270
 03
END:VEVENT
BEGIN:VEVENT
UID:https://hbb.rivio.dev/senioren/2020/wedstrijd/27025
DTSTAMP:20260420T165808Z
SUMMARY:Someren 3 - Mierlo 7
DESCRIPTION:Baan 1\, Wedstrijdnummer 1154\, Afdeling 2e klasse II
DTSTART:20210415T200000
DTEND:20210415T230000
LOCATION:City Resort Helmond
ATTACH;FMTTYPE=text/plain:https://hbb.rivio.dev/senioren/2020/wedstrijd/270
 25
END:VEVENT
BEGIN:VTIMEZONE
TZID:Europe/Amsterdam
BEGIN:STANDARD
DTSTART:20200101T000000
TZNAME:CET
TZOFFSETTO:+0100
TZOFFSETFROM:+0100
END:STANDARD
BEGIN:DAYLIGHT
DTSTART:20200329T030000
TZNAME:CEST
TZOFFSETTO:+0200
TZOFFSETFROM:+0100
END:DAYLIGHT
BEGIN:STANDARD
DTSTART:20201025T020000
TZNAME:CET
TZOFFSETTO:+0100
TZOFFSETFROM:+0200
END:STANDARD
BEGIN:DAYLIGHT
DTSTART:20210328T030000
TZNAME:CEST
TZOFFSETTO:+0200
TZOFFSETFROM:+0100
END:DAYLIGHT
BEGIN:STANDARD
DTSTART:20211031T020000
TZNAME:CET
TZOFFSETTO:+0100
TZOFFSETFROM:+0200
END:STANDARD
END:VTIMEZONE
END:VCALENDAR
