BEGIN:VCALENDAR
PRODID:-//eluceo/ical//2.0/EN
VERSION:2.0
CALSCALE:GREGORIAN
BEGIN:VEVENT
UID:https://hbb.rivio.dev/senioren/2020/wedstrijd/26607
DTSTAMP:20260420T133655Z
SUMMARY:Someren 2 - Mierlo 6
DESCRIPTION:Baan 11\, Wedstrijdnummer 109\, Afdeling 2e klasse I
DTSTART:20200924T200000
DTEND:20200924T230000
LOCATION:City Resort Helmond
ATTACH;FMTTYPE=text/plain:https://hbb.rivio.dev/senioren/2020/wedstrijd/266
 07
END:VEVENT
BEGIN:VEVENT
UID:https://hbb.rivio.dev/senioren/2020/wedstrijd/26636
DTSTAMP:20260420T133655Z
SUMMARY:Gemert 2 - Someren 2
DESCRIPTION:Baan 5\, Wedstrijdnummer 113\, Afdeling 2e klasse I
DTSTART:20201007T200000
DTEND:20201007T230000
LOCATION:City Resort Helmond
ATTACH;FMTTYPE=text/plain:https://hbb.rivio.dev/senioren/2020/wedstrijd/266
 36
END:VEVENT
BEGIN:VEVENT
UID:https://hbb.rivio.dev/senioren/2020/wedstrijd/26670
DTSTAMP:20260420T133655Z
SUMMARY:Someren 2 - De Valken 3
DESCRIPTION:Baan 14\, Wedstrijdnummer 117\, Afdeling 2e klasse I
DTSTART:20201015T200000
DTEND:20201015T230000
LOCATION:City Resort Helmond
ATTACH;FMTTYPE=text/plain:https://hbb.rivio.dev/senioren/2020/wedstrijd/266
 70
END:VEVENT
BEGIN:VEVENT
UID:https://hbb.rivio.dev/senioren/2020/wedstrijd/26706
DTSTAMP:20260420T133655Z
SUMMARY:Someren 2 - Hanevoet 3
DESCRIPTION:Baan 11\, Wedstrijdnummer 119\, Afdeling 2e klasse I
DTSTART:20201105T200000
DTEND:20201105T230000
LOCATION:City Resort Helmond
ATTACH;FMTTYPE=text/plain:https://hbb.rivio.dev/senioren/2020/wedstrijd/267
 06
END:VEVENT
BEGIN:VEVENT
UID:https://hbb.rivio.dev/senioren/2020/wedstrijd/26739
DTSTAMP:20260420T133655Z
SUMMARY:Someren 3 - Someren 2
DESCRIPTION:Baan 1\, Wedstrijdnummer 2033\, Afdeling 2e klasse II
DTSTART:20201119T200000
DTEND:20201119T230000
LOCATION:City Resort Helmond
ATTACH;FMTTYPE=text/plain:https://hbb.rivio.dev/senioren/2020/wedstrijd/267
 39
END:VEVENT
BEGIN:VEVENT
UID:https://hbb.rivio.dev/senioren/2020/wedstrijd/26767
DTSTAMP:20260420T133655Z
SUMMARY:Mixed 5 - Someren 2
DESCRIPTION:Baan 14\, Wedstrijdnummer 124\, Afdeling 2e klasse I
DTSTART:20201126T200000
DTEND:20201126T230000
LOCATION:City Resort Helmond
ATTACH;FMTTYPE=text/plain:https://hbb.rivio.dev/senioren/2020/wedstrijd/267
 67
END:VEVENT
BEGIN:VEVENT
UID:https://hbb.rivio.dev/senioren/2020/wedstrijd/26804
DTSTAMP:20260420T133655Z
SUMMARY:Someren 2 - Geldrop 2
DESCRIPTION:Baan 11\, Wedstrijdnummer 129\, Afdeling 2e klasse I
DTSTART:20201210T200000
DTEND:20201210T230000
LOCATION:City Resort Helmond
ATTACH;FMTTYPE=text/plain:https://hbb.rivio.dev/senioren/2020/wedstrijd/268
 04
END:VEVENT
BEGIN:VEVENT
UID:https://hbb.rivio.dev/senioren/2020/wedstrijd/26841
DTSTAMP:20260420T133655Z
SUMMARY:Con Brio 4 - Someren 2
DESCRIPTION:Baan 3\, Wedstrijdnummer 134\, Afdeling 2e klasse I
DTSTART:20210107T200000
DTEND:20210107T230000
LOCATION:City Resort Helmond
ATTACH;FMTTYPE=text/plain:https://hbb.rivio.dev/senioren/2020/wedstrijd/268
 41
END:VEVENT
BEGIN:VEVENT
UID:https://hbb.rivio.dev/senioren/2020/wedstrijd/26866
DTSTAMP:20260420T133655Z
SUMMARY:Mierlo 6 - Someren 2
DESCRIPTION:Baan 2\, Wedstrijdnummer 1109\, Afdeling 2e klasse I
DTSTART:20210121T200000
DTEND:20210121T230000
LOCATION:City Resort Helmond
ATTACH;FMTTYPE=text/plain:https://hbb.rivio.dev/senioren/2020/wedstrijd/268
 66
END:VEVENT
BEGIN:VEVENT
UID:https://hbb.rivio.dev/senioren/2020/wedstrijd/26894
DTSTAMP:20260420T133655Z
SUMMARY:Someren 2 - Gemert 2
DESCRIPTION:Baan 15\, Wedstrijdnummer 1113\, Afdeling 2e klasse I
DTSTART:20210128T200000
DTEND:20210128T230000
LOCATION:City Resort Helmond
ATTACH;FMTTYPE=text/plain:https://hbb.rivio.dev/senioren/2020/wedstrijd/268
 94
END:VEVENT
BEGIN:VEVENT
UID:https://hbb.rivio.dev/senioren/2020/wedstrijd/26931
DTSTAMP:20260420T133655Z
SUMMARY:De Valken 3 - Someren 2
DESCRIPTION:Baan 12\, Wedstrijdnummer 1117\, Afdeling 2e klasse I
DTSTART:20210211T200000
DTEND:20210211T230000
LOCATION:City Resort Helmond
ATTACH;FMTTYPE=text/plain:https://hbb.rivio.dev/senioren/2020/wedstrijd/269
 31
END:VEVENT
BEGIN:VEVENT
UID:https://hbb.rivio.dev/senioren/2020/wedstrijd/26946
DTSTAMP:20260420T133655Z
SUMMARY:Hanevoet 3 - Someren 2
DESCRIPTION:Baan 15\, Wedstrijdnummer 1119\, Afdeling 2e klasse I
DTSTART:20210225T200000
DTEND:20210225T230000
LOCATION:City Resort Helmond
ATTACH;FMTTYPE=text/plain:https://hbb.rivio.dev/senioren/2020/wedstrijd/269
 46
END:VEVENT
BEGIN:VEVENT
UID:https://hbb.rivio.dev/senioren/2020/wedstrijd/26976
DTSTAMP:20260420T133655Z
SUMMARY:Someren 2 - Mixed 5
DESCRIPTION:Baan 11\, Wedstrijdnummer 1124\, Afdeling 2e klasse I
DTSTART:20210311T200000
DTEND:20210311T230000
LOCATION:City Resort Helmond
ATTACH;FMTTYPE=text/plain:https://hbb.rivio.dev/senioren/2020/wedstrijd/269
 76
END:VEVENT
BEGIN:VEVENT
UID:https://hbb.rivio.dev/senioren/2020/wedstrijd/26996
DTSTAMP:20260420T133655Z
SUMMARY:Geldrop 2 - Someren 2
DESCRIPTION:Baan 4\, Wedstrijdnummer 1129\, Afdeling 2e klasse I
DTSTART:20210324T200000
DTEND:20210324T230000
LOCATION:City Resort Helmond
ATTACH;FMTTYPE=text/plain:https://hbb.rivio.dev/senioren/2020/wedstrijd/269
 96
END:VEVENT
BEGIN:VEVENT
UID:https://hbb.rivio.dev/senioren/2020/wedstrijd/27024
DTSTAMP:20260420T133655Z
SUMMARY:Someren 2 - Con Brio 4
DESCRIPTION:Baan 15\, Wedstrijdnummer 1134\, Afdeling 2e klasse I
DTSTART:20210401T200000
DTEND:20210401T230000
LOCATION:City Resort Helmond
ATTACH;FMTTYPE=text/plain:https://hbb.rivio.dev/senioren/2020/wedstrijd/270
 24
END:VEVENT
BEGIN:VTIMEZONE
TZID:Europe/Amsterdam
BEGIN:STANDARD
DTSTART:20200101T000000
TZNAME:CET
TZOFFSETTO:+0100
TZOFFSETFROM:+0100
END:STANDARD
BEGIN:DAYLIGHT
DTSTART:20200329T030000
TZNAME:CEST
TZOFFSETTO:+0200
TZOFFSETFROM:+0100
END:DAYLIGHT
BEGIN:STANDARD
DTSTART:20201025T020000
TZNAME:CET
TZOFFSETTO:+0100
TZOFFSETFROM:+0200
END:STANDARD
BEGIN:DAYLIGHT
DTSTART:20210328T030000
TZNAME:CEST
TZOFFSETTO:+0200
TZOFFSETFROM:+0100
END:DAYLIGHT
BEGIN:STANDARD
DTSTART:20211031T020000
TZNAME:CET
TZOFFSETTO:+0100
TZOFFSETFROM:+0200
END:STANDARD
END:VTIMEZONE
END:VCALENDAR
