BEGIN:VCALENDAR
PRODID:-//eluceo/ical//2.0/EN
VERSION:2.0
CALSCALE:GREGORIAN
BEGIN:VEVENT
UID:https://hbb.rivio.dev/senioren/2020/wedstrijd/26602
DTSTAMP:20260420T134022Z
SUMMARY:Bakel 2 - BC '85 1
DESCRIPTION:Baan 1\, Wedstrijdnummer 79\, Afdeling 1e klasse 
DTSTART:20200924T200000
DTEND:20200924T230000
LOCATION:City Resort Helmond
ATTACH;FMTTYPE=text/plain:https://hbb.rivio.dev/senioren/2020/wedstrijd/266
 02
END:VEVENT
BEGIN:VEVENT
UID:https://hbb.rivio.dev/senioren/2020/wedstrijd/26664
DTSTAMP:20260420T134022Z
SUMMARY:Bakel 2 - De Valken 2
DESCRIPTION:Baan 3\, Wedstrijdnummer 87\, Afdeling 1e klasse 
DTSTART:20201015T200000
DTEND:20201015T230000
LOCATION:City Resort Helmond
ATTACH;FMTTYPE=text/plain:https://hbb.rivio.dev/senioren/2020/wedstrijd/266
 64
END:VEVENT
BEGIN:VEVENT
UID:https://hbb.rivio.dev/senioren/2020/wedstrijd/26691
DTSTAMP:20260420T134022Z
SUMMARY:Hanevoet 2 - Bakel 2
DESCRIPTION:Baan 15\, Wedstrijdnummer 91\, Afdeling 1e klasse 
DTSTART:20201029T200000
DTEND:20201029T230000
LOCATION:City Resort Helmond
ATTACH;FMTTYPE=text/plain:https://hbb.rivio.dev/senioren/2020/wedstrijd/266
 91
END:VEVENT
BEGIN:VEVENT
UID:https://hbb.rivio.dev/senioren/2020/wedstrijd/26761
DTSTAMP:20260420T134022Z
SUMMARY:Bakel 2 - Mierlo 5
DESCRIPTION:Baan 3\, Wedstrijdnummer 95\, Afdeling 1e klasse 
DTSTART:20201126T200000
DTEND:20201126T230000
LOCATION:City Resort Helmond
ATTACH;FMTTYPE=text/plain:https://hbb.rivio.dev/senioren/2020/wedstrijd/267
 61
END:VEVENT
BEGIN:VEVENT
UID:https://hbb.rivio.dev/senioren/2020/wedstrijd/26800
DTSTAMP:20260420T134022Z
SUMMARY:Mixed 4 - Bakel 2
DESCRIPTION:Baan 2\, Wedstrijdnummer 99\, Afdeling 1e klasse 
DTSTART:20201210T200000
DTEND:20201210T230000
LOCATION:City Resort Helmond
ATTACH;FMTTYPE=text/plain:https://hbb.rivio.dev/senioren/2020/wedstrijd/268
 00
END:VEVENT
BEGIN:VEVENT
UID:https://hbb.rivio.dev/senioren/2020/wedstrijd/26824
DTSTAMP:20260420T134022Z
SUMMARY:Bakel 2 - Smashing Bruang 2
DESCRIPTION:Baan 11\, Wedstrijdnummer 103\, Afdeling 1e klasse 
DTSTART:20201217T200000
DTEND:20201217T230000
LOCATION:City Resort Helmond
ATTACH;FMTTYPE=text/plain:https://hbb.rivio.dev/senioren/2020/wedstrijd/268
 24
END:VEVENT
BEGIN:VEVENT
UID:https://hbb.rivio.dev/senioren/2020/wedstrijd/26854
DTSTAMP:20260420T134022Z
SUMMARY:BC '85 1 - Bakel 2
DESCRIPTION:Baan 5\, Wedstrijdnummer 1079\, Afdeling 1e klasse 
DTSTART:20210114T200000
DTEND:20210114T230000
LOCATION:City Resort Helmond
ATTACH;FMTTYPE=text/plain:https://hbb.rivio.dev/senioren/2020/wedstrijd/268
 54
END:VEVENT
BEGIN:VEVENT
UID:https://hbb.rivio.dev/senioren/2020/wedstrijd/26925
DTSTAMP:20260420T134022Z
SUMMARY:De Valken 2 - Bakel 2
DESCRIPTION:Baan 1\, Wedstrijdnummer 1087\, Afdeling 1e klasse 
DTSTART:20210211T200000
DTEND:20210211T230000
LOCATION:City Resort Helmond
ATTACH;FMTTYPE=text/plain:https://hbb.rivio.dev/senioren/2020/wedstrijd/269
 25
END:VEVENT
BEGIN:VEVENT
UID:https://hbb.rivio.dev/senioren/2020/wedstrijd/26942
DTSTAMP:20260420T134022Z
SUMMARY:Bakel 2 - Hanevoet 2
DESCRIPTION:Baan 11\, Wedstrijdnummer 1091\, Afdeling 1e klasse 
DTSTART:20210225T200000
DTEND:20210225T230000
LOCATION:City Resort Helmond
ATTACH;FMTTYPE=text/plain:https://hbb.rivio.dev/senioren/2020/wedstrijd/269
 42
END:VEVENT
BEGIN:VEVENT
UID:https://hbb.rivio.dev/senioren/2020/wedstrijd/26962
DTSTAMP:20260420T134022Z
SUMMARY:Mierlo 5 - Bakel 2
DESCRIPTION:Baan 13\, Wedstrijdnummer 1095\, Afdeling 1e klasse 
DTSTART:20210304T200000
DTEND:20210304T230000
LOCATION:City Resort Helmond
ATTACH;FMTTYPE=text/plain:https://hbb.rivio.dev/senioren/2020/wedstrijd/269
 62
END:VEVENT
BEGIN:VEVENT
UID:https://hbb.rivio.dev/senioren/2020/wedstrijd/26990
DTSTAMP:20260420T134022Z
SUMMARY:Bakel 2 - Mixed 4
DESCRIPTION:Baan 13\, Wedstrijdnummer 1099\, Afdeling 1e klasse 
DTSTART:20210318T200000
DTEND:20210318T230000
LOCATION:City Resort Helmond
ATTACH;FMTTYPE=text/plain:https://hbb.rivio.dev/senioren/2020/wedstrijd/269
 90
END:VEVENT
BEGIN:VEVENT
UID:https://hbb.rivio.dev/senioren/2020/wedstrijd/27017
DTSTAMP:20260420T134022Z
SUMMARY:Smashing Bruang 2 - Bakel 2
DESCRIPTION:Baan 1\, Wedstrijdnummer 1103\, Afdeling 1e klasse 
DTSTART:20210401T200000
DTEND:20210401T230000
LOCATION:City Resort Helmond
ATTACH;FMTTYPE=text/plain:https://hbb.rivio.dev/senioren/2020/wedstrijd/270
 17
END:VEVENT
BEGIN:VTIMEZONE
TZID:Europe/Amsterdam
BEGIN:STANDARD
DTSTART:20200101T000000
TZNAME:CET
TZOFFSETTO:+0100
TZOFFSETFROM:+0100
END:STANDARD
BEGIN:DAYLIGHT
DTSTART:20200329T030000
TZNAME:CEST
TZOFFSETTO:+0200
TZOFFSETFROM:+0100
END:DAYLIGHT
BEGIN:STANDARD
DTSTART:20201025T020000
TZNAME:CET
TZOFFSETTO:+0100
TZOFFSETFROM:+0200
END:STANDARD
BEGIN:DAYLIGHT
DTSTART:20210328T030000
TZNAME:CEST
TZOFFSETTO:+0200
TZOFFSETFROM:+0100
END:DAYLIGHT
BEGIN:STANDARD
DTSTART:20211031T020000
TZNAME:CET
TZOFFSETTO:+0100
TZOFFSETFROM:+0200
END:STANDARD
END:VTIMEZONE
END:VCALENDAR
