BEGIN:VCALENDAR
PRODID:-//eluceo/ical//2.0/EN
VERSION:2.0
CALSCALE:GREGORIAN
BEGIN:VEVENT
UID:https://hbb.rivio.dev/senioren/2020/wedstrijd/26598
DTSTAMP:20260420T151637Z
SUMMARY:Brabantia 1 - Ganzeveer 1
DESCRIPTION:Baan 12\, Wedstrijdnummer 3\, Afdeling Topklasse 
DTSTART:20200923T200000
DTEND:20200923T230000
LOCATION:City Resort Helmond
ATTACH;FMTTYPE=text/plain:https://hbb.rivio.dev/senioren/2020/wedstrijd/265
 98
END:VEVENT
BEGIN:VEVENT
UID:https://hbb.rivio.dev/senioren/2020/wedstrijd/26633
DTSTAMP:20260420T151637Z
SUMMARY:Mixed 1 - Brabantia 1
DESCRIPTION:Baan 2\, Wedstrijdnummer 6\, Afdeling Topklasse 
DTSTART:20201007T200000
DTEND:20201007T230000
LOCATION:City Resort Helmond
ATTACH;FMTTYPE=text/plain:https://hbb.rivio.dev/senioren/2020/wedstrijd/266
 33
END:VEVENT
BEGIN:VEVENT
UID:https://hbb.rivio.dev/senioren/2020/wedstrijd/26693
DTSTAMP:20260420T151637Z
SUMMARY:Brabantia 1 - Con Brio 1
DESCRIPTION:Baan 2\, Wedstrijdnummer 10\, Afdeling Topklasse 
DTSTART:20201104T200000
DTEND:20201104T230000
LOCATION:City Resort Helmond
ATTACH;FMTTYPE=text/plain:https://hbb.rivio.dev/senioren/2020/wedstrijd/266
 93
END:VEVENT
BEGIN:VEVENT
UID:https://hbb.rivio.dev/senioren/2020/wedstrijd/26729
DTSTAMP:20260420T151637Z
SUMMARY:Brabantia 1 - Mierlo 1
DESCRIPTION:Baan 1\, Wedstrijdnummer 2001\, Afdeling Topklasse 
DTSTART:20201118T200000
DTEND:20201118T230000
LOCATION:City Resort Helmond
ATTACH;FMTTYPE=text/plain:https://hbb.rivio.dev/senioren/2020/wedstrijd/267
 29
END:VEVENT
BEGIN:VEVENT
UID:https://hbb.rivio.dev/senioren/2020/wedstrijd/26754
DTSTAMP:20260420T151637Z
SUMMARY:Con Brio 2 - Brabantia 1
DESCRIPTION:Baan 11\, Wedstrijdnummer 14\, Afdeling Topklasse 
DTSTART:20201125T200000
DTEND:20201125T230000
LOCATION:City Resort Helmond
ATTACH;FMTTYPE=text/plain:https://hbb.rivio.dev/senioren/2020/wedstrijd/267
 54
END:VEVENT
BEGIN:VEVENT
UID:https://hbb.rivio.dev/senioren/2020/wedstrijd/26778
DTSTAMP:20260420T151637Z
SUMMARY:Brabantia 1 - Mierlo 1
DESCRIPTION:Baan 15\, Wedstrijdnummer 17\, Afdeling Topklasse 
DTSTART:20201202T200000
DTEND:20201202T230000
LOCATION:City Resort Helmond
ATTACH;FMTTYPE=text/plain:https://hbb.rivio.dev/senioren/2020/wedstrijd/267
 78
END:VEVENT
BEGIN:VEVENT
UID:https://hbb.rivio.dev/senioren/2020/wedstrijd/26815
DTSTAMP:20260420T151637Z
SUMMARY:Mierlo 2 - Brabantia 1
DESCRIPTION:Baan 12\, Wedstrijdnummer 21\, Afdeling Topklasse 
DTSTART:20201216T200000
DTEND:20201216T230000
LOCATION:City Resort Helmond
ATTACH;FMTTYPE=text/plain:https://hbb.rivio.dev/senioren/2020/wedstrijd/268
 15
END:VEVENT
BEGIN:VEVENT
UID:https://hbb.rivio.dev/senioren/2020/wedstrijd/26835
DTSTAMP:20260420T151637Z
SUMMARY:Ganzeveer 1 - Brabantia 1
DESCRIPTION:Baan 12\, Wedstrijdnummer 1003\, Afdeling Topklasse 
DTSTART:20210106T200000
DTEND:20210106T230000
LOCATION:City Resort Helmond
ATTACH;FMTTYPE=text/plain:https://hbb.rivio.dev/senioren/2020/wedstrijd/268
 35
END:VEVENT
BEGIN:VEVENT
UID:https://hbb.rivio.dev/senioren/2020/wedstrijd/26882
DTSTAMP:20260420T151637Z
SUMMARY:Brabantia 1 - Mixed 1
DESCRIPTION:Baan 13\, Wedstrijdnummer 1006\, Afdeling Topklasse 
DTSTART:20210127T200000
DTEND:20210127T230000
LOCATION:City Resort Helmond
ATTACH;FMTTYPE=text/plain:https://hbb.rivio.dev/senioren/2020/wedstrijd/268
 82
END:VEVENT
BEGIN:VEVENT
UID:https://hbb.rivio.dev/senioren/2020/wedstrijd/26945
DTSTAMP:20260420T151637Z
SUMMARY:Con Brio 1 - Brabantia 1
DESCRIPTION:Baan 14\, Wedstrijdnummer 1010\, Afdeling Topklasse 
DTSTART:20210225T200000
DTEND:20210225T230000
LOCATION:City Resort Helmond
ATTACH;FMTTYPE=text/plain:https://hbb.rivio.dev/senioren/2020/wedstrijd/269
 45
END:VEVENT
BEGIN:VEVENT
UID:https://hbb.rivio.dev/senioren/2020/wedstrijd/26969
DTSTAMP:20260420T151637Z
SUMMARY:Brabantia 1 - Con Brio 2
DESCRIPTION:Baan 5\, Wedstrijdnummer 1014\, Afdeling Topklasse 
DTSTART:20210310T200000
DTEND:20210310T230000
LOCATION:City Resort Helmond
ATTACH;FMTTYPE=text/plain:https://hbb.rivio.dev/senioren/2020/wedstrijd/269
 69
END:VEVENT
BEGIN:VEVENT
UID:https://hbb.rivio.dev/senioren/2020/wedstrijd/26993
DTSTAMP:20260420T151637Z
SUMMARY:Mierlo 1 - Brabantia 1
DESCRIPTION:Baan 1\, Wedstrijdnummer 1017\, Afdeling Topklasse 
DTSTART:20210324T200000
DTEND:20210324T230000
LOCATION:City Resort Helmond
ATTACH;FMTTYPE=text/plain:https://hbb.rivio.dev/senioren/2020/wedstrijd/269
 93
END:VEVENT
BEGIN:VEVENT
UID:https://hbb.rivio.dev/senioren/2020/wedstrijd/27022
DTSTAMP:20260420T151637Z
SUMMARY:Brabantia 1 - Mierlo 2
DESCRIPTION:Baan 13\, Wedstrijdnummer 1021\, Afdeling Topklasse 
DTSTART:20210401T200000
DTEND:20210401T230000
LOCATION:City Resort Helmond
ATTACH;FMTTYPE=text/plain:https://hbb.rivio.dev/senioren/2020/wedstrijd/270
 22
END:VEVENT
BEGIN:VTIMEZONE
TZID:Europe/Amsterdam
BEGIN:STANDARD
DTSTART:20200101T000000
TZNAME:CET
TZOFFSETTO:+0100
TZOFFSETFROM:+0100
END:STANDARD
BEGIN:DAYLIGHT
DTSTART:20200329T030000
TZNAME:CEST
TZOFFSETTO:+0200
TZOFFSETFROM:+0100
END:DAYLIGHT
BEGIN:STANDARD
DTSTART:20201025T020000
TZNAME:CET
TZOFFSETTO:+0100
TZOFFSETFROM:+0200
END:STANDARD
BEGIN:DAYLIGHT
DTSTART:20210328T030000
TZNAME:CEST
TZOFFSETTO:+0200
TZOFFSETFROM:+0100
END:DAYLIGHT
BEGIN:STANDARD
DTSTART:20211031T020000
TZNAME:CET
TZOFFSETTO:+0100
TZOFFSETFROM:+0200
END:STANDARD
END:VTIMEZONE
END:VCALENDAR
