BEGIN:VCALENDAR
PRODID:-//eluceo/ical//2.0/EN
VERSION:2.0
CALSCALE:GREGORIAN
BEGIN:VEVENT
UID:https://hbb.rivio.dev/senioren/2020/wedstrijd/26601
DTSTAMP:20260420T151754Z
SUMMARY:Phoenix 3 - RBC 2
DESCRIPTION:Baan 15\, Wedstrijdnummer 135\, Afdeling 2e klasse II
DTSTART:20200923T200000
DTEND:20200923T230000
LOCATION:City Resort Helmond
ATTACH;FMTTYPE=text/plain:https://hbb.rivio.dev/senioren/2020/wedstrijd/266
 01
END:VEVENT
BEGIN:VEVENT
UID:https://hbb.rivio.dev/senioren/2020/wedstrijd/26638
DTSTAMP:20260420T151754Z
SUMMARY:Mierlo 7 - Phoenix 3
DESCRIPTION:Baan 12\, Wedstrijdnummer 138\, Afdeling 2e klasse II
DTSTART:20201007T200000
DTEND:20201007T230000
LOCATION:City Resort Helmond
ATTACH;FMTTYPE=text/plain:https://hbb.rivio.dev/senioren/2020/wedstrijd/266
 38
END:VEVENT
BEGIN:VEVENT
UID:https://hbb.rivio.dev/senioren/2020/wedstrijd/26672
DTSTAMP:20260420T151754Z
SUMMARY:Phoenix 3 - Bakel 3
DESCRIPTION:Baan 1\, Wedstrijdnummer 141\, Afdeling 2e klasse II
DTSTART:20201028T200000
DTEND:20201028T230000
LOCATION:City Resort Helmond
ATTACH;FMTTYPE=text/plain:https://hbb.rivio.dev/senioren/2020/wedstrijd/266
 72
END:VEVENT
BEGIN:VEVENT
UID:https://hbb.rivio.dev/senioren/2020/wedstrijd/26698
DTSTAMP:20260420T151754Z
SUMMARY:Geldrop 1 - Phoenix 3
DESCRIPTION:Baan 12\, Wedstrijdnummer 144\, Afdeling 2e klasse II
DTSTART:20201104T200000
DTEND:20201104T230000
LOCATION:City Resort Helmond
ATTACH;FMTTYPE=text/plain:https://hbb.rivio.dev/senioren/2020/wedstrijd/266
 98
END:VEVENT
BEGIN:VEVENT
UID:https://hbb.rivio.dev/senioren/2020/wedstrijd/26732
DTSTAMP:20260420T151754Z
SUMMARY:Phoenix 3 - De Valken 3
DESCRIPTION:Baan 4\, Wedstrijdnummer 2031\, Afdeling 2e klasse II
DTSTART:20201118T200000
DTEND:20201118T230000
LOCATION:City Resort Helmond
ATTACH;FMTTYPE=text/plain:https://hbb.rivio.dev/senioren/2020/wedstrijd/267
 32
END:VEVENT
BEGIN:VEVENT
UID:https://hbb.rivio.dev/senioren/2020/wedstrijd/26758
DTSTAMP:20260420T151754Z
SUMMARY:Phoenix 3 - Someren 3
DESCRIPTION:Baan 15\, Wedstrijdnummer 147\, Afdeling 2e klasse II
DTSTART:20201125T200000
DTEND:20201125T230000
LOCATION:City Resort Helmond
ATTACH;FMTTYPE=text/plain:https://hbb.rivio.dev/senioren/2020/wedstrijd/267
 58
END:VEVENT
BEGIN:VEVENT
UID:https://hbb.rivio.dev/senioren/2020/wedstrijd/26792
DTSTAMP:20260420T151754Z
SUMMARY:Gemert 1 - Phoenix 3
DESCRIPTION:Baan 4\, Wedstrijdnummer 150\, Afdeling 2e klasse II
DTSTART:20201209T200000
DTEND:20201209T230000
LOCATION:City Resort Helmond
ATTACH;FMTTYPE=text/plain:https://hbb.rivio.dev/senioren/2020/wedstrijd/267
 92
END:VEVENT
BEGIN:VEVENT
UID:https://hbb.rivio.dev/senioren/2020/wedstrijd/26867
DTSTAMP:20260420T151754Z
SUMMARY:RBC 2 - Phoenix 3
DESCRIPTION:Baan 3\, Wedstrijdnummer 1135\, Afdeling 2e klasse II
DTSTART:20210121T200000
DTEND:20210121T230000
LOCATION:City Resort Helmond
ATTACH;FMTTYPE=text/plain:https://hbb.rivio.dev/senioren/2020/wedstrijd/268
 67
END:VEVENT
BEGIN:VEVENT
UID:https://hbb.rivio.dev/senioren/2020/wedstrijd/26895
DTSTAMP:20260420T151754Z
SUMMARY:Phoenix 3 - Mierlo 7
DESCRIPTION:Baan 1\, Wedstrijdnummer 1138\, Afdeling 2e klasse II
DTSTART:20210203T200000
DTEND:20210203T230000
LOCATION:City Resort Helmond
ATTACH;FMTTYPE=text/plain:https://hbb.rivio.dev/senioren/2020/wedstrijd/268
 95
END:VEVENT
BEGIN:VEVENT
UID:https://hbb.rivio.dev/senioren/2020/wedstrijd/26932
DTSTAMP:20260420T151754Z
SUMMARY:Bakel 3 - Phoenix 3
DESCRIPTION:Baan 13\, Wedstrijdnummer 1141\, Afdeling 2e klasse II
DTSTART:20210211T200000
DTEND:20210211T230000
LOCATION:City Resort Helmond
ATTACH;FMTTYPE=text/plain:https://hbb.rivio.dev/senioren/2020/wedstrijd/269
 32
END:VEVENT
BEGIN:VEVENT
UID:https://hbb.rivio.dev/senioren/2020/wedstrijd/26951
DTSTAMP:20260420T151754Z
SUMMARY:Phoenix 3 - Geldrop 1
DESCRIPTION:Baan 5\, Wedstrijdnummer 1144\, Afdeling 2e klasse II
DTSTART:20210303T200000
DTEND:20210303T230000
LOCATION:City Resort Helmond
ATTACH;FMTTYPE=text/plain:https://hbb.rivio.dev/senioren/2020/wedstrijd/269
 51
END:VEVENT
BEGIN:VEVENT
UID:https://hbb.rivio.dev/senioren/2020/wedstrijd/26977
DTSTAMP:20260420T151754Z
SUMMARY:Someren 3 - Phoenix 3
DESCRIPTION:Baan 12\, Wedstrijdnummer 1147\, Afdeling 2e klasse II
DTSTART:20210311T200000
DTEND:20210311T230000
LOCATION:City Resort Helmond
ATTACH;FMTTYPE=text/plain:https://hbb.rivio.dev/senioren/2020/wedstrijd/269
 77
END:VEVENT
BEGIN:VEVENT
UID:https://hbb.rivio.dev/senioren/2020/wedstrijd/26997
DTSTAMP:20260420T151754Z
SUMMARY:Phoenix 3 - Gemert 1
DESCRIPTION:Baan 5\, Wedstrijdnummer 1150\, Afdeling 2e klasse II
DTSTART:20210324T200000
DTEND:20210324T230000
LOCATION:City Resort Helmond
ATTACH;FMTTYPE=text/plain:https://hbb.rivio.dev/senioren/2020/wedstrijd/269
 97
END:VEVENT
BEGIN:VTIMEZONE
TZID:Europe/Amsterdam
BEGIN:STANDARD
DTSTART:20200101T000000
TZNAME:CET
TZOFFSETTO:+0100
TZOFFSETFROM:+0100
END:STANDARD
BEGIN:DAYLIGHT
DTSTART:20200329T030000
TZNAME:CEST
TZOFFSETTO:+0200
TZOFFSETFROM:+0100
END:DAYLIGHT
BEGIN:STANDARD
DTSTART:20201025T020000
TZNAME:CET
TZOFFSETTO:+0100
TZOFFSETFROM:+0200
END:STANDARD
BEGIN:DAYLIGHT
DTSTART:20210328T030000
TZNAME:CEST
TZOFFSETTO:+0200
TZOFFSETFROM:+0100
END:DAYLIGHT
BEGIN:STANDARD
DTSTART:20211031T020000
TZNAME:CET
TZOFFSETTO:+0100
TZOFFSETFROM:+0200
END:STANDARD
END:VTIMEZONE
END:VCALENDAR
