BEGIN:VCALENDAR
PRODID:-//eluceo/ical//2.0/EN
VERSION:2.0
CALSCALE:GREGORIAN
BEGIN:VEVENT
UID:https://hbb.rivio.dev/senioren/2020/wedstrijd/26611
DTSTAMP:20260420T103638Z
SUMMARY:Eindhoven 1 - Phoenix 2
DESCRIPTION:Baan 15\, Wedstrijdnummer 45\, Afdeling Overgangsklasse 
DTSTART:20200924T200000
DTEND:20200924T230000
LOCATION:City Resort Helmond
ATTACH;FMTTYPE=text/plain:https://hbb.rivio.dev/senioren/2020/wedstrijd/266
 11
END:VEVENT
BEGIN:VEVENT
UID:https://hbb.rivio.dev/senioren/2020/wedstrijd/26641
DTSTAMP:20260420T103638Z
SUMMARY:Mixed 3 - Phoenix 2
DESCRIPTION:Baan 15\, Wedstrijdnummer 50\, Afdeling Overgangsklasse 
DTSTART:20201007T200000
DTEND:20201007T230000
LOCATION:City Resort Helmond
ATTACH;FMTTYPE=text/plain:https://hbb.rivio.dev/senioren/2020/wedstrijd/266
 41
END:VEVENT
BEGIN:VEVENT
UID:https://hbb.rivio.dev/senioren/2020/wedstrijd/26673
DTSTAMP:20260420T103638Z
SUMMARY:Phoenix 2 - Mierlo 4
DESCRIPTION:Baan 2\, Wedstrijdnummer 52\, Afdeling Overgangsklasse 
DTSTART:20201028T200000
DTEND:20201028T230000
LOCATION:City Resort Helmond
ATTACH;FMTTYPE=text/plain:https://hbb.rivio.dev/senioren/2020/wedstrijd/266
 73
END:VEVENT
BEGIN:VEVENT
UID:https://hbb.rivio.dev/senioren/2020/wedstrijd/26697
DTSTAMP:20260420T103638Z
SUMMARY:Con Brio 3 - Phoenix 2
DESCRIPTION:Baan 11\, Wedstrijdnummer 56\, Afdeling Overgangsklasse 
DTSTART:20201104T200000
DTEND:20201104T230000
LOCATION:City Resort Helmond
ATTACH;FMTTYPE=text/plain:https://hbb.rivio.dev/senioren/2020/wedstrijd/266
 97
END:VEVENT
BEGIN:VEVENT
UID:https://hbb.rivio.dev/senioren/2020/wedstrijd/26743
DTSTAMP:20260420T103638Z
SUMMARY:Bakel 1 - Phoenix 2
DESCRIPTION:Baan 5\, Wedstrijdnummer 2016\, Afdeling Overgangsklasse 
DTSTART:20201119T200000
DTEND:20201119T230000
LOCATION:City Resort Helmond
ATTACH;FMTTYPE=text/plain:https://hbb.rivio.dev/senioren/2020/wedstrijd/267
 43
END:VEVENT
BEGIN:VEVENT
UID:https://hbb.rivio.dev/senioren/2020/wedstrijd/26781
DTSTAMP:20260420T103638Z
SUMMARY:Bakel 1 - Phoenix 2
DESCRIPTION:Baan 3\, Wedstrijdnummer 59\, Afdeling Overgangsklasse 
DTSTART:20201203T200000
DTEND:20201203T230000
LOCATION:City Resort Helmond
ATTACH;FMTTYPE=text/plain:https://hbb.rivio.dev/senioren/2020/wedstrijd/267
 81
END:VEVENT
BEGIN:VEVENT
UID:https://hbb.rivio.dev/senioren/2020/wedstrijd/26795
DTSTAMP:20260420T103638Z
SUMMARY:Phoenix 2 - Brabantia 2
DESCRIPTION:Baan 12\, Wedstrijdnummer 66\, Afdeling Overgangsklasse 
DTSTART:20201209T200000
DTEND:20201209T230000
LOCATION:City Resort Helmond
ATTACH;FMTTYPE=text/plain:https://hbb.rivio.dev/senioren/2020/wedstrijd/267
 95
END:VEVENT
BEGIN:VEVENT
UID:https://hbb.rivio.dev/senioren/2020/wedstrijd/26829
DTSTAMP:20260420T103638Z
SUMMARY:Phoenix 2 - RBC 1
DESCRIPTION:Baan 1\, Wedstrijdnummer 70\, Afdeling Overgangsklasse 
DTSTART:20210106T200000
DTEND:20210106T230000
LOCATION:City Resort Helmond
ATTACH;FMTTYPE=text/plain:https://hbb.rivio.dev/senioren/2020/wedstrijd/268
 29
END:VEVENT
BEGIN:VEVENT
UID:https://hbb.rivio.dev/senioren/2020/wedstrijd/26897
DTSTAMP:20260420T103638Z
SUMMARY:Phoenix 2 - De Valken 1
DESCRIPTION:Baan 3\, Wedstrijdnummer 77\, Afdeling Overgangsklasse 
DTSTART:20210203T200000
DTEND:20210203T230000
LOCATION:City Resort Helmond
ATTACH;FMTTYPE=text/plain:https://hbb.rivio.dev/senioren/2020/wedstrijd/268
 97
END:VEVENT
BEGIN:VTIMEZONE
TZID:Europe/Amsterdam
BEGIN:STANDARD
DTSTART:20200101T000000
TZNAME:CET
TZOFFSETTO:+0100
TZOFFSETFROM:+0100
END:STANDARD
BEGIN:DAYLIGHT
DTSTART:20200329T030000
TZNAME:CEST
TZOFFSETTO:+0200
TZOFFSETFROM:+0100
END:DAYLIGHT
BEGIN:STANDARD
DTSTART:20201025T020000
TZNAME:CET
TZOFFSETTO:+0100
TZOFFSETFROM:+0200
END:STANDARD
BEGIN:DAYLIGHT
DTSTART:20210328T030000
TZNAME:CEST
TZOFFSETTO:+0200
TZOFFSETFROM:+0100
END:DAYLIGHT
BEGIN:STANDARD
DTSTART:20211031T020000
TZNAME:CET
TZOFFSETTO:+0100
TZOFFSETFROM:+0200
END:STANDARD
END:VTIMEZONE
END:VCALENDAR
