BEGIN:VCALENDAR
PRODID:-//eluceo/ical//2.0/EN
VERSION:2.0
CALSCALE:GREGORIAN
BEGIN:VEVENT
UID:https://hbb.rivio.dev/senioren/2020/wedstrijd/26653
DTSTAMP:20260420T134002Z
SUMMARY:Phoenix 1 - Smashing Bruang 1
DESCRIPTION:Baan 2\, Wedstrijdnummer 27\, Afdeling Hoofdklasse 
DTSTART:20201014T200000
DTEND:20201014T230000
LOCATION:City Resort Helmond
ATTACH;FMTTYPE=text/plain:https://hbb.rivio.dev/senioren/2020/wedstrijd/266
 53
END:VEVENT
BEGIN:VEVENT
UID:https://hbb.rivio.dev/senioren/2020/wedstrijd/26690
DTSTAMP:20260420T134002Z
SUMMARY:Someren 1 - Phoenix 1
DESCRIPTION:Baan 14\, Wedstrijdnummer 30\, Afdeling Hoofdklasse 
DTSTART:20201029T200000
DTEND:20201029T230000
LOCATION:City Resort Helmond
ATTACH;FMTTYPE=text/plain:https://hbb.rivio.dev/senioren/2020/wedstrijd/266
 90
END:VEVENT
BEGIN:VEVENT
UID:https://hbb.rivio.dev/senioren/2020/wedstrijd/26715
DTSTAMP:20260420T134002Z
SUMMARY:Phoenix 1 - Hanevoet 1
DESCRIPTION:Baan 11\, Wedstrijdnummer 2008\, Afdeling Hoofdklasse 
DTSTART:20201111T200000
DTEND:20201111T230000
LOCATION:City Resort Helmond
ATTACH;FMTTYPE=text/plain:https://hbb.rivio.dev/senioren/2020/wedstrijd/267
 15
END:VEVENT
BEGIN:VEVENT
UID:https://hbb.rivio.dev/senioren/2020/wedstrijd/26749
DTSTAMP:20260420T134002Z
SUMMARY:Mierlo 3 - Phoenix 1
DESCRIPTION:Baan 1\, Wedstrijdnummer 33\, Afdeling Hoofdklasse 
DTSTART:20201125T200000
DTEND:20201125T230000
LOCATION:City Resort Helmond
ATTACH;FMTTYPE=text/plain:https://hbb.rivio.dev/senioren/2020/wedstrijd/267
 49
END:VEVENT
BEGIN:VEVENT
UID:https://hbb.rivio.dev/senioren/2020/wedstrijd/26772
DTSTAMP:20260420T134002Z
SUMMARY:Mixed 2 - Phoenix 1
DESCRIPTION:Baan 4\, Wedstrijdnummer 36\, Afdeling Hoofdklasse 
DTSTART:20201202T200000
DTEND:20201202T230000
LOCATION:City Resort Helmond
ATTACH;FMTTYPE=text/plain:https://hbb.rivio.dev/senioren/2020/wedstrijd/267
 72
END:VEVENT
BEGIN:VEVENT
UID:https://hbb.rivio.dev/senioren/2020/wedstrijd/26809
DTSTAMP:20260420T134002Z
SUMMARY:Phoenix 1 - BCAB 1
DESCRIPTION:Baan 1\, Wedstrijdnummer 37\, Afdeling Hoofdklasse 
DTSTART:20201216T200000
DTEND:20201216T230000
LOCATION:City Resort Helmond
ATTACH;FMTTYPE=text/plain:https://hbb.rivio.dev/senioren/2020/wedstrijd/268
 09
END:VEVENT
BEGIN:VEVENT
UID:https://hbb.rivio.dev/senioren/2020/wedstrijd/26852
DTSTAMP:20260420T134002Z
SUMMARY:Hanevoet 1 - Phoenix 1
DESCRIPTION:Baan 3\, Wedstrijdnummer 40\, Afdeling Hoofdklasse 
DTSTART:20210114T200000
DTEND:20210114T230000
LOCATION:City Resort Helmond
ATTACH;FMTTYPE=text/plain:https://hbb.rivio.dev/senioren/2020/wedstrijd/268
 52
END:VEVENT
BEGIN:VEVENT
UID:https://hbb.rivio.dev/senioren/2020/wedstrijd/26901
DTSTAMP:20260420T134002Z
SUMMARY:Smashing Bruang 1 - Phoenix 1
DESCRIPTION:Baan 12\, Wedstrijdnummer 1027\, Afdeling Hoofdklasse 
DTSTART:20210203T200000
DTEND:20210203T230000
LOCATION:City Resort Helmond
ATTACH;FMTTYPE=text/plain:https://hbb.rivio.dev/senioren/2020/wedstrijd/269
 01
END:VEVENT
BEGIN:VEVENT
UID:https://hbb.rivio.dev/senioren/2020/wedstrijd/26924
DTSTAMP:20260420T134002Z
SUMMARY:Phoenix 1 - Someren 1
DESCRIPTION:Baan 15\, Wedstrijdnummer 1030\, Afdeling Hoofdklasse 
DTSTART:20210210T200000
DTEND:20210210T230000
LOCATION:City Resort Helmond
ATTACH;FMTTYPE=text/plain:https://hbb.rivio.dev/senioren/2020/wedstrijd/269
 24
END:VEVENT
BEGIN:VEVENT
UID:https://hbb.rivio.dev/senioren/2020/wedstrijd/26966
DTSTAMP:20260420T134002Z
SUMMARY:Phoenix 1 - Mierlo 3
DESCRIPTION:Baan 2\, Wedstrijdnummer 1033\, Afdeling Hoofdklasse 
DTSTART:20210310T200000
DTEND:20210310T230000
LOCATION:City Resort Helmond
ATTACH;FMTTYPE=text/plain:https://hbb.rivio.dev/senioren/2020/wedstrijd/269
 66
END:VEVENT
BEGIN:VEVENT
UID:https://hbb.rivio.dev/senioren/2020/wedstrijd/26980
DTSTAMP:20260420T134002Z
SUMMARY:Phoenix 1 - Mixed 2
DESCRIPTION:Baan 4\, Wedstrijdnummer 1036\, Afdeling Hoofdklasse 
DTSTART:20210317T200000
DTEND:20210317T230000
LOCATION:City Resort Helmond
ATTACH;FMTTYPE=text/plain:https://hbb.rivio.dev/senioren/2020/wedstrijd/269
 80
END:VEVENT
BEGIN:VEVENT
UID:https://hbb.rivio.dev/senioren/2020/wedstrijd/27008
DTSTAMP:20260420T134002Z
SUMMARY:BCAB 1 - Phoenix 1
DESCRIPTION:Baan 13\, Wedstrijdnummer 1037\, Afdeling Hoofdklasse 
DTSTART:20210325T200000
DTEND:20210325T230000
LOCATION:City Resort Helmond
ATTACH;FMTTYPE=text/plain:https://hbb.rivio.dev/senioren/2020/wedstrijd/270
 08
END:VEVENT
BEGIN:VEVENT
UID:https://hbb.rivio.dev/senioren/2020/wedstrijd/27035
DTSTAMP:20260420T134002Z
SUMMARY:Phoenix 1 - Hanevoet 1
DESCRIPTION:Baan 5\, Wedstrijdnummer 1040\, Afdeling Hoofdklasse 
DTSTART:20210421T200000
DTEND:20210421T230000
LOCATION:City Resort Helmond
ATTACH;FMTTYPE=text/plain:https://hbb.rivio.dev/senioren/2020/wedstrijd/270
 35
END:VEVENT
BEGIN:VTIMEZONE
TZID:Europe/Amsterdam
BEGIN:STANDARD
DTSTART:20200101T000000
TZNAME:CET
TZOFFSETTO:+0100
TZOFFSETFROM:+0100
END:STANDARD
BEGIN:DAYLIGHT
DTSTART:20200329T030000
TZNAME:CEST
TZOFFSETTO:+0200
TZOFFSETFROM:+0100
END:DAYLIGHT
BEGIN:STANDARD
DTSTART:20201025T020000
TZNAME:CET
TZOFFSETTO:+0100
TZOFFSETFROM:+0200
END:STANDARD
BEGIN:DAYLIGHT
DTSTART:20210328T030000
TZNAME:CEST
TZOFFSETTO:+0200
TZOFFSETFROM:+0100
END:DAYLIGHT
BEGIN:STANDARD
DTSTART:20211031T020000
TZNAME:CET
TZOFFSETTO:+0100
TZOFFSETFROM:+0200
END:STANDARD
END:VTIMEZONE
END:VCALENDAR
