BEGIN:VCALENDAR
PRODID:-//eluceo/ical//2.0/EN
VERSION:2.0
CALSCALE:GREGORIAN
BEGIN:VEVENT
UID:https://hbb.rivio.dev/senioren/2020/wedstrijd/26651
DTSTAMP:20260420T165123Z
SUMMARY:Mixed 6 - De Valken 4
DESCRIPTION:Baan 15\, Wedstrijdnummer 189\, Afdeling 3e klasse II
DTSTART:20201008T200000
DTEND:20201008T230000
LOCATION:City Resort Helmond
ATTACH;FMTTYPE=text/plain:https://hbb.rivio.dev/senioren/2020/wedstrijd/266
 51
END:VEVENT
BEGIN:VEVENT
UID:https://hbb.rivio.dev/senioren/2020/wedstrijd/26678
DTSTAMP:20260420T165123Z
SUMMARY:Mierlo 8 - Mixed 6
DESCRIPTION:Baan 12\, Wedstrijdnummer 192\, Afdeling 3e klasse II
DTSTART:20201028T200000
DTEND:20201028T230000
LOCATION:City Resort Helmond
ATTACH;FMTTYPE=text/plain:https://hbb.rivio.dev/senioren/2020/wedstrijd/266
 78
END:VEVENT
BEGIN:VEVENT
UID:https://hbb.rivio.dev/senioren/2020/wedstrijd/26711
DTSTAMP:20260420T165123Z
SUMMARY:Mixed 6 - Mierlo 9
DESCRIPTION:Baan 2\, Wedstrijdnummer 2046\, Afdeling 3e klasse II
DTSTART:20201111T200000
DTEND:20201111T230000
LOCATION:City Resort Helmond
ATTACH;FMTTYPE=text/plain:https://hbb.rivio.dev/senioren/2020/wedstrijd/267
 11
END:VEVENT
BEGIN:VEVENT
UID:https://hbb.rivio.dev/senioren/2020/wedstrijd/26748
DTSTAMP:20260420T165123Z
SUMMARY:Never Down 2 - Mixed 6
DESCRIPTION:Baan 15\, Wedstrijdnummer 195\, Afdeling 3e klasse II
DTSTART:20201119T200000
DTEND:20201119T230000
LOCATION:City Resort Helmond
ATTACH;FMTTYPE=text/plain:https://hbb.rivio.dev/senioren/2020/wedstrijd/267
 48
END:VEVENT
BEGIN:VEVENT
UID:https://hbb.rivio.dev/senioren/2020/wedstrijd/26787
DTSTAMP:20260420T165123Z
SUMMARY:Someren 4 - Mixed 6
DESCRIPTION:Baan 14\, Wedstrijdnummer 198\, Afdeling 3e klasse II
DTSTART:20201203T200000
DTEND:20201203T230000
LOCATION:City Resort Helmond
ATTACH;FMTTYPE=text/plain:https://hbb.rivio.dev/senioren/2020/wedstrijd/267
 87
END:VEVENT
BEGIN:VEVENT
UID:https://hbb.rivio.dev/senioren/2020/wedstrijd/26816
DTSTAMP:20260420T165123Z
SUMMARY:Mixed 6 - Ganzeveer 2
DESCRIPTION:Baan 13\, Wedstrijdnummer 199\, Afdeling 3e klasse II
DTSTART:20201216T200000
DTEND:20201216T230000
LOCATION:City Resort Helmond
ATTACH;FMTTYPE=text/plain:https://hbb.rivio.dev/senioren/2020/wedstrijd/268
 16
END:VEVENT
BEGIN:VEVENT
UID:https://hbb.rivio.dev/senioren/2020/wedstrijd/26848
DTSTAMP:20260420T165123Z
SUMMARY:BCAB 3 - Mixed 6
DESCRIPTION:Baan 15\, Wedstrijdnummer 202\, Afdeling 3e klasse II
DTSTART:20210107T200000
DTEND:20210107T230000
LOCATION:City Resort Helmond
ATTACH;FMTTYPE=text/plain:https://hbb.rivio.dev/senioren/2020/wedstrijd/268
 48
END:VEVENT
BEGIN:VEVENT
UID:https://hbb.rivio.dev/senioren/2020/wedstrijd/26900
DTSTAMP:20260420T165123Z
SUMMARY:De Valken 4 - Mixed 6
DESCRIPTION:Baan 11\, Wedstrijdnummer 1189\, Afdeling 3e klasse II
DTSTART:20210203T200000
DTEND:20210203T230000
LOCATION:City Resort Helmond
ATTACH;FMTTYPE=text/plain:https://hbb.rivio.dev/senioren/2020/wedstrijd/269
 00
END:VEVENT
BEGIN:VEVENT
UID:https://hbb.rivio.dev/senioren/2020/wedstrijd/26923
DTSTAMP:20260420T165123Z
SUMMARY:Mixed 6 - Mierlo 8
DESCRIPTION:Baan 14\, Wedstrijdnummer 1192\, Afdeling 3e klasse II
DTSTART:20210210T200000
DTEND:20210210T230000
LOCATION:City Resort Helmond
ATTACH;FMTTYPE=text/plain:https://hbb.rivio.dev/senioren/2020/wedstrijd/269
 23
END:VEVENT
BEGIN:VEVENT
UID:https://hbb.rivio.dev/senioren/2020/wedstrijd/26959
DTSTAMP:20260420T165123Z
SUMMARY:Mixed 6 - Never Down 2
DESCRIPTION:Baan 5\, Wedstrijdnummer 1195\, Afdeling 3e klasse II
DTSTART:20210304T200000
DTEND:20210304T230000
LOCATION:City Resort Helmond
ATTACH;FMTTYPE=text/plain:https://hbb.rivio.dev/senioren/2020/wedstrijd/269
 59
END:VEVENT
BEGIN:VEVENT
UID:https://hbb.rivio.dev/senioren/2020/wedstrijd/26987
DTSTAMP:20260420T165123Z
SUMMARY:Mixed 6 - Someren 4
DESCRIPTION:Baan 5\, Wedstrijdnummer 1198\, Afdeling 3e klasse II
DTSTART:20210318T200000
DTEND:20210318T230000
LOCATION:City Resort Helmond
ATTACH;FMTTYPE=text/plain:https://hbb.rivio.dev/senioren/2020/wedstrijd/269
 87
END:VEVENT
BEGIN:VEVENT
UID:https://hbb.rivio.dev/senioren/2020/wedstrijd/27011
DTSTAMP:20260420T165123Z
SUMMARY:Ganzeveer 2 - Mixed 6
DESCRIPTION:Baan 1\, Wedstrijdnummer 1199\, Afdeling 3e klasse II
DTSTART:20210331T200000
DTEND:20210331T230000
LOCATION:City Resort Helmond
ATTACH;FMTTYPE=text/plain:https://hbb.rivio.dev/senioren/2020/wedstrijd/270
 11
END:VEVENT
BEGIN:VEVENT
UID:https://hbb.rivio.dev/senioren/2020/wedstrijd/27028
DTSTAMP:20260420T165123Z
SUMMARY:Mixed 6 - BCAB 3
DESCRIPTION:Baan 4\, Wedstrijdnummer 1202\, Afdeling 3e klasse II
DTSTART:20210415T200000
DTEND:20210415T230000
LOCATION:City Resort Helmond
ATTACH;FMTTYPE=text/plain:https://hbb.rivio.dev/senioren/2020/wedstrijd/270
 28
END:VEVENT
BEGIN:VTIMEZONE
TZID:Europe/Amsterdam
BEGIN:STANDARD
DTSTART:20200101T000000
TZNAME:CET
TZOFFSETTO:+0100
TZOFFSETFROM:+0100
END:STANDARD
BEGIN:DAYLIGHT
DTSTART:20200329T030000
TZNAME:CEST
TZOFFSETTO:+0200
TZOFFSETFROM:+0100
END:DAYLIGHT
BEGIN:STANDARD
DTSTART:20201025T020000
TZNAME:CET
TZOFFSETTO:+0100
TZOFFSETFROM:+0200
END:STANDARD
BEGIN:DAYLIGHT
DTSTART:20210328T030000
TZNAME:CEST
TZOFFSETTO:+0200
TZOFFSETFROM:+0100
END:DAYLIGHT
BEGIN:STANDARD
DTSTART:20211031T020000
TZNAME:CET
TZOFFSETTO:+0100
TZOFFSETFROM:+0200
END:STANDARD
END:VTIMEZONE
END:VCALENDAR
