BEGIN:VCALENDAR
PRODID:-//eluceo/ical//2.0/EN
VERSION:2.0
CALSCALE:GREGORIAN
BEGIN:VEVENT
UID:https://hbb.rivio.dev/senioren/2020/wedstrijd/26592
DTSTAMP:20260420T184244Z
SUMMARY:Mixed 4 - Smashing Bruang 2
DESCRIPTION:Baan 1\, Wedstrijdnummer 82\, Afdeling 1e klasse 
DTSTART:20200923T200000
DTEND:20200923T230000
LOCATION:City Resort Helmond
ATTACH;FMTTYPE=text/plain:https://hbb.rivio.dev/senioren/2020/wedstrijd/265
 92
END:VEVENT
BEGIN:VEVENT
UID:https://hbb.rivio.dev/senioren/2020/wedstrijd/26629
DTSTAMP:20260420T184244Z
SUMMARY:Mixed 4 - Hanevoet 2
DESCRIPTION:Baan 13\, Wedstrijdnummer 85\, Afdeling 1e klasse 
DTSTART:20201001T200000
DTEND:20201001T230000
LOCATION:City Resort Helmond
ATTACH;FMTTYPE=text/plain:https://hbb.rivio.dev/senioren/2020/wedstrijd/266
 29
END:VEVENT
BEGIN:VEVENT
UID:https://hbb.rivio.dev/senioren/2020/wedstrijd/26654
DTSTAMP:20260420T184244Z
SUMMARY:Mierlo 5 - Mixed 4
DESCRIPTION:Baan 3\, Wedstrijdnummer 90\, Afdeling 1e klasse 
DTSTART:20201014T200000
DTEND:20201014T230000
LOCATION:City Resort Helmond
ATTACH;FMTTYPE=text/plain:https://hbb.rivio.dev/senioren/2020/wedstrijd/266
 54
END:VEVENT
BEGIN:VEVENT
UID:https://hbb.rivio.dev/senioren/2020/wedstrijd/26717
DTSTAMP:20260420T184244Z
SUMMARY:Mierlo 5 - Mixed 4
DESCRIPTION:Baan 13\, Wedstrijdnummer 2024\, Afdeling 1e klasse 
DTSTART:20201111T200000
DTEND:20201111T230000
LOCATION:City Resort Helmond
ATTACH;FMTTYPE=text/plain:https://hbb.rivio.dev/senioren/2020/wedstrijd/267
 17
END:VEVENT
BEGIN:VEVENT
UID:https://hbb.rivio.dev/senioren/2020/wedstrijd/26750
DTSTAMP:20260420T184244Z
SUMMARY:De Valken 2 - Mixed 4
DESCRIPTION:Baan 2\, Wedstrijdnummer 98\, Afdeling 1e klasse 
DTSTART:20201125T200000
DTEND:20201125T230000
LOCATION:City Resort Helmond
ATTACH;FMTTYPE=text/plain:https://hbb.rivio.dev/senioren/2020/wedstrijd/267
 50
END:VEVENT
BEGIN:VEVENT
UID:https://hbb.rivio.dev/senioren/2020/wedstrijd/26800
DTSTAMP:20260420T184244Z
SUMMARY:Mixed 4 - Bakel 2
DESCRIPTION:Baan 2\, Wedstrijdnummer 99\, Afdeling 1e klasse 
DTSTART:20201210T200000
DTEND:20201210T230000
LOCATION:City Resort Helmond
ATTACH;FMTTYPE=text/plain:https://hbb.rivio.dev/senioren/2020/wedstrijd/268
 00
END:VEVENT
BEGIN:VEVENT
UID:https://hbb.rivio.dev/senioren/2020/wedstrijd/26810
DTSTAMP:20260420T184244Z
SUMMARY:BC '85 1 - Mixed 4
DESCRIPTION:Baan 2\, Wedstrijdnummer 104\, Afdeling 1e klasse 
DTSTART:20201216T200000
DTEND:20201216T230000
LOCATION:City Resort Helmond
ATTACH;FMTTYPE=text/plain:https://hbb.rivio.dev/senioren/2020/wedstrijd/268
 10
END:VEVENT
BEGIN:VEVENT
UID:https://hbb.rivio.dev/senioren/2020/wedstrijd/26857
DTSTAMP:20260420T184244Z
SUMMARY:Smashing Bruang 2 - Mixed 4
DESCRIPTION:Baan 13\, Wedstrijdnummer 1082\, Afdeling 1e klasse 
DTSTART:20210114T200000
DTEND:20210114T230000
LOCATION:City Resort Helmond
ATTACH;FMTTYPE=text/plain:https://hbb.rivio.dev/senioren/2020/wedstrijd/268
 57
END:VEVENT
BEGIN:VEVENT
UID:https://hbb.rivio.dev/senioren/2020/wedstrijd/26889
DTSTAMP:20260420T184244Z
SUMMARY:Hanevoet 2 - Mixed 4
DESCRIPTION:Baan 5\, Wedstrijdnummer 1085\, Afdeling 1e klasse 
DTSTART:20210128T200000
DTEND:20210128T230000
LOCATION:City Resort Helmond
ATTACH;FMTTYPE=text/plain:https://hbb.rivio.dev/senioren/2020/wedstrijd/268
 89
END:VEVENT
BEGIN:VEVENT
UID:https://hbb.rivio.dev/senioren/2020/wedstrijd/26902
DTSTAMP:20260420T184244Z
SUMMARY:Mixed 4 - Mierlo 5
DESCRIPTION:Baan 13\, Wedstrijdnummer 1090\, Afdeling 1e klasse 
DTSTART:20210203T200000
DTEND:20210203T230000
LOCATION:City Resort Helmond
ATTACH;FMTTYPE=text/plain:https://hbb.rivio.dev/senioren/2020/wedstrijd/269
 02
END:VEVENT
BEGIN:VEVENT
UID:https://hbb.rivio.dev/senioren/2020/wedstrijd/26967
DTSTAMP:20260420T184244Z
SUMMARY:Mixed 4 - De Valken 2
DESCRIPTION:Baan 3\, Wedstrijdnummer 1098\, Afdeling 1e klasse 
DTSTART:20210310T200000
DTEND:20210310T230000
LOCATION:City Resort Helmond
ATTACH;FMTTYPE=text/plain:https://hbb.rivio.dev/senioren/2020/wedstrijd/269
 67
END:VEVENT
BEGIN:VEVENT
UID:https://hbb.rivio.dev/senioren/2020/wedstrijd/26990
DTSTAMP:20260420T184244Z
SUMMARY:Bakel 2 - Mixed 4
DESCRIPTION:Baan 13\, Wedstrijdnummer 1099\, Afdeling 1e klasse 
DTSTART:20210318T200000
DTEND:20210318T230000
LOCATION:City Resort Helmond
ATTACH;FMTTYPE=text/plain:https://hbb.rivio.dev/senioren/2020/wedstrijd/269
 90
END:VEVENT
BEGIN:VEVENT
UID:https://hbb.rivio.dev/senioren/2020/wedstrijd/27012
DTSTAMP:20260420T184244Z
SUMMARY:Mixed 4 - BC '85 1
DESCRIPTION:Baan 2\, Wedstrijdnummer 1104\, Afdeling 1e klasse 
DTSTART:20210331T200000
DTEND:20210331T230000
LOCATION:City Resort Helmond
ATTACH;FMTTYPE=text/plain:https://hbb.rivio.dev/senioren/2020/wedstrijd/270
 12
END:VEVENT
BEGIN:VTIMEZONE
TZID:Europe/Amsterdam
BEGIN:STANDARD
DTSTART:20200101T000000
TZNAME:CET
TZOFFSETTO:+0100
TZOFFSETFROM:+0100
END:STANDARD
BEGIN:DAYLIGHT
DTSTART:20200329T030000
TZNAME:CEST
TZOFFSETTO:+0200
TZOFFSETFROM:+0100
END:DAYLIGHT
BEGIN:STANDARD
DTSTART:20201025T020000
TZNAME:CET
TZOFFSETTO:+0100
TZOFFSETFROM:+0200
END:STANDARD
BEGIN:DAYLIGHT
DTSTART:20210328T030000
TZNAME:CEST
TZOFFSETTO:+0200
TZOFFSETFROM:+0100
END:DAYLIGHT
BEGIN:STANDARD
DTSTART:20211031T020000
TZNAME:CET
TZOFFSETTO:+0100
TZOFFSETFROM:+0200
END:STANDARD
END:VTIMEZONE
END:VCALENDAR
