BEGIN:VCALENDAR
PRODID:-//eluceo/ical//2.0/EN
VERSION:2.0
CALSCALE:GREGORIAN
BEGIN:VEVENT
UID:https://hbb.rivio.dev/senioren/2020/wedstrijd/26613
DTSTAMP:20260420T182402Z
SUMMARY:Mierlo 4 - Mixed 3
DESCRIPTION:Baan 2\, Wedstrijdnummer 46\, Afdeling Overgangsklasse 
DTSTART:20200930T200000
DTEND:20200930T230000
LOCATION:City Resort Helmond
ATTACH;FMTTYPE=text/plain:https://hbb.rivio.dev/senioren/2020/wedstrijd/266
 13
END:VEVENT
BEGIN:VEVENT
UID:https://hbb.rivio.dev/senioren/2020/wedstrijd/26641
DTSTAMP:20260420T182402Z
SUMMARY:Mixed 3 - Phoenix 2
DESCRIPTION:Baan 15\, Wedstrijdnummer 50\, Afdeling Overgangsklasse 
DTSTART:20201007T200000
DTEND:20201007T230000
LOCATION:City Resort Helmond
ATTACH;FMTTYPE=text/plain:https://hbb.rivio.dev/senioren/2020/wedstrijd/266
 41
END:VEVENT
BEGIN:VEVENT
UID:https://hbb.rivio.dev/senioren/2020/wedstrijd/26683
DTSTAMP:20260420T182402Z
SUMMARY:Mixed 3 - Bakel 1
DESCRIPTION:Baan 2\, Wedstrijdnummer 51\, Afdeling Overgangsklasse 
DTSTART:20201029T200000
DTEND:20201029T230000
LOCATION:City Resort Helmond
ATTACH;FMTTYPE=text/plain:https://hbb.rivio.dev/senioren/2020/wedstrijd/266
 83
END:VEVENT
BEGIN:VEVENT
UID:https://hbb.rivio.dev/senioren/2020/wedstrijd/26696
DTSTAMP:20260420T182402Z
SUMMARY:De Valken 1 - Mixed 3
DESCRIPTION:Baan 5\, Wedstrijdnummer 57\, Afdeling Overgangsklasse 
DTSTART:20201104T200000
DTEND:20201104T230000
LOCATION:City Resort Helmond
ATTACH;FMTTYPE=text/plain:https://hbb.rivio.dev/senioren/2020/wedstrijd/266
 96
END:VEVENT
BEGIN:VEVENT
UID:https://hbb.rivio.dev/senioren/2020/wedstrijd/26735
DTSTAMP:20260420T182402Z
SUMMARY:Mixed 3 - Con Brio 3
DESCRIPTION:Baan 12\, Wedstrijdnummer 2015\, Afdeling Overgangsklasse 
DTSTART:20201118T200000
DTEND:20201118T230000
LOCATION:City Resort Helmond
ATTACH;FMTTYPE=text/plain:https://hbb.rivio.dev/senioren/2020/wedstrijd/267
 35
END:VEVENT
BEGIN:VEVENT
UID:https://hbb.rivio.dev/senioren/2020/wedstrijd/26782
DTSTAMP:20260420T182402Z
SUMMARY:RBC 1 - Mixed 3
DESCRIPTION:Baan 4\, Wedstrijdnummer 60\, Afdeling Overgangsklasse 
DTSTART:20201203T200000
DTEND:20201203T230000
LOCATION:City Resort Helmond
ATTACH;FMTTYPE=text/plain:https://hbb.rivio.dev/senioren/2020/wedstrijd/267
 82
END:VEVENT
BEGIN:VEVENT
UID:https://hbb.rivio.dev/senioren/2020/wedstrijd/26794
DTSTAMP:20260420T182402Z
SUMMARY:Mixed 3 - Con Brio 3
DESCRIPTION:Baan 11\, Wedstrijdnummer 65\, Afdeling Overgangsklasse 
DTSTART:20201209T200000
DTEND:20201209T230000
LOCATION:City Resort Helmond
ATTACH;FMTTYPE=text/plain:https://hbb.rivio.dev/senioren/2020/wedstrijd/267
 94
END:VEVENT
BEGIN:VEVENT
UID:https://hbb.rivio.dev/senioren/2020/wedstrijd/26863
DTSTAMP:20260420T182402Z
SUMMARY:Brabantia 2 - Mixed 3
DESCRIPTION:Baan 14\, Wedstrijdnummer 72\, Afdeling Overgangsklasse 
DTSTART:20210120T200000
DTEND:20210120T230000
LOCATION:City Resort Helmond
ATTACH;FMTTYPE=text/plain:https://hbb.rivio.dev/senioren/2020/wedstrijd/268
 63
END:VEVENT
BEGIN:VEVENT
UID:https://hbb.rivio.dev/senioren/2020/wedstrijd/26907
DTSTAMP:20260420T182402Z
SUMMARY:Mixed 3 - Eindhoven 1
DESCRIPTION:Baan 3\, Wedstrijdnummer 76\, Afdeling Overgangsklasse 
DTSTART:20210204T200000
DTEND:20210204T230000
LOCATION:City Resort Helmond
ATTACH;FMTTYPE=text/plain:https://hbb.rivio.dev/senioren/2020/wedstrijd/269
 07
END:VEVENT
BEGIN:VTIMEZONE
TZID:Europe/Amsterdam
BEGIN:STANDARD
DTSTART:20200101T000000
TZNAME:CET
TZOFFSETTO:+0100
TZOFFSETFROM:+0100
END:STANDARD
BEGIN:DAYLIGHT
DTSTART:20200329T030000
TZNAME:CEST
TZOFFSETTO:+0200
TZOFFSETFROM:+0100
END:DAYLIGHT
BEGIN:STANDARD
DTSTART:20201025T020000
TZNAME:CET
TZOFFSETTO:+0100
TZOFFSETFROM:+0200
END:STANDARD
BEGIN:DAYLIGHT
DTSTART:20210328T030000
TZNAME:CEST
TZOFFSETTO:+0200
TZOFFSETFROM:+0100
END:DAYLIGHT
BEGIN:STANDARD
DTSTART:20211031T020000
TZNAME:CET
TZOFFSETTO:+0100
TZOFFSETFROM:+0200
END:STANDARD
END:VTIMEZONE
END:VCALENDAR
