BEGIN:VCALENDAR
PRODID:-//eluceo/ical//2.0/EN
VERSION:2.0
CALSCALE:GREGORIAN
BEGIN:VEVENT
UID:https://hbb.rivio.dev/senioren/2020/wedstrijd/26594
DTSTAMP:20260420T103427Z
SUMMARY:BC '85 3 - Mierlo 11
DESCRIPTION:Baan 3\, Wedstrijdnummer 206\, Afdeling 4e klasse I
DTSTART:20200923T200000
DTEND:20200923T230000
LOCATION:City Resort Helmond
ATTACH;FMTTYPE=text/plain:https://hbb.rivio.dev/senioren/2020/wedstrijd/265
 94
END:VEVENT
BEGIN:VEVENT
UID:https://hbb.rivio.dev/senioren/2020/wedstrijd/26655
DTSTAMP:20260420T103427Z
SUMMARY:Smashing Bruang 3 - Mierlo 11
DESCRIPTION:Baan 4\, Wedstrijdnummer 209\, Afdeling 4e klasse I
DTSTART:20201014T200000
DTEND:20201014T230000
LOCATION:City Resort Helmond
ATTACH;FMTTYPE=text/plain:https://hbb.rivio.dev/senioren/2020/wedstrijd/266
 55
END:VEVENT
BEGIN:VEVENT
UID:https://hbb.rivio.dev/senioren/2020/wedstrijd/26692
DTSTAMP:20260420T103427Z
SUMMARY:Mierlo 11 - Con Brio 5
DESCRIPTION:Baan 1\, Wedstrijdnummer 212\, Afdeling 4e klasse I
DTSTART:20201104T200000
DTEND:20201104T230000
LOCATION:City Resort Helmond
ATTACH;FMTTYPE=text/plain:https://hbb.rivio.dev/senioren/2020/wedstrijd/266
 92
END:VEVENT
BEGIN:VEVENT
UID:https://hbb.rivio.dev/senioren/2020/wedstrijd/26725
DTSTAMP:20260420T103427Z
SUMMARY:Mierlo 11 - BC '85 2
DESCRIPTION:Baan 12\, Wedstrijdnummer 2058\, Afdeling 4e klasse I
DTSTART:20201112T200000
DTEND:20201112T230000
LOCATION:City Resort Helmond
ATTACH;FMTTYPE=text/plain:https://hbb.rivio.dev/senioren/2020/wedstrijd/267
 25
END:VEVENT
BEGIN:VEVENT
UID:https://hbb.rivio.dev/senioren/2020/wedstrijd/26764
DTSTAMP:20260420T103427Z
SUMMARY:Mierlo 11 - Gemert 4
DESCRIPTION:Baan 11\, Wedstrijdnummer 214\, Afdeling 4e klasse I
DTSTART:20201126T200000
DTEND:20201126T230000
LOCATION:City Resort Helmond
ATTACH;FMTTYPE=text/plain:https://hbb.rivio.dev/senioren/2020/wedstrijd/267
 64
END:VEVENT
BEGIN:VEVENT
UID:https://hbb.rivio.dev/senioren/2020/wedstrijd/26775
DTSTAMP:20260420T103427Z
SUMMARY:Mierlo 11 - BC '85 3
DESCRIPTION:Baan 12\, Wedstrijdnummer 1206\, Afdeling 4e klasse I
DTSTART:20201202T200000
DTEND:20201202T230000
LOCATION:City Resort Helmond
ATTACH;FMTTYPE=text/plain:https://hbb.rivio.dev/senioren/2020/wedstrijd/267
 75
END:VEVENT
BEGIN:VEVENT
UID:https://hbb.rivio.dev/senioren/2020/wedstrijd/26836
DTSTAMP:20260420T103427Z
SUMMARY:Mierlo 11 - Smashing Bruang 3
DESCRIPTION:Baan 13\, Wedstrijdnummer 1209\, Afdeling 4e klasse I
DTSTART:20210106T200000
DTEND:20210106T230000
LOCATION:City Resort Helmond
ATTACH;FMTTYPE=text/plain:https://hbb.rivio.dev/senioren/2020/wedstrijd/268
 36
END:VEVENT
BEGIN:VEVENT
UID:https://hbb.rivio.dev/senioren/2020/wedstrijd/26879
DTSTAMP:20260420T103427Z
SUMMARY:Con Brio 5 - Mierlo 11
DESCRIPTION:Baan 5\, Wedstrijdnummer 1212\, Afdeling 4e klasse I
DTSTART:20210127T200000
DTEND:20210127T230000
LOCATION:City Resort Helmond
ATTACH;FMTTYPE=text/plain:https://hbb.rivio.dev/senioren/2020/wedstrijd/268
 79
END:VEVENT
BEGIN:VEVENT
UID:https://hbb.rivio.dev/senioren/2020/wedstrijd/26928
DTSTAMP:20260420T103427Z
SUMMARY:Gemert 4 - Mierlo 11
DESCRIPTION:Baan 4\, Wedstrijdnummer 1214\, Afdeling 4e klasse I
DTSTART:20210211T200000
DTEND:20210211T230000
LOCATION:City Resort Helmond
ATTACH;FMTTYPE=text/plain:https://hbb.rivio.dev/senioren/2020/wedstrijd/269
 28
END:VEVENT
BEGIN:VTIMEZONE
TZID:Europe/Amsterdam
BEGIN:STANDARD
DTSTART:20200101T000000
TZNAME:CET
TZOFFSETTO:+0100
TZOFFSETFROM:+0100
END:STANDARD
BEGIN:DAYLIGHT
DTSTART:20200329T030000
TZNAME:CEST
TZOFFSETTO:+0200
TZOFFSETFROM:+0100
END:DAYLIGHT
BEGIN:STANDARD
DTSTART:20201025T020000
TZNAME:CET
TZOFFSETTO:+0100
TZOFFSETFROM:+0200
END:STANDARD
BEGIN:DAYLIGHT
DTSTART:20210328T030000
TZNAME:CEST
TZOFFSETTO:+0200
TZOFFSETFROM:+0100
END:DAYLIGHT
BEGIN:STANDARD
DTSTART:20211031T020000
TZNAME:CET
TZOFFSETTO:+0100
TZOFFSETFROM:+0200
END:STANDARD
END:VTIMEZONE
END:VCALENDAR
