BEGIN:VCALENDAR
PRODID:-//eluceo/ical//2.0/EN
VERSION:2.0
CALSCALE:GREGORIAN
BEGIN:VEVENT
UID:https://hbb.rivio.dev/senioren/2020/wedstrijd/26595
DTSTAMP:20260420T151704Z
SUMMARY:Ganzeveer 3 - Mierlo 10
DESCRIPTION:Baan 4\, Wedstrijdnummer 216\, Afdeling 4e klasse II
DTSTART:20200923T200000
DTEND:20200923T230000
LOCATION:City Resort Helmond
ATTACH;FMTTYPE=text/plain:https://hbb.rivio.dev/senioren/2020/wedstrijd/265
 95
END:VEVENT
BEGIN:VEVENT
UID:https://hbb.rivio.dev/senioren/2020/wedstrijd/26656
DTSTAMP:20260420T151704Z
SUMMARY:BC '85 2 - Mierlo 10
DESCRIPTION:Baan 5\, Wedstrijdnummer 219\, Afdeling 4e klasse II
DTSTART:20201014T200000
DTEND:20201014T230000
LOCATION:City Resort Helmond
ATTACH;FMTTYPE=text/plain:https://hbb.rivio.dev/senioren/2020/wedstrijd/266
 56
END:VEVENT
BEGIN:VEVENT
UID:https://hbb.rivio.dev/senioren/2020/wedstrijd/26705
DTSTAMP:20260420T151704Z
SUMMARY:Mierlo 10 - Heeze 1
DESCRIPTION:Baan 5\, Wedstrijdnummer 222\, Afdeling 4e klasse II
DTSTART:20201105T200000
DTEND:20201105T230000
LOCATION:City Resort Helmond
ATTACH;FMTTYPE=text/plain:https://hbb.rivio.dev/senioren/2020/wedstrijd/267
 05
END:VEVENT
BEGIN:VEVENT
UID:https://hbb.rivio.dev/senioren/2020/wedstrijd/26719
DTSTAMP:20260420T151704Z
SUMMARY:BC '85 3 - Mierlo 10
DESCRIPTION:Baan 15\, Wedstrijdnummer 2062\, Afdeling 4e klasse I
DTSTART:20201111T200000
DTEND:20201111T230000
LOCATION:City Resort Helmond
ATTACH;FMTTYPE=text/plain:https://hbb.rivio.dev/senioren/2020/wedstrijd/267
 19
END:VEVENT
BEGIN:VEVENT
UID:https://hbb.rivio.dev/senioren/2020/wedstrijd/26765
DTSTAMP:20260420T151704Z
SUMMARY:Mierlo 10 - Someren 5
DESCRIPTION:Baan 12\, Wedstrijdnummer 224\, Afdeling 4e klasse II
DTSTART:20201126T200000
DTEND:20201126T230000
LOCATION:City Resort Helmond
ATTACH;FMTTYPE=text/plain:https://hbb.rivio.dev/senioren/2020/wedstrijd/267
 65
END:VEVENT
BEGIN:VEVENT
UID:https://hbb.rivio.dev/senioren/2020/wedstrijd/26776
DTSTAMP:20260420T151704Z
SUMMARY:Mierlo 10 - Ganzeveer 3
DESCRIPTION:Baan 13\, Wedstrijdnummer 1216\, Afdeling 4e klasse II
DTSTART:20201202T200000
DTEND:20201202T230000
LOCATION:City Resort Helmond
ATTACH;FMTTYPE=text/plain:https://hbb.rivio.dev/senioren/2020/wedstrijd/267
 76
END:VEVENT
BEGIN:VEVENT
UID:https://hbb.rivio.dev/senioren/2020/wedstrijd/26859
DTSTAMP:20260420T151704Z
SUMMARY:Mierlo 10 - BC '85 2
DESCRIPTION:Baan 5\, Wedstrijdnummer 1219\, Afdeling 4e klasse II
DTSTART:20210120T200000
DTEND:20210120T230000
LOCATION:City Resort Helmond
ATTACH;FMTTYPE=text/plain:https://hbb.rivio.dev/senioren/2020/wedstrijd/268
 59
END:VEVENT
BEGIN:VEVENT
UID:https://hbb.rivio.dev/senioren/2020/wedstrijd/26892
DTSTAMP:20260420T151704Z
SUMMARY:Heeze 1 - Mierlo 10
DESCRIPTION:Baan 13\, Wedstrijdnummer 1222\, Afdeling 4e klasse II
DTSTART:20210128T200000
DTEND:20210128T230000
LOCATION:City Resort Helmond
ATTACH;FMTTYPE=text/plain:https://hbb.rivio.dev/senioren/2020/wedstrijd/268
 92
END:VEVENT
BEGIN:VEVENT
UID:https://hbb.rivio.dev/senioren/2020/wedstrijd/26929
DTSTAMP:20260420T151704Z
SUMMARY:Someren 5 - Mierlo 10
DESCRIPTION:Baan 5\, Wedstrijdnummer 1224\, Afdeling 4e klasse II
DTSTART:20210211T200000
DTEND:20210211T230000
LOCATION:City Resort Helmond
ATTACH;FMTTYPE=text/plain:https://hbb.rivio.dev/senioren/2020/wedstrijd/269
 29
END:VEVENT
BEGIN:VTIMEZONE
TZID:Europe/Amsterdam
BEGIN:STANDARD
DTSTART:20200101T000000
TZNAME:CET
TZOFFSETTO:+0100
TZOFFSETFROM:+0100
END:STANDARD
BEGIN:DAYLIGHT
DTSTART:20200329T030000
TZNAME:CEST
TZOFFSETTO:+0200
TZOFFSETFROM:+0100
END:DAYLIGHT
BEGIN:STANDARD
DTSTART:20201025T020000
TZNAME:CET
TZOFFSETTO:+0100
TZOFFSETFROM:+0200
END:STANDARD
BEGIN:DAYLIGHT
DTSTART:20210328T030000
TZNAME:CEST
TZOFFSETTO:+0200
TZOFFSETFROM:+0100
END:DAYLIGHT
BEGIN:STANDARD
DTSTART:20211031T020000
TZNAME:CET
TZOFFSETTO:+0100
TZOFFSETFROM:+0200
END:STANDARD
END:VTIMEZONE
END:VCALENDAR
