BEGIN:VCALENDAR
PRODID:-//eluceo/ical//2.0/EN
VERSION:2.0
CALSCALE:GREGORIAN
BEGIN:VEVENT
UID:https://hbb.rivio.dev/senioren/2020/wedstrijd/26616
DTSTAMP:20260420T120722Z
SUMMARY:De Valken 4 - Mierlo 8
DESCRIPTION:Baan 5\, Wedstrijdnummer 186\, Afdeling 3e klasse II
DTSTART:20200930T200000
DTEND:20200930T230000
LOCATION:City Resort Helmond
ATTACH;FMTTYPE=text/plain:https://hbb.rivio.dev/senioren/2020/wedstrijd/266
 16
END:VEVENT
BEGIN:VEVENT
UID:https://hbb.rivio.dev/senioren/2020/wedstrijd/26678
DTSTAMP:20260420T120722Z
SUMMARY:Mierlo 8 - Mixed 6
DESCRIPTION:Baan 12\, Wedstrijdnummer 192\, Afdeling 3e klasse II
DTSTART:20201028T200000
DTEND:20201028T230000
LOCATION:City Resort Helmond
ATTACH;FMTTYPE=text/plain:https://hbb.rivio.dev/senioren/2020/wedstrijd/266
 78
END:VEVENT
BEGIN:VEVENT
UID:https://hbb.rivio.dev/senioren/2020/wedstrijd/26720
DTSTAMP:20260420T120722Z
SUMMARY:Hanevoet 4 - Mierlo 8
DESCRIPTION:Baan 1\, Wedstrijdnummer 2045\, Afdeling 3e klasse I
DTSTART:20201112T200000
DTEND:20201112T230000
LOCATION:City Resort Helmond
ATTACH;FMTTYPE=text/plain:https://hbb.rivio.dev/senioren/2020/wedstrijd/267
 20
END:VEVENT
BEGIN:VEVENT
UID:https://hbb.rivio.dev/senioren/2020/wedstrijd/26747
DTSTAMP:20260420T120722Z
SUMMARY:Mierlo 8 - BCAB 3
DESCRIPTION:Baan 14\, Wedstrijdnummer 194\, Afdeling 3e klasse II
DTSTART:20201119T200000
DTEND:20201119T230000
LOCATION:City Resort Helmond
ATTACH;FMTTYPE=text/plain:https://hbb.rivio.dev/senioren/2020/wedstrijd/267
 47
END:VEVENT
BEGIN:VEVENT
UID:https://hbb.rivio.dev/senioren/2020/wedstrijd/26771
DTSTAMP:20260420T120722Z
SUMMARY:Ganzeveer 2 - Mierlo 8
DESCRIPTION:Baan 3\, Wedstrijdnummer 196\, Afdeling 3e klasse II
DTSTART:20201202T200000
DTEND:20201202T230000
LOCATION:City Resort Helmond
ATTACH;FMTTYPE=text/plain:https://hbb.rivio.dev/senioren/2020/wedstrijd/267
 71
END:VEVENT
BEGIN:VEVENT
UID:https://hbb.rivio.dev/senioren/2020/wedstrijd/26821
DTSTAMP:20260420T120722Z
SUMMARY:Mierlo 8 - Someren 4
DESCRIPTION:Baan 3\, Wedstrijdnummer 201\, Afdeling 3e klasse II
DTSTART:20201217T200000
DTEND:20201217T230000
LOCATION:City Resort Helmond
ATTACH;FMTTYPE=text/plain:https://hbb.rivio.dev/senioren/2020/wedstrijd/268
 21
END:VEVENT
BEGIN:VEVENT
UID:https://hbb.rivio.dev/senioren/2020/wedstrijd/26850
DTSTAMP:20260420T120722Z
SUMMARY:Never Down 2 - Mierlo 8
DESCRIPTION:Baan 1\, Wedstrijdnummer 203\, Afdeling 3e klasse II
DTSTART:20210114T200000
DTEND:20210114T230000
LOCATION:City Resort Helmond
ATTACH;FMTTYPE=text/plain:https://hbb.rivio.dev/senioren/2020/wedstrijd/268
 50
END:VEVENT
BEGIN:VEVENT
UID:https://hbb.rivio.dev/senioren/2020/wedstrijd/26875
DTSTAMP:20260420T120722Z
SUMMARY:Mierlo 8 - De Valken 4
DESCRIPTION:Baan 1\, Wedstrijdnummer 1186\, Afdeling 3e klasse II
DTSTART:20210127T200000
DTEND:20210127T230000
LOCATION:City Resort Helmond
ATTACH;FMTTYPE=text/plain:https://hbb.rivio.dev/senioren/2020/wedstrijd/268
 75
END:VEVENT
BEGIN:VEVENT
UID:https://hbb.rivio.dev/senioren/2020/wedstrijd/26923
DTSTAMP:20260420T120722Z
SUMMARY:Mixed 6 - Mierlo 8
DESCRIPTION:Baan 14\, Wedstrijdnummer 1192\, Afdeling 3e klasse II
DTSTART:20210210T200000
DTEND:20210210T230000
LOCATION:City Resort Helmond
ATTACH;FMTTYPE=text/plain:https://hbb.rivio.dev/senioren/2020/wedstrijd/269
 23
END:VEVENT
BEGIN:VEVENT
UID:https://hbb.rivio.dev/senioren/2020/wedstrijd/26958
DTSTAMP:20260420T120722Z
SUMMARY:BCAB 3 - Mierlo 8
DESCRIPTION:Baan 4\, Wedstrijdnummer 1194\, Afdeling 3e klasse II
DTSTART:20210304T200000
DTEND:20210304T230000
LOCATION:City Resort Helmond
ATTACH;FMTTYPE=text/plain:https://hbb.rivio.dev/senioren/2020/wedstrijd/269
 58
END:VEVENT
BEGIN:VEVENT
UID:https://hbb.rivio.dev/senioren/2020/wedstrijd/26979
DTSTAMP:20260420T120722Z
SUMMARY:Mierlo 8 - Ganzeveer 2
DESCRIPTION:Baan 3\, Wedstrijdnummer 1196\, Afdeling 3e klasse II
DTSTART:20210317T200000
DTEND:20210317T230000
LOCATION:City Resort Helmond
ATTACH;FMTTYPE=text/plain:https://hbb.rivio.dev/senioren/2020/wedstrijd/269
 79
END:VEVENT
BEGIN:VEVENT
UID:https://hbb.rivio.dev/senioren/2020/wedstrijd/27007
DTSTAMP:20260420T120722Z
SUMMARY:Someren 4 - Mierlo 8
DESCRIPTION:Baan 12\, Wedstrijdnummer 1201\, Afdeling 3e klasse II
DTSTART:20210325T200000
DTEND:20210325T230000
LOCATION:City Resort Helmond
ATTACH;FMTTYPE=text/plain:https://hbb.rivio.dev/senioren/2020/wedstrijd/270
 07
END:VEVENT
BEGIN:VEVENT
UID:https://hbb.rivio.dev/senioren/2020/wedstrijd/27029
DTSTAMP:20260420T120722Z
SUMMARY:Mierlo 8 - Never Down 2
DESCRIPTION:Baan 5\, Wedstrijdnummer 1203\, Afdeling 3e klasse II
DTSTART:20210415T200000
DTEND:20210415T230000
LOCATION:City Resort Helmond
ATTACH;FMTTYPE=text/plain:https://hbb.rivio.dev/senioren/2020/wedstrijd/270
 29
END:VEVENT
BEGIN:VTIMEZONE
TZID:Europe/Amsterdam
BEGIN:STANDARD
DTSTART:20200101T000000
TZNAME:CET
TZOFFSETTO:+0100
TZOFFSETFROM:+0100
END:STANDARD
BEGIN:DAYLIGHT
DTSTART:20200329T030000
TZNAME:CEST
TZOFFSETTO:+0200
TZOFFSETFROM:+0100
END:DAYLIGHT
BEGIN:STANDARD
DTSTART:20201025T020000
TZNAME:CET
TZOFFSETTO:+0100
TZOFFSETFROM:+0200
END:STANDARD
BEGIN:DAYLIGHT
DTSTART:20210328T030000
TZNAME:CEST
TZOFFSETTO:+0200
TZOFFSETFROM:+0100
END:DAYLIGHT
BEGIN:STANDARD
DTSTART:20211031T020000
TZNAME:CET
TZOFFSETTO:+0100
TZOFFSETFROM:+0200
END:STANDARD
END:VTIMEZONE
END:VCALENDAR
