BEGIN:VCALENDAR
PRODID:-//eluceo/ical//2.0/EN
VERSION:2.0
CALSCALE:GREGORIAN
BEGIN:VEVENT
UID:https://hbb.rivio.dev/senioren/2020/wedstrijd/26613
DTSTAMP:20260420T120955Z
SUMMARY:Mierlo 4 - Mixed 3
DESCRIPTION:Baan 2\, Wedstrijdnummer 46\, Afdeling Overgangsklasse 
DTSTART:20200930T200000
DTEND:20200930T230000
LOCATION:City Resort Helmond
ATTACH;FMTTYPE=text/plain:https://hbb.rivio.dev/senioren/2020/wedstrijd/266
 13
END:VEVENT
BEGIN:VEVENT
UID:https://hbb.rivio.dev/senioren/2020/wedstrijd/26645
DTSTAMP:20260420T120955Z
SUMMARY:Mierlo 4 - RBC 1
DESCRIPTION:Baan 4\, Wedstrijdnummer 49\, Afdeling Overgangsklasse 
DTSTART:20201008T200000
DTEND:20201008T230000
LOCATION:City Resort Helmond
ATTACH;FMTTYPE=text/plain:https://hbb.rivio.dev/senioren/2020/wedstrijd/266
 45
END:VEVENT
BEGIN:VEVENT
UID:https://hbb.rivio.dev/senioren/2020/wedstrijd/26673
DTSTAMP:20260420T120955Z
SUMMARY:Phoenix 2 - Mierlo 4
DESCRIPTION:Baan 2\, Wedstrijdnummer 52\, Afdeling Overgangsklasse 
DTSTART:20201028T200000
DTEND:20201028T230000
LOCATION:City Resort Helmond
ATTACH;FMTTYPE=text/plain:https://hbb.rivio.dev/senioren/2020/wedstrijd/266
 73
END:VEVENT
BEGIN:VEVENT
UID:https://hbb.rivio.dev/senioren/2020/wedstrijd/26709
DTSTAMP:20260420T120955Z
SUMMARY:Eindhoven 1 - Mierlo 4
DESCRIPTION:Baan 14\, Wedstrijdnummer 58\, Afdeling Overgangsklasse 
DTSTART:20201105T200000
DTEND:20201105T230000
LOCATION:City Resort Helmond
ATTACH;FMTTYPE=text/plain:https://hbb.rivio.dev/senioren/2020/wedstrijd/267
 09
END:VEVENT
BEGIN:VEVENT
UID:https://hbb.rivio.dev/senioren/2020/wedstrijd/26742
DTSTAMP:20260420T120955Z
SUMMARY:Eindhoven 1 - Mierlo 4
DESCRIPTION:Baan 4\, Wedstrijdnummer 2014\, Afdeling Overgangsklasse 
DTSTART:20201119T200000
DTEND:20201119T230000
LOCATION:City Resort Helmond
ATTACH;FMTTYPE=text/plain:https://hbb.rivio.dev/senioren/2020/wedstrijd/267
 42
END:VEVENT
BEGIN:VEVENT
UID:https://hbb.rivio.dev/senioren/2020/wedstrijd/26797
DTSTAMP:20260420T120955Z
SUMMARY:Mierlo 4 - De Valken 1
DESCRIPTION:Baan 14\, Wedstrijdnummer 64\, Afdeling Overgangsklasse 
DTSTART:20201209T200000
DTEND:20201209T230000
LOCATION:City Resort Helmond
ATTACH;FMTTYPE=text/plain:https://hbb.rivio.dev/senioren/2020/wedstrijd/267
 97
END:VEVENT
BEGIN:VEVENT
UID:https://hbb.rivio.dev/senioren/2020/wedstrijd/26828
DTSTAMP:20260420T120955Z
SUMMARY:Mierlo 4 - Brabantia 2
DESCRIPTION:Baan 15\, Wedstrijdnummer 69\, Afdeling Overgangsklasse 
DTSTART:20201217T200000
DTEND:20201217T230000
LOCATION:City Resort Helmond
ATTACH;FMTTYPE=text/plain:https://hbb.rivio.dev/senioren/2020/wedstrijd/268
 28
END:VEVENT
BEGIN:VEVENT
UID:https://hbb.rivio.dev/senioren/2020/wedstrijd/26864
DTSTAMP:20260420T120955Z
SUMMARY:Con Brio 3 - Mierlo 4
DESCRIPTION:Baan 15\, Wedstrijdnummer 73\, Afdeling Overgangsklasse 
DTSTART:20210120T200000
DTEND:20210120T230000
LOCATION:City Resort Helmond
ATTACH;FMTTYPE=text/plain:https://hbb.rivio.dev/senioren/2020/wedstrijd/268
 64
END:VEVENT
BEGIN:VEVENT
UID:https://hbb.rivio.dev/senioren/2020/wedstrijd/26906
DTSTAMP:20260420T120955Z
SUMMARY:Bakel 1 - Mierlo 4
DESCRIPTION:Baan 2\, Wedstrijdnummer 75\, Afdeling Overgangsklasse 
DTSTART:20210204T200000
DTEND:20210204T230000
LOCATION:City Resort Helmond
ATTACH;FMTTYPE=text/plain:https://hbb.rivio.dev/senioren/2020/wedstrijd/269
 06
END:VEVENT
BEGIN:VTIMEZONE
TZID:Europe/Amsterdam
BEGIN:STANDARD
DTSTART:20200101T000000
TZNAME:CET
TZOFFSETTO:+0100
TZOFFSETFROM:+0100
END:STANDARD
BEGIN:DAYLIGHT
DTSTART:20200329T030000
TZNAME:CEST
TZOFFSETTO:+0200
TZOFFSETFROM:+0100
END:DAYLIGHT
BEGIN:STANDARD
DTSTART:20201025T020000
TZNAME:CET
TZOFFSETTO:+0100
TZOFFSETFROM:+0200
END:STANDARD
BEGIN:DAYLIGHT
DTSTART:20210328T030000
TZNAME:CEST
TZOFFSETTO:+0200
TZOFFSETFROM:+0100
END:DAYLIGHT
BEGIN:STANDARD
DTSTART:20211031T020000
TZNAME:CET
TZOFFSETTO:+0100
TZOFFSETFROM:+0200
END:STANDARD
END:VTIMEZONE
END:VCALENDAR
