BEGIN:VCALENDAR
PRODID:-//eluceo/ical//2.0/EN
VERSION:2.0
CALSCALE:GREGORIAN
BEGIN:VEVENT
UID:https://hbb.rivio.dev/senioren/2020/wedstrijd/26618
DTSTAMP:20260420T150813Z
SUMMARY:Mierlo 3 - Mixed 2
DESCRIPTION:Baan 12\, Wedstrijdnummer 23\, Afdeling Hoofdklasse 
DTSTART:20200930T200000
DTEND:20200930T230000
LOCATION:City Resort Helmond
ATTACH;FMTTYPE=text/plain:https://hbb.rivio.dev/senioren/2020/wedstrijd/266
 18
END:VEVENT
BEGIN:VEVENT
UID:https://hbb.rivio.dev/senioren/2020/wedstrijd/26662
DTSTAMP:20260420T150813Z
SUMMARY:Mierlo 3 - BCAB 1
DESCRIPTION:Baan 1\, Wedstrijdnummer 25\, Afdeling Hoofdklasse 
DTSTART:20201015T200000
DTEND:20201015T230000
LOCATION:City Resort Helmond
ATTACH;FMTTYPE=text/plain:https://hbb.rivio.dev/senioren/2020/wedstrijd/266
 62
END:VEVENT
BEGIN:VEVENT
UID:https://hbb.rivio.dev/senioren/2020/wedstrijd/26689
DTSTAMP:20260420T150813Z
SUMMARY:Hanevoet 1 - Mierlo 3
DESCRIPTION:Baan 13\, Wedstrijdnummer 29\, Afdeling Hoofdklasse 
DTSTART:20201029T200000
DTEND:20201029T230000
LOCATION:City Resort Helmond
ATTACH;FMTTYPE=text/plain:https://hbb.rivio.dev/senioren/2020/wedstrijd/266
 89
END:VEVENT
BEGIN:VEVENT
UID:https://hbb.rivio.dev/senioren/2020/wedstrijd/26714
DTSTAMP:20260420T150813Z
SUMMARY:Mixed 2 - Mierlo 3
DESCRIPTION:Baan 5\, Wedstrijdnummer 2007\, Afdeling Hoofdklasse 
DTSTART:20201111T200000
DTEND:20201111T230000
LOCATION:City Resort Helmond
ATTACH;FMTTYPE=text/plain:https://hbb.rivio.dev/senioren/2020/wedstrijd/267
 14
END:VEVENT
BEGIN:VEVENT
UID:https://hbb.rivio.dev/senioren/2020/wedstrijd/26749
DTSTAMP:20260420T150813Z
SUMMARY:Mierlo 3 - Phoenix 1
DESCRIPTION:Baan 1\, Wedstrijdnummer 33\, Afdeling Hoofdklasse 
DTSTART:20201125T200000
DTEND:20201125T230000
LOCATION:City Resort Helmond
ATTACH;FMTTYPE=text/plain:https://hbb.rivio.dev/senioren/2020/wedstrijd/267
 49
END:VEVENT
BEGIN:VEVENT
UID:https://hbb.rivio.dev/senioren/2020/wedstrijd/26822
DTSTAMP:20260420T150813Z
SUMMARY:Smashing Bruang 1 - Mierlo 3
DESCRIPTION:Baan 4\, Wedstrijdnummer 38\, Afdeling Hoofdklasse 
DTSTART:20201217T200000
DTEND:20201217T230000
LOCATION:City Resort Helmond
ATTACH;FMTTYPE=text/plain:https://hbb.rivio.dev/senioren/2020/wedstrijd/268
 22
END:VEVENT
BEGIN:VEVENT
UID:https://hbb.rivio.dev/senioren/2020/wedstrijd/26853
DTSTAMP:20260420T150813Z
SUMMARY:Mierlo 3 - Someren 1
DESCRIPTION:Baan 4\, Wedstrijdnummer 41\, Afdeling Hoofdklasse 
DTSTART:20210114T200000
DTEND:20210114T230000
LOCATION:City Resort Helmond
ATTACH;FMTTYPE=text/plain:https://hbb.rivio.dev/senioren/2020/wedstrijd/268
 53
END:VEVENT
BEGIN:VEVENT
UID:https://hbb.rivio.dev/senioren/2020/wedstrijd/26876
DTSTAMP:20260420T150813Z
SUMMARY:Mixed 2 - Mierlo 3
DESCRIPTION:Baan 2\, Wedstrijdnummer 1023\, Afdeling Hoofdklasse 
DTSTART:20210127T200000
DTEND:20210127T230000
LOCATION:City Resort Helmond
ATTACH;FMTTYPE=text/plain:https://hbb.rivio.dev/senioren/2020/wedstrijd/268
 76
END:VEVENT
BEGIN:VEVENT
UID:https://hbb.rivio.dev/senioren/2020/wedstrijd/26913
DTSTAMP:20260420T150813Z
SUMMARY:BCAB 1 - Mierlo 3
DESCRIPTION:Baan 14\, Wedstrijdnummer 1025\, Afdeling Hoofdklasse 
DTSTART:20210204T200000
DTEND:20210204T230000
LOCATION:City Resort Helmond
ATTACH;FMTTYPE=text/plain:https://hbb.rivio.dev/senioren/2020/wedstrijd/269
 13
END:VEVENT
BEGIN:VEVENT
UID:https://hbb.rivio.dev/senioren/2020/wedstrijd/26941
DTSTAMP:20260420T150813Z
SUMMARY:Mierlo 3 - Hanevoet 1
DESCRIPTION:Baan 5\, Wedstrijdnummer 1029\, Afdeling Hoofdklasse 
DTSTART:20210225T200000
DTEND:20210225T230000
LOCATION:City Resort Helmond
ATTACH;FMTTYPE=text/plain:https://hbb.rivio.dev/senioren/2020/wedstrijd/269
 41
END:VEVENT
BEGIN:VEVENT
UID:https://hbb.rivio.dev/senioren/2020/wedstrijd/26966
DTSTAMP:20260420T150813Z
SUMMARY:Phoenix 1 - Mierlo 3
DESCRIPTION:Baan 2\, Wedstrijdnummer 1033\, Afdeling Hoofdklasse 
DTSTART:20210310T200000
DTEND:20210310T230000
LOCATION:City Resort Helmond
ATTACH;FMTTYPE=text/plain:https://hbb.rivio.dev/senioren/2020/wedstrijd/269
 66
END:VEVENT
BEGIN:VEVENT
UID:https://hbb.rivio.dev/senioren/2020/wedstrijd/27009
DTSTAMP:20260420T150813Z
SUMMARY:Mierlo 3 - Smashing Bruang 1
DESCRIPTION:Baan 14\, Wedstrijdnummer 1038\, Afdeling Hoofdklasse 
DTSTART:20210325T200000
DTEND:20210325T230000
LOCATION:City Resort Helmond
ATTACH;FMTTYPE=text/plain:https://hbb.rivio.dev/senioren/2020/wedstrijd/270
 09
END:VEVENT
BEGIN:VEVENT
UID:https://hbb.rivio.dev/senioren/2020/wedstrijd/27031
DTSTAMP:20260420T150813Z
SUMMARY:Someren 1 - Mierlo 3
DESCRIPTION:Baan 12\, Wedstrijdnummer 1041\, Afdeling Hoofdklasse 
DTSTART:20210415T200000
DTEND:20210415T230000
LOCATION:City Resort Helmond
ATTACH;FMTTYPE=text/plain:https://hbb.rivio.dev/senioren/2020/wedstrijd/270
 31
END:VEVENT
BEGIN:VTIMEZONE
TZID:Europe/Amsterdam
BEGIN:STANDARD
DTSTART:20200101T000000
TZNAME:CET
TZOFFSETTO:+0100
TZOFFSETFROM:+0100
END:STANDARD
BEGIN:DAYLIGHT
DTSTART:20200329T030000
TZNAME:CEST
TZOFFSETTO:+0200
TZOFFSETFROM:+0100
END:DAYLIGHT
BEGIN:STANDARD
DTSTART:20201025T020000
TZNAME:CET
TZOFFSETTO:+0100
TZOFFSETFROM:+0200
END:STANDARD
BEGIN:DAYLIGHT
DTSTART:20210328T030000
TZNAME:CEST
TZOFFSETTO:+0200
TZOFFSETFROM:+0100
END:DAYLIGHT
BEGIN:STANDARD
DTSTART:20211031T020000
TZNAME:CET
TZOFFSETTO:+0100
TZOFFSETFROM:+0200
END:STANDARD
END:VTIMEZONE
END:VCALENDAR
