BEGIN:VCALENDAR
PRODID:-//eluceo/ical//2.0/EN
VERSION:2.0
CALSCALE:GREGORIAN
BEGIN:VEVENT
UID:https://hbb.rivio.dev/jeugd/2020/wedstrijd/26412
DTSTAMP:20260420T220414Z
SUMMARY:Gemert 1 - RBC 1
DESCRIPTION:Baan 13\, Afdeling F-klasse 
DTSTART:20201004T111500
DTEND:20201004T130000
LOCATION:City Resort Helmond
ATTACH;FMTTYPE=text/plain:https://hbb.rivio.dev/jeugd/2020/wedstrijd/26412
END:VEVENT
BEGIN:VEVENT
UID:https://hbb.rivio.dev/jeugd/2020/wedstrijd/26408
DTSTAMP:20260420T220414Z
SUMMARY:Mierlo 6 - Gemert 1
DESCRIPTION:Baan 12\, Afdeling F-klasse 
DTSTART:20201004T093000
DTEND:20201004T111500
LOCATION:City Resort Helmond
ATTACH;FMTTYPE=text/plain:https://hbb.rivio.dev/jeugd/2020/wedstrijd/26408
END:VEVENT
BEGIN:VEVENT
UID:https://hbb.rivio.dev/jeugd/2020/wedstrijd/26468
DTSTAMP:20260420T220414Z
SUMMARY:Gemert 1 - Mierlo 6
DESCRIPTION:Baan 12\, Afdeling F-klasse 
DTSTART:20201115T093000
DTEND:20201115T111500
LOCATION:City Resort Helmond
ATTACH;FMTTYPE=text/plain:https://hbb.rivio.dev/jeugd/2020/wedstrijd/26468
END:VEVENT
BEGIN:VEVENT
UID:https://hbb.rivio.dev/jeugd/2020/wedstrijd/26471
DTSTAMP:20260420T220414Z
SUMMARY:Mixed 4 - Gemert 1
DESCRIPTION:Baan 12\, Afdeling F-klasse 
DTSTART:20201115T111500
DTEND:20201115T130000
LOCATION:City Resort Helmond
ATTACH;FMTTYPE=text/plain:https://hbb.rivio.dev/jeugd/2020/wedstrijd/26471
END:VEVENT
BEGIN:VEVENT
UID:https://hbb.rivio.dev/jeugd/2020/wedstrijd/26497
DTSTAMP:20260420T220414Z
SUMMARY:Gemert 1 - Bakel 4
DESCRIPTION:Baan 11\, Afdeling F-klasse 
DTSTART:20201129T093000
DTEND:20201129T111500
LOCATION:City Resort Helmond
ATTACH;FMTTYPE=text/plain:https://hbb.rivio.dev/jeugd/2020/wedstrijd/26497
END:VEVENT
BEGIN:VEVENT
UID:https://hbb.rivio.dev/jeugd/2020/wedstrijd/26501
DTSTAMP:20260420T220414Z
SUMMARY:RBC 1 - Gemert 1
DESCRIPTION:Baan 12\, Afdeling F-klasse 
DTSTART:20201129T111500
DTEND:20201129T130000
LOCATION:City Resort Helmond
ATTACH;FMTTYPE=text/plain:https://hbb.rivio.dev/jeugd/2020/wedstrijd/26501
END:VEVENT
BEGIN:VEVENT
UID:https://hbb.rivio.dev/jeugd/2020/wedstrijd/26530
DTSTAMP:20260420T220414Z
SUMMARY:Gemert 1 - Mixed 3
DESCRIPTION:Baan 11\, Afdeling F-klasse 
DTSTART:20210110T111500
DTEND:20210110T130000
LOCATION:City Resort Helmond
ATTACH;FMTTYPE=text/plain:https://hbb.rivio.dev/jeugd/2020/wedstrijd/26530
END:VEVENT
BEGIN:VEVENT
UID:https://hbb.rivio.dev/jeugd/2020/wedstrijd/26529
DTSTAMP:20260420T220414Z
SUMMARY:Phoenix 4 - Gemert 1
DESCRIPTION:Baan 13\, Afdeling F-klasse 
DTSTART:20210110T093000
DTEND:20210110T111500
LOCATION:City Resort Helmond
ATTACH;FMTTYPE=text/plain:https://hbb.rivio.dev/jeugd/2020/wedstrijd/26529
END:VEVENT
BEGIN:VEVENT
UID:https://hbb.rivio.dev/jeugd/2020/wedstrijd/26554
DTSTAMP:20260420T220414Z
SUMMARY:Gemert 1 - Mixed 4
DESCRIPTION:Baan 5\, Afdeling F-klasse 
DTSTART:20210207T093000
DTEND:20210207T111500
LOCATION:City Resort Helmond
ATTACH;FMTTYPE=text/plain:https://hbb.rivio.dev/jeugd/2020/wedstrijd/26554
END:VEVENT
BEGIN:VEVENT
UID:https://hbb.rivio.dev/jeugd/2020/wedstrijd/26558
DTSTAMP:20260420T220414Z
SUMMARY:Bakel 4 - Gemert 1
DESCRIPTION:Baan 15\, Afdeling F-klasse 
DTSTART:20210207T111500
DTEND:20210207T130000
LOCATION:City Resort Helmond
ATTACH;FMTTYPE=text/plain:https://hbb.rivio.dev/jeugd/2020/wedstrijd/26558
END:VEVENT
BEGIN:VEVENT
UID:https://hbb.rivio.dev/jeugd/2020/wedstrijd/26576
DTSTAMP:20260420T220414Z
SUMMARY:Gemert 1 - Phoenix 4
DESCRIPTION:Baan 12\, Afdeling F-klasse 
DTSTART:20210307T093000
DTEND:20210307T111500
LOCATION:City Resort Helmond
ATTACH;FMTTYPE=text/plain:https://hbb.rivio.dev/jeugd/2020/wedstrijd/26576
END:VEVENT
BEGIN:VEVENT
UID:https://hbb.rivio.dev/jeugd/2020/wedstrijd/26578
DTSTAMP:20260420T220414Z
SUMMARY:Mixed 3 - Gemert 1
DESCRIPTION:Baan 11\, Afdeling F-klasse 
DTSTART:20210307T111500
DTEND:20210307T130000
LOCATION:City Resort Helmond
ATTACH;FMTTYPE=text/plain:https://hbb.rivio.dev/jeugd/2020/wedstrijd/26578
END:VEVENT
BEGIN:VTIMEZONE
TZID:Europe/Amsterdam
BEGIN:STANDARD
DTSTART:20200101T000000
TZNAME:CET
TZOFFSETTO:+0100
TZOFFSETFROM:+0100
END:STANDARD
BEGIN:DAYLIGHT
DTSTART:20200329T030000
TZNAME:CEST
TZOFFSETTO:+0200
TZOFFSETFROM:+0100
END:DAYLIGHT
BEGIN:STANDARD
DTSTART:20201025T020000
TZNAME:CET
TZOFFSETTO:+0100
TZOFFSETFROM:+0200
END:STANDARD
BEGIN:DAYLIGHT
DTSTART:20210328T030000
TZNAME:CEST
TZOFFSETTO:+0200
TZOFFSETFROM:+0100
END:DAYLIGHT
BEGIN:STANDARD
DTSTART:20211031T020000
TZNAME:CET
TZOFFSETTO:+0100
TZOFFSETFROM:+0200
END:STANDARD
END:VTIMEZONE
END:VCALENDAR
