BEGIN:VCALENDAR
PRODID:-//eluceo/ical//2.0/EN
VERSION:2.0
CALSCALE:GREGORIAN
BEGIN:VEVENT
UID:https://hbb.rivio.dev/senioren/2020/wedstrijd/26600
DTSTAMP:20260420T151226Z
SUMMARY:Gemert 2 - De Valken 3
DESCRIPTION:Baan 14\, Wedstrijdnummer 110\, Afdeling 2e klasse I
DTSTART:20200923T200000
DTEND:20200923T230000
LOCATION:City Resort Helmond
ATTACH;FMTTYPE=text/plain:https://hbb.rivio.dev/senioren/2020/wedstrijd/266
 00
END:VEVENT
BEGIN:VEVENT
UID:https://hbb.rivio.dev/senioren/2020/wedstrijd/26636
DTSTAMP:20260420T151226Z
SUMMARY:Gemert 2 - Someren 2
DESCRIPTION:Baan 5\, Wedstrijdnummer 113\, Afdeling 2e klasse I
DTSTART:20201007T200000
DTEND:20201007T230000
LOCATION:City Resort Helmond
ATTACH;FMTTYPE=text/plain:https://hbb.rivio.dev/senioren/2020/wedstrijd/266
 36
END:VEVENT
BEGIN:VEVENT
UID:https://hbb.rivio.dev/senioren/2020/wedstrijd/26661
DTSTAMP:20260420T151226Z
SUMMARY:Mierlo 6 - Gemert 2
DESCRIPTION:Baan 15\, Wedstrijdnummer 118\, Afdeling 2e klasse I
DTSTART:20201014T200000
DTEND:20201014T230000
LOCATION:City Resort Helmond
ATTACH;FMTTYPE=text/plain:https://hbb.rivio.dev/senioren/2020/wedstrijd/266
 61
END:VEVENT
BEGIN:VEVENT
UID:https://hbb.rivio.dev/senioren/2020/wedstrijd/26681
DTSTAMP:20260420T151226Z
SUMMARY:Gemert 2 - Geldrop 2
DESCRIPTION:Baan 15\, Wedstrijdnummer 121\, Afdeling 2e klasse I
DTSTART:20201028T200000
DTEND:20201028T230000
LOCATION:City Resort Helmond
ATTACH;FMTTYPE=text/plain:https://hbb.rivio.dev/senioren/2020/wedstrijd/266
 81
END:VEVENT
BEGIN:VEVENT
UID:https://hbb.rivio.dev/senioren/2020/wedstrijd/26733
DTSTAMP:20260420T151226Z
SUMMARY:Gemert 2 - Geldrop 1
DESCRIPTION:Baan 5\, Wedstrijdnummer 2032\, Afdeling 2e klasse I
DTSTART:20201118T200000
DTEND:20201118T230000
LOCATION:City Resort Helmond
ATTACH;FMTTYPE=text/plain:https://hbb.rivio.dev/senioren/2020/wedstrijd/267
 33
END:VEVENT
BEGIN:VEVENT
UID:https://hbb.rivio.dev/senioren/2020/wedstrijd/26757
DTSTAMP:20260420T151226Z
SUMMARY:Con Brio 4 - Gemert 2
DESCRIPTION:Baan 14\, Wedstrijdnummer 126\, Afdeling 2e klasse I
DTSTART:20201125T200000
DTEND:20201125T230000
LOCATION:City Resort Helmond
ATTACH;FMTTYPE=text/plain:https://hbb.rivio.dev/senioren/2020/wedstrijd/267
 57
END:VEVENT
BEGIN:VEVENT
UID:https://hbb.rivio.dev/senioren/2020/wedstrijd/26789
DTSTAMP:20260420T151226Z
SUMMARY:Gemert 2 - Hanevoet 3
DESCRIPTION:Baan 1\, Wedstrijdnummer 127\, Afdeling 2e klasse I
DTSTART:20201209T200000
DTEND:20201209T230000
LOCATION:City Resort Helmond
ATTACH;FMTTYPE=text/plain:https://hbb.rivio.dev/senioren/2020/wedstrijd/267
 89
END:VEVENT
BEGIN:VEVENT
UID:https://hbb.rivio.dev/senioren/2020/wedstrijd/26817
DTSTAMP:20260420T151226Z
SUMMARY:Mixed 5 - Gemert 2
DESCRIPTION:Baan 14\, Wedstrijdnummer 132\, Afdeling 2e klasse I
DTSTART:20201216T200000
DTEND:20201216T230000
LOCATION:City Resort Helmond
ATTACH;FMTTYPE=text/plain:https://hbb.rivio.dev/senioren/2020/wedstrijd/268
 17
END:VEVENT
BEGIN:VEVENT
UID:https://hbb.rivio.dev/senioren/2020/wedstrijd/26862
DTSTAMP:20260420T151226Z
SUMMARY:De Valken 3 - Gemert 2
DESCRIPTION:Baan 13\, Wedstrijdnummer 1110\, Afdeling 2e klasse I
DTSTART:20210120T200000
DTEND:20210120T230000
LOCATION:City Resort Helmond
ATTACH;FMTTYPE=text/plain:https://hbb.rivio.dev/senioren/2020/wedstrijd/268
 62
END:VEVENT
BEGIN:VEVENT
UID:https://hbb.rivio.dev/senioren/2020/wedstrijd/26894
DTSTAMP:20260420T151226Z
SUMMARY:Someren 2 - Gemert 2
DESCRIPTION:Baan 15\, Wedstrijdnummer 1113\, Afdeling 2e klasse I
DTSTART:20210128T200000
DTEND:20210128T230000
LOCATION:City Resort Helmond
ATTACH;FMTTYPE=text/plain:https://hbb.rivio.dev/senioren/2020/wedstrijd/268
 94
END:VEVENT
BEGIN:VEVENT
UID:https://hbb.rivio.dev/senioren/2020/wedstrijd/26919
DTSTAMP:20260420T151226Z
SUMMARY:Gemert 2 - Mierlo 6
DESCRIPTION:Baan 5\, Wedstrijdnummer 1118\, Afdeling 2e klasse I
DTSTART:20210210T200000
DTEND:20210210T230000
LOCATION:City Resort Helmond
ATTACH;FMTTYPE=text/plain:https://hbb.rivio.dev/senioren/2020/wedstrijd/269
 19
END:VEVENT
BEGIN:VEVENT
UID:https://hbb.rivio.dev/senioren/2020/wedstrijd/26949
DTSTAMP:20260420T151226Z
SUMMARY:Geldrop 2 - Gemert 2
DESCRIPTION:Baan 3\, Wedstrijdnummer 1121\, Afdeling 2e klasse I
DTSTART:20210303T200000
DTEND:20210303T230000
LOCATION:City Resort Helmond
ATTACH;FMTTYPE=text/plain:https://hbb.rivio.dev/senioren/2020/wedstrijd/269
 49
END:VEVENT
BEGIN:VEVENT
UID:https://hbb.rivio.dev/senioren/2020/wedstrijd/26972
DTSTAMP:20260420T151226Z
SUMMARY:Gemert 2 - Con Brio 4
DESCRIPTION:Baan 13\, Wedstrijdnummer 1126\, Afdeling 2e klasse I
DTSTART:20210310T200000
DTEND:20210310T230000
LOCATION:City Resort Helmond
ATTACH;FMTTYPE=text/plain:https://hbb.rivio.dev/senioren/2020/wedstrijd/269
 72
END:VEVENT
BEGIN:VEVENT
UID:https://hbb.rivio.dev/senioren/2020/wedstrijd/27001
DTSTAMP:20260420T151226Z
SUMMARY:Hanevoet 3 - Gemert 2
DESCRIPTION:Baan 1\, Wedstrijdnummer 1127\, Afdeling 2e klasse I
DTSTART:20210325T200000
DTEND:20210325T230000
LOCATION:City Resort Helmond
ATTACH;FMTTYPE=text/plain:https://hbb.rivio.dev/senioren/2020/wedstrijd/270
 01
END:VEVENT
BEGIN:VEVENT
UID:https://hbb.rivio.dev/senioren/2020/wedstrijd/27013
DTSTAMP:20260420T151226Z
SUMMARY:Gemert 2 - Mixed 5
DESCRIPTION:Baan 5\, Wedstrijdnummer 1132\, Afdeling 2e klasse I
DTSTART:20210331T200000
DTEND:20210331T230000
LOCATION:City Resort Helmond
ATTACH;FMTTYPE=text/plain:https://hbb.rivio.dev/senioren/2020/wedstrijd/270
 13
END:VEVENT
BEGIN:VTIMEZONE
TZID:Europe/Amsterdam
BEGIN:STANDARD
DTSTART:20200101T000000
TZNAME:CET
TZOFFSETTO:+0100
TZOFFSETFROM:+0100
END:STANDARD
BEGIN:DAYLIGHT
DTSTART:20200329T030000
TZNAME:CEST
TZOFFSETTO:+0200
TZOFFSETFROM:+0100
END:DAYLIGHT
BEGIN:STANDARD
DTSTART:20201025T020000
TZNAME:CET
TZOFFSETTO:+0100
TZOFFSETFROM:+0200
END:STANDARD
BEGIN:DAYLIGHT
DTSTART:20210328T030000
TZNAME:CEST
TZOFFSETTO:+0200
TZOFFSETFROM:+0100
END:DAYLIGHT
BEGIN:STANDARD
DTSTART:20211031T020000
TZNAME:CET
TZOFFSETTO:+0100
TZOFFSETFROM:+0200
END:STANDARD
END:VTIMEZONE
END:VCALENDAR
