BEGIN:VCALENDAR
PRODID:-//eluceo/ical//2.0/EN
VERSION:2.0
CALSCALE:GREGORIAN
BEGIN:VEVENT
UID:https://hbb.rivio.dev/senioren/2020/wedstrijd/26639
DTSTAMP:20260420T202305Z
SUMMARY:Gemert 1 - Geldrop 1
DESCRIPTION:Baan 13\, Wedstrijdnummer 140\, Afdeling 2e klasse II
DTSTART:20201007T200000
DTEND:20201007T230000
LOCATION:City Resort Helmond
ATTACH;FMTTYPE=text/plain:https://hbb.rivio.dev/senioren/2020/wedstrijd/266
 39
END:VEVENT
BEGIN:VEVENT
UID:https://hbb.rivio.dev/senioren/2020/wedstrijd/26682
DTSTAMP:20260420T202305Z
SUMMARY:Someren 3 - Gemert 1
DESCRIPTION:Baan 1\, Wedstrijdnummer 143\, Afdeling 2e klasse II
DTSTART:20201029T200000
DTEND:20201029T230000
LOCATION:City Resort Helmond
ATTACH;FMTTYPE=text/plain:https://hbb.rivio.dev/senioren/2020/wedstrijd/266
 82
END:VEVENT
BEGIN:VEVENT
UID:https://hbb.rivio.dev/senioren/2020/wedstrijd/26699
DTSTAMP:20260420T202305Z
SUMMARY:Mierlo 7 - Gemert 1
DESCRIPTION:Baan 13\, Wedstrijdnummer 146\, Afdeling 2e klasse II
DTSTART:20201104T200000
DTEND:20201104T230000
LOCATION:City Resort Helmond
ATTACH;FMTTYPE=text/plain:https://hbb.rivio.dev/senioren/2020/wedstrijd/266
 99
END:VEVENT
BEGIN:VEVENT
UID:https://hbb.rivio.dev/senioren/2020/wedstrijd/26731
DTSTAMP:20260420T202305Z
SUMMARY:Mixed 5 - Gemert 1
DESCRIPTION:Baan 3\, Wedstrijdnummer 2030\, Afdeling 2e klasse I
DTSTART:20201118T200000
DTEND:20201118T230000
LOCATION:City Resort Helmond
ATTACH;FMTTYPE=text/plain:https://hbb.rivio.dev/senioren/2020/wedstrijd/267
 31
END:VEVENT
BEGIN:VEVENT
UID:https://hbb.rivio.dev/senioren/2020/wedstrijd/26768
DTSTAMP:20260420T202305Z
SUMMARY:Bakel 3 - Gemert 1
DESCRIPTION:Baan 15\, Wedstrijdnummer 149\, Afdeling 2e klasse II
DTSTART:20201126T200000
DTEND:20201126T230000
LOCATION:City Resort Helmond
ATTACH;FMTTYPE=text/plain:https://hbb.rivio.dev/senioren/2020/wedstrijd/267
 68
END:VEVENT
BEGIN:VEVENT
UID:https://hbb.rivio.dev/senioren/2020/wedstrijd/26792
DTSTAMP:20260420T202305Z
SUMMARY:Gemert 1 - Phoenix 3
DESCRIPTION:Baan 4\, Wedstrijdnummer 150\, Afdeling 2e klasse II
DTSTART:20201209T200000
DTEND:20201209T230000
LOCATION:City Resort Helmond
ATTACH;FMTTYPE=text/plain:https://hbb.rivio.dev/senioren/2020/wedstrijd/267
 92
END:VEVENT
BEGIN:VEVENT
UID:https://hbb.rivio.dev/senioren/2020/wedstrijd/26838
DTSTAMP:20260420T202305Z
SUMMARY:RBC 2 - Gemert 1
DESCRIPTION:Baan 15\, Wedstrijdnummer 153\, Afdeling 2e klasse II
DTSTART:20210106T200000
DTEND:20210106T230000
LOCATION:City Resort Helmond
ATTACH;FMTTYPE=text/plain:https://hbb.rivio.dev/senioren/2020/wedstrijd/268
 38
END:VEVENT
BEGIN:VEVENT
UID:https://hbb.rivio.dev/senioren/2020/wedstrijd/26896
DTSTAMP:20260420T202305Z
SUMMARY:Geldrop 1 - Gemert 1
DESCRIPTION:Baan 2\, Wedstrijdnummer 1140\, Afdeling 2e klasse II
DTSTART:20210203T200000
DTEND:20210203T230000
LOCATION:City Resort Helmond
ATTACH;FMTTYPE=text/plain:https://hbb.rivio.dev/senioren/2020/wedstrijd/268
 96
END:VEVENT
BEGIN:VEVENT
UID:https://hbb.rivio.dev/senioren/2020/wedstrijd/26920
DTSTAMP:20260420T202305Z
SUMMARY:Gemert 1 - Someren 3
DESCRIPTION:Baan 11\, Wedstrijdnummer 1143\, Afdeling 2e klasse II
DTSTART:20210210T200000
DTEND:20210210T230000
LOCATION:City Resort Helmond
ATTACH;FMTTYPE=text/plain:https://hbb.rivio.dev/senioren/2020/wedstrijd/269
 20
END:VEVENT
BEGIN:VEVENT
UID:https://hbb.rivio.dev/senioren/2020/wedstrijd/26952
DTSTAMP:20260420T202305Z
SUMMARY:Gemert 1 - Mierlo 7
DESCRIPTION:Baan 11\, Wedstrijdnummer 1146\, Afdeling 2e klasse II
DTSTART:20210303T200000
DTEND:20210303T230000
LOCATION:City Resort Helmond
ATTACH;FMTTYPE=text/plain:https://hbb.rivio.dev/senioren/2020/wedstrijd/269
 52
END:VEVENT
BEGIN:VEVENT
UID:https://hbb.rivio.dev/senioren/2020/wedstrijd/26974
DTSTAMP:20260420T202305Z
SUMMARY:Gemert 1 - Bakel 3
DESCRIPTION:Baan 15\, Wedstrijdnummer 1149\, Afdeling 2e klasse II
DTSTART:20210310T200000
DTEND:20210310T230000
LOCATION:City Resort Helmond
ATTACH;FMTTYPE=text/plain:https://hbb.rivio.dev/senioren/2020/wedstrijd/269
 74
END:VEVENT
BEGIN:VEVENT
UID:https://hbb.rivio.dev/senioren/2020/wedstrijd/26997
DTSTAMP:20260420T202305Z
SUMMARY:Phoenix 3 - Gemert 1
DESCRIPTION:Baan 5\, Wedstrijdnummer 1150\, Afdeling 2e klasse II
DTSTART:20210324T200000
DTEND:20210324T230000
LOCATION:City Resort Helmond
ATTACH;FMTTYPE=text/plain:https://hbb.rivio.dev/senioren/2020/wedstrijd/269
 97
END:VEVENT
BEGIN:VEVENT
UID:https://hbb.rivio.dev/senioren/2020/wedstrijd/27015
DTSTAMP:20260420T202305Z
SUMMARY:Gemert 1 - RBC 2
DESCRIPTION:Baan 12\, Wedstrijdnummer 1153\, Afdeling 2e klasse II
DTSTART:20210331T200000
DTEND:20210331T230000
LOCATION:City Resort Helmond
ATTACH;FMTTYPE=text/plain:https://hbb.rivio.dev/senioren/2020/wedstrijd/270
 15
END:VEVENT
BEGIN:VTIMEZONE
TZID:Europe/Amsterdam
BEGIN:STANDARD
DTSTART:20200101T000000
TZNAME:CET
TZOFFSETTO:+0100
TZOFFSETFROM:+0100
END:STANDARD
BEGIN:DAYLIGHT
DTSTART:20200329T030000
TZNAME:CEST
TZOFFSETTO:+0200
TZOFFSETFROM:+0100
END:DAYLIGHT
BEGIN:STANDARD
DTSTART:20201025T020000
TZNAME:CET
TZOFFSETTO:+0100
TZOFFSETFROM:+0200
END:STANDARD
BEGIN:DAYLIGHT
DTSTART:20210328T030000
TZNAME:CEST
TZOFFSETTO:+0200
TZOFFSETFROM:+0100
END:DAYLIGHT
BEGIN:STANDARD
DTSTART:20211031T020000
TZNAME:CET
TZOFFSETTO:+0100
TZOFFSETFROM:+0200
END:STANDARD
END:VTIMEZONE
END:VCALENDAR
