BEGIN:VCALENDAR
PRODID:-//eluceo/ical//2.0/EN
VERSION:2.0
CALSCALE:GREGORIAN
BEGIN:VEVENT
UID:https://hbb.rivio.dev/senioren/2020/wedstrijd/26599
DTSTAMP:20260420T184415Z
SUMMARY:Geldrop 2 - Con Brio 4
DESCRIPTION:Baan 13\, Wedstrijdnummer 108\, Afdeling 2e klasse I
DTSTART:20200923T200000
DTEND:20200923T230000
LOCATION:City Resort Helmond
ATTACH;FMTTYPE=text/plain:https://hbb.rivio.dev/senioren/2020/wedstrijd/265
 99
END:VEVENT
BEGIN:VEVENT
UID:https://hbb.rivio.dev/senioren/2020/wedstrijd/26634
DTSTAMP:20260420T184415Z
SUMMARY:Geldrop 2 - Hanevoet 3
DESCRIPTION:Baan 3\, Wedstrijdnummer 111\, Afdeling 2e klasse I
DTSTART:20201007T200000
DTEND:20201007T230000
LOCATION:City Resort Helmond
ATTACH;FMTTYPE=text/plain:https://hbb.rivio.dev/senioren/2020/wedstrijd/266
 34
END:VEVENT
BEGIN:VEVENT
UID:https://hbb.rivio.dev/senioren/2020/wedstrijd/26660
DTSTAMP:20260420T184415Z
SUMMARY:Mixed 5 - Geldrop 2
DESCRIPTION:Baan 14\, Wedstrijdnummer 116\, Afdeling 2e klasse I
DTSTART:20201014T200000
DTEND:20201014T230000
LOCATION:City Resort Helmond
ATTACH;FMTTYPE=text/plain:https://hbb.rivio.dev/senioren/2020/wedstrijd/266
 60
END:VEVENT
BEGIN:VEVENT
UID:https://hbb.rivio.dev/senioren/2020/wedstrijd/26681
DTSTAMP:20260420T184415Z
SUMMARY:Gemert 2 - Geldrop 2
DESCRIPTION:Baan 15\, Wedstrijdnummer 121\, Afdeling 2e klasse I
DTSTART:20201028T200000
DTEND:20201028T230000
LOCATION:City Resort Helmond
ATTACH;FMTTYPE=text/plain:https://hbb.rivio.dev/senioren/2020/wedstrijd/266
 81
END:VEVENT
BEGIN:VEVENT
UID:https://hbb.rivio.dev/senioren/2020/wedstrijd/26734
DTSTAMP:20260420T184415Z
SUMMARY:Geldrop 2 - RBC 2
DESCRIPTION:Baan 11\, Wedstrijdnummer 2034\, Afdeling 2e klasse I
DTSTART:20201118T200000
DTEND:20201118T230000
LOCATION:City Resort Helmond
ATTACH;FMTTYPE=text/plain:https://hbb.rivio.dev/senioren/2020/wedstrijd/267
 34
END:VEVENT
BEGIN:VEVENT
UID:https://hbb.rivio.dev/senioren/2020/wedstrijd/26756
DTSTAMP:20260420T184415Z
SUMMARY:Geldrop 2 - De Valken 3
DESCRIPTION:Baan 13\, Wedstrijdnummer 125\, Afdeling 2e klasse I
DTSTART:20201125T200000
DTEND:20201125T230000
LOCATION:City Resort Helmond
ATTACH;FMTTYPE=text/plain:https://hbb.rivio.dev/senioren/2020/wedstrijd/267
 56
END:VEVENT
BEGIN:VEVENT
UID:https://hbb.rivio.dev/senioren/2020/wedstrijd/26804
DTSTAMP:20260420T184415Z
SUMMARY:Someren 2 - Geldrop 2
DESCRIPTION:Baan 11\, Wedstrijdnummer 129\, Afdeling 2e klasse I
DTSTART:20201210T200000
DTEND:20201210T230000
LOCATION:City Resort Helmond
ATTACH;FMTTYPE=text/plain:https://hbb.rivio.dev/senioren/2020/wedstrijd/268
 04
END:VEVENT
BEGIN:VEVENT
UID:https://hbb.rivio.dev/senioren/2020/wedstrijd/26818
DTSTAMP:20260420T184415Z
SUMMARY:Geldrop 2 - Mierlo 6
DESCRIPTION:Baan 15\, Wedstrijdnummer 133\, Afdeling 2e klasse I
DTSTART:20201216T200000
DTEND:20201216T230000
LOCATION:City Resort Helmond
ATTACH;FMTTYPE=text/plain:https://hbb.rivio.dev/senioren/2020/wedstrijd/268
 18
END:VEVENT
BEGIN:VEVENT
UID:https://hbb.rivio.dev/senioren/2020/wedstrijd/26861
DTSTAMP:20260420T184415Z
SUMMARY:Con Brio 4 - Geldrop 2
DESCRIPTION:Baan 12\, Wedstrijdnummer 1108\, Afdeling 2e klasse I
DTSTART:20210120T200000
DTEND:20210120T230000
LOCATION:City Resort Helmond
ATTACH;FMTTYPE=text/plain:https://hbb.rivio.dev/senioren/2020/wedstrijd/268
 61
END:VEVENT
BEGIN:VEVENT
UID:https://hbb.rivio.dev/senioren/2020/wedstrijd/26893
DTSTAMP:20260420T184415Z
SUMMARY:Hanevoet 3 - Geldrop 2
DESCRIPTION:Baan 14\, Wedstrijdnummer 1111\, Afdeling 2e klasse I
DTSTART:20210128T200000
DTEND:20210128T230000
LOCATION:City Resort Helmond
ATTACH;FMTTYPE=text/plain:https://hbb.rivio.dev/senioren/2020/wedstrijd/268
 93
END:VEVENT
BEGIN:VEVENT
UID:https://hbb.rivio.dev/senioren/2020/wedstrijd/26918
DTSTAMP:20260420T184415Z
SUMMARY:Geldrop 2 - Mixed 5
DESCRIPTION:Baan 4\, Wedstrijdnummer 1116\, Afdeling 2e klasse I
DTSTART:20210210T200000
DTEND:20210210T230000
LOCATION:City Resort Helmond
ATTACH;FMTTYPE=text/plain:https://hbb.rivio.dev/senioren/2020/wedstrijd/269
 18
END:VEVENT
BEGIN:VEVENT
UID:https://hbb.rivio.dev/senioren/2020/wedstrijd/26949
DTSTAMP:20260420T184415Z
SUMMARY:Geldrop 2 - Gemert 2
DESCRIPTION:Baan 3\, Wedstrijdnummer 1121\, Afdeling 2e klasse I
DTSTART:20210303T200000
DTEND:20210303T230000
LOCATION:City Resort Helmond
ATTACH;FMTTYPE=text/plain:https://hbb.rivio.dev/senioren/2020/wedstrijd/269
 49
END:VEVENT
BEGIN:VEVENT
UID:https://hbb.rivio.dev/senioren/2020/wedstrijd/26971
DTSTAMP:20260420T184415Z
SUMMARY:De Valken 3 - Geldrop 2
DESCRIPTION:Baan 12\, Wedstrijdnummer 1125\, Afdeling 2e klasse I
DTSTART:20210310T200000
DTEND:20210310T230000
LOCATION:City Resort Helmond
ATTACH;FMTTYPE=text/plain:https://hbb.rivio.dev/senioren/2020/wedstrijd/269
 71
END:VEVENT
BEGIN:VEVENT
UID:https://hbb.rivio.dev/senioren/2020/wedstrijd/26996
DTSTAMP:20260420T184415Z
SUMMARY:Geldrop 2 - Someren 2
DESCRIPTION:Baan 4\, Wedstrijdnummer 1129\, Afdeling 2e klasse I
DTSTART:20210324T200000
DTEND:20210324T230000
LOCATION:City Resort Helmond
ATTACH;FMTTYPE=text/plain:https://hbb.rivio.dev/senioren/2020/wedstrijd/269
 96
END:VEVENT
BEGIN:VEVENT
UID:https://hbb.rivio.dev/senioren/2020/wedstrijd/27014
DTSTAMP:20260420T184415Z
SUMMARY:Mierlo 6 - Geldrop 2
DESCRIPTION:Baan 11\, Wedstrijdnummer 1133\, Afdeling 2e klasse I
DTSTART:20210331T200000
DTEND:20210331T230000
LOCATION:City Resort Helmond
ATTACH;FMTTYPE=text/plain:https://hbb.rivio.dev/senioren/2020/wedstrijd/270
 14
END:VEVENT
BEGIN:VTIMEZONE
TZID:Europe/Amsterdam
BEGIN:STANDARD
DTSTART:20200101T000000
TZNAME:CET
TZOFFSETTO:+0100
TZOFFSETFROM:+0100
END:STANDARD
BEGIN:DAYLIGHT
DTSTART:20200329T030000
TZNAME:CEST
TZOFFSETTO:+0200
TZOFFSETFROM:+0100
END:DAYLIGHT
BEGIN:STANDARD
DTSTART:20201025T020000
TZNAME:CET
TZOFFSETTO:+0100
TZOFFSETFROM:+0200
END:STANDARD
BEGIN:DAYLIGHT
DTSTART:20210328T030000
TZNAME:CEST
TZOFFSETTO:+0200
TZOFFSETFROM:+0100
END:DAYLIGHT
BEGIN:STANDARD
DTSTART:20211031T020000
TZNAME:CET
TZOFFSETTO:+0100
TZOFFSETFROM:+0200
END:STANDARD
END:VTIMEZONE
END:VCALENDAR
