BEGIN:VCALENDAR
PRODID:-//eluceo/ical//2.0/EN
VERSION:2.0
CALSCALE:GREGORIAN
BEGIN:VEVENT
UID:https://hbb.rivio.dev/senioren/2020/wedstrijd/26612
DTSTAMP:20260420T151624Z
SUMMARY:Geldrop 1 - Someren 3
DESCRIPTION:Baan 1\, Wedstrijdnummer 137\, Afdeling 2e klasse II
DTSTART:20200930T200000
DTEND:20200930T230000
LOCATION:City Resort Helmond
ATTACH;FMTTYPE=text/plain:https://hbb.rivio.dev/senioren/2020/wedstrijd/266
 12
END:VEVENT
BEGIN:VEVENT
UID:https://hbb.rivio.dev/senioren/2020/wedstrijd/26639
DTSTAMP:20260420T151624Z
SUMMARY:Gemert 1 - Geldrop 1
DESCRIPTION:Baan 13\, Wedstrijdnummer 140\, Afdeling 2e klasse II
DTSTART:20201007T200000
DTEND:20201007T230000
LOCATION:City Resort Helmond
ATTACH;FMTTYPE=text/plain:https://hbb.rivio.dev/senioren/2020/wedstrijd/266
 39
END:VEVENT
BEGIN:VEVENT
UID:https://hbb.rivio.dev/senioren/2020/wedstrijd/26698
DTSTAMP:20260420T151624Z
SUMMARY:Geldrop 1 - Phoenix 3
DESCRIPTION:Baan 12\, Wedstrijdnummer 144\, Afdeling 2e klasse II
DTSTART:20201104T200000
DTEND:20201104T230000
LOCATION:City Resort Helmond
ATTACH;FMTTYPE=text/plain:https://hbb.rivio.dev/senioren/2020/wedstrijd/266
 98
END:VEVENT
BEGIN:VEVENT
UID:https://hbb.rivio.dev/senioren/2020/wedstrijd/26733
DTSTAMP:20260420T151624Z
SUMMARY:Gemert 2 - Geldrop 1
DESCRIPTION:Baan 5\, Wedstrijdnummer 2032\, Afdeling 2e klasse I
DTSTART:20201118T200000
DTEND:20201118T230000
LOCATION:City Resort Helmond
ATTACH;FMTTYPE=text/plain:https://hbb.rivio.dev/senioren/2020/wedstrijd/267
 33
END:VEVENT
BEGIN:VEVENT
UID:https://hbb.rivio.dev/senioren/2020/wedstrijd/26779
DTSTAMP:20260420T151624Z
SUMMARY:RBC 2 - Geldrop 1
DESCRIPTION:Baan 1\, Wedstrijdnummer 148\, Afdeling 2e klasse II
DTSTART:20201203T200000
DTEND:20201203T230000
LOCATION:City Resort Helmond
ATTACH;FMTTYPE=text/plain:https://hbb.rivio.dev/senioren/2020/wedstrijd/267
 79
END:VEVENT
BEGIN:VEVENT
UID:https://hbb.rivio.dev/senioren/2020/wedstrijd/26793
DTSTAMP:20260420T151624Z
SUMMARY:Geldrop 1 - Mierlo 7
DESCRIPTION:Baan 5\, Wedstrijdnummer 151\, Afdeling 2e klasse II
DTSTART:20201209T200000
DTEND:20201209T230000
LOCATION:City Resort Helmond
ATTACH;FMTTYPE=text/plain:https://hbb.rivio.dev/senioren/2020/wedstrijd/267
 93
END:VEVENT
BEGIN:VEVENT
UID:https://hbb.rivio.dev/senioren/2020/wedstrijd/26843
DTSTAMP:20260420T151624Z
SUMMARY:Bakel 3 - Geldrop 1
DESCRIPTION:Baan 5\, Wedstrijdnummer 155\, Afdeling 2e klasse II
DTSTART:20210107T200000
DTEND:20210107T230000
LOCATION:City Resort Helmond
ATTACH;FMTTYPE=text/plain:https://hbb.rivio.dev/senioren/2020/wedstrijd/268
 43
END:VEVENT
BEGIN:VEVENT
UID:https://hbb.rivio.dev/senioren/2020/wedstrijd/26869
DTSTAMP:20260420T151624Z
SUMMARY:Someren 3 - Geldrop 1
DESCRIPTION:Baan 5\, Wedstrijdnummer 1137\, Afdeling 2e klasse II
DTSTART:20210121T200000
DTEND:20210121T230000
LOCATION:City Resort Helmond
ATTACH;FMTTYPE=text/plain:https://hbb.rivio.dev/senioren/2020/wedstrijd/268
 69
END:VEVENT
BEGIN:VEVENT
UID:https://hbb.rivio.dev/senioren/2020/wedstrijd/26896
DTSTAMP:20260420T151624Z
SUMMARY:Geldrop 1 - Gemert 1
DESCRIPTION:Baan 2\, Wedstrijdnummer 1140\, Afdeling 2e klasse II
DTSTART:20210203T200000
DTEND:20210203T230000
LOCATION:City Resort Helmond
ATTACH;FMTTYPE=text/plain:https://hbb.rivio.dev/senioren/2020/wedstrijd/268
 96
END:VEVENT
BEGIN:VEVENT
UID:https://hbb.rivio.dev/senioren/2020/wedstrijd/26951
DTSTAMP:20260420T151624Z
SUMMARY:Phoenix 3 - Geldrop 1
DESCRIPTION:Baan 5\, Wedstrijdnummer 1144\, Afdeling 2e klasse II
DTSTART:20210303T200000
DTEND:20210303T230000
LOCATION:City Resort Helmond
ATTACH;FMTTYPE=text/plain:https://hbb.rivio.dev/senioren/2020/wedstrijd/269
 51
END:VEVENT
BEGIN:VEVENT
UID:https://hbb.rivio.dev/senioren/2020/wedstrijd/26973
DTSTAMP:20260420T151624Z
SUMMARY:Geldrop 1 - RBC 2
DESCRIPTION:Baan 14\, Wedstrijdnummer 1148\, Afdeling 2e klasse II
DTSTART:20210310T200000
DTEND:20210310T230000
LOCATION:City Resort Helmond
ATTACH;FMTTYPE=text/plain:https://hbb.rivio.dev/senioren/2020/wedstrijd/269
 73
END:VEVENT
BEGIN:VEVENT
UID:https://hbb.rivio.dev/senioren/2020/wedstrijd/26998
DTSTAMP:20260420T151624Z
SUMMARY:Mierlo 7 - Geldrop 1
DESCRIPTION:Baan 11\, Wedstrijdnummer 1151\, Afdeling 2e klasse II
DTSTART:20210324T200000
DTEND:20210324T230000
LOCATION:City Resort Helmond
ATTACH;FMTTYPE=text/plain:https://hbb.rivio.dev/senioren/2020/wedstrijd/269
 98
END:VEVENT
BEGIN:VEVENT
UID:https://hbb.rivio.dev/senioren/2020/wedstrijd/27016
DTSTAMP:20260420T151624Z
SUMMARY:Geldrop 1 - Bakel 3
DESCRIPTION:Baan 13\, Wedstrijdnummer 1155\, Afdeling 2e klasse II
DTSTART:20210331T200000
DTEND:20210331T230000
LOCATION:City Resort Helmond
ATTACH;FMTTYPE=text/plain:https://hbb.rivio.dev/senioren/2020/wedstrijd/270
 16
END:VEVENT
BEGIN:VTIMEZONE
TZID:Europe/Amsterdam
BEGIN:STANDARD
DTSTART:20200101T000000
TZNAME:CET
TZOFFSETTO:+0100
TZOFFSETFROM:+0100
END:STANDARD
BEGIN:DAYLIGHT
DTSTART:20200329T030000
TZNAME:CEST
TZOFFSETTO:+0200
TZOFFSETFROM:+0100
END:DAYLIGHT
BEGIN:STANDARD
DTSTART:20201025T020000
TZNAME:CET
TZOFFSETTO:+0100
TZOFFSETFROM:+0200
END:STANDARD
BEGIN:DAYLIGHT
DTSTART:20210328T030000
TZNAME:CEST
TZOFFSETTO:+0200
TZOFFSETFROM:+0100
END:DAYLIGHT
BEGIN:STANDARD
DTSTART:20211031T020000
TZNAME:CET
TZOFFSETTO:+0100
TZOFFSETFROM:+0200
END:STANDARD
END:VTIMEZONE
END:VCALENDAR
