BEGIN:VCALENDAR
PRODID:-//eluceo/ical//2.0/EN
VERSION:2.0
CALSCALE:GREGORIAN
BEGIN:VEVENT
UID:https://hbb.rivio.dev/senioren/2020/wedstrijd/26622
DTSTAMP:20260420T090348Z
SUMMARY:Mierlo 9 - Hanevoet 4
DESCRIPTION:Baan 1\, Wedstrijdnummer 158\, Afdeling 3e klasse I
DTSTART:20201001T200000
DTEND:20201001T230000
LOCATION:City Resort Helmond
ATTACH;FMTTYPE=text/plain:https://hbb.rivio.dev/senioren/2020/wedstrijd/266
 22
END:VEVENT
BEGIN:VEVENT
UID:https://hbb.rivio.dev/senioren/2020/wedstrijd/26648
DTSTAMP:20260420T090348Z
SUMMARY:De Valken 5 - Hanevoet 4
DESCRIPTION:Baan 12\, Wedstrijdnummer 163\, Afdeling 3e klasse I
DTSTART:20201008T200000
DTEND:20201008T230000
LOCATION:City Resort Helmond
ATTACH;FMTTYPE=text/plain:https://hbb.rivio.dev/senioren/2020/wedstrijd/266
 48
END:VEVENT
BEGIN:VEVENT
UID:https://hbb.rivio.dev/senioren/2020/wedstrijd/26686
DTSTAMP:20260420T090348Z
SUMMARY:Hanevoet 4 - BCAB 4
DESCRIPTION:Baan 5\, Wedstrijdnummer 167\, Afdeling 3e klasse I
DTSTART:20201029T200000
DTEND:20201029T230000
LOCATION:City Resort Helmond
ATTACH;FMTTYPE=text/plain:https://hbb.rivio.dev/senioren/2020/wedstrijd/266
 86
END:VEVENT
BEGIN:VEVENT
UID:https://hbb.rivio.dev/senioren/2020/wedstrijd/26720
DTSTAMP:20260420T090348Z
SUMMARY:Hanevoet 4 - Mierlo 8
DESCRIPTION:Baan 1\, Wedstrijdnummer 2045\, Afdeling 3e klasse I
DTSTART:20201112T200000
DTEND:20201112T230000
LOCATION:City Resort Helmond
ATTACH;FMTTYPE=text/plain:https://hbb.rivio.dev/senioren/2020/wedstrijd/267
 20
END:VEVENT
BEGIN:VEVENT
UID:https://hbb.rivio.dev/senioren/2020/wedstrijd/26744
DTSTAMP:20260420T090348Z
SUMMARY:Hanevoet 4 - Never Down 1
DESCRIPTION:Baan 11\, Wedstrijdnummer 169\, Afdeling 3e klasse I
DTSTART:20201119T200000
DTEND:20201119T230000
LOCATION:City Resort Helmond
ATTACH;FMTTYPE=text/plain:https://hbb.rivio.dev/senioren/2020/wedstrijd/267
 44
END:VEVENT
BEGIN:VEVENT
UID:https://hbb.rivio.dev/senioren/2020/wedstrijd/26769
DTSTAMP:20260420T090348Z
SUMMARY:Gemert 3 - Hanevoet 4
DESCRIPTION:Baan 1\, Wedstrijdnummer 172\, Afdeling 3e klasse I
DTSTART:20201202T200000
DTEND:20201202T230000
LOCATION:City Resort Helmond
ATTACH;FMTTYPE=text/plain:https://hbb.rivio.dev/senioren/2020/wedstrijd/267
 69
END:VEVENT
BEGIN:VEVENT
UID:https://hbb.rivio.dev/senioren/2020/wedstrijd/26819
DTSTAMP:20260420T090348Z
SUMMARY:Hanevoet 4 - Heiakker 1
DESCRIPTION:Baan 1\, Wedstrijdnummer 179\, Afdeling 3e klasse I
DTSTART:20201217T200000
DTEND:20201217T230000
LOCATION:City Resort Helmond
ATTACH;FMTTYPE=text/plain:https://hbb.rivio.dev/senioren/2020/wedstrijd/268
 19
END:VEVENT
BEGIN:VEVENT
UID:https://hbb.rivio.dev/senioren/2020/wedstrijd/26831
DTSTAMP:20260420T090348Z
SUMMARY:Geldrop 3 - Hanevoet 4
DESCRIPTION:Baan 3\, Wedstrijdnummer 182\, Afdeling 3e klasse I
DTSTART:20210106T200000
DTEND:20210106T230000
LOCATION:City Resort Helmond
ATTACH;FMTTYPE=text/plain:https://hbb.rivio.dev/senioren/2020/wedstrijd/268
 31
END:VEVENT
BEGIN:VEVENT
UID:https://hbb.rivio.dev/senioren/2020/wedstrijd/26885
DTSTAMP:20260420T090348Z
SUMMARY:Hanevoet 4 - Mierlo 9
DESCRIPTION:Baan 1\, Wedstrijdnummer 1158\, Afdeling 3e klasse I
DTSTART:20210128T200000
DTEND:20210128T230000
LOCATION:City Resort Helmond
ATTACH;FMTTYPE=text/plain:https://hbb.rivio.dev/senioren/2020/wedstrijd/268
 85
END:VEVENT
BEGIN:VEVENT
UID:https://hbb.rivio.dev/senioren/2020/wedstrijd/26911
DTSTAMP:20260420T090348Z
SUMMARY:Hanevoet 4 - De Valken 5
DESCRIPTION:Baan 12\, Wedstrijdnummer 1163\, Afdeling 3e klasse I
DTSTART:20210204T200000
DTEND:20210204T230000
LOCATION:City Resort Helmond
ATTACH;FMTTYPE=text/plain:https://hbb.rivio.dev/senioren/2020/wedstrijd/269
 11
END:VEVENT
BEGIN:VEVENT
UID:https://hbb.rivio.dev/senioren/2020/wedstrijd/26937
DTSTAMP:20260420T090348Z
SUMMARY:BCAB 4 - Hanevoet 4
DESCRIPTION:Baan 1\, Wedstrijdnummer 1167\, Afdeling 3e klasse I
DTSTART:20210225T200000
DTEND:20210225T230000
LOCATION:City Resort Helmond
ATTACH;FMTTYPE=text/plain:https://hbb.rivio.dev/senioren/2020/wedstrijd/269
 37
END:VEVENT
BEGIN:VEVENT
UID:https://hbb.rivio.dev/senioren/2020/wedstrijd/26956
DTSTAMP:20260420T090348Z
SUMMARY:Never Down 1 - Hanevoet 4
DESCRIPTION:Baan 2\, Wedstrijdnummer 1169\, Afdeling 3e klasse I
DTSTART:20210304T200000
DTEND:20210304T230000
LOCATION:City Resort Helmond
ATTACH;FMTTYPE=text/plain:https://hbb.rivio.dev/senioren/2020/wedstrijd/269
 56
END:VEVENT
BEGIN:VEVENT
UID:https://hbb.rivio.dev/senioren/2020/wedstrijd/26983
DTSTAMP:20260420T090348Z
SUMMARY:Hanevoet 4 - Gemert 3
DESCRIPTION:Baan 1\, Wedstrijdnummer 1172\, Afdeling 3e klasse I
DTSTART:20210318T200000
DTEND:20210318T230000
LOCATION:City Resort Helmond
ATTACH;FMTTYPE=text/plain:https://hbb.rivio.dev/senioren/2020/wedstrijd/269
 83
END:VEVENT
BEGIN:VEVENT
UID:https://hbb.rivio.dev/senioren/2020/wedstrijd/27005
DTSTAMP:20260420T090348Z
SUMMARY:Heiakker 1 - Hanevoet 4
DESCRIPTION:Baan 5\, Wedstrijdnummer 1179\, Afdeling 3e klasse I
DTSTART:20210325T200000
DTEND:20210325T230000
LOCATION:City Resort Helmond
ATTACH;FMTTYPE=text/plain:https://hbb.rivio.dev/senioren/2020/wedstrijd/270
 05
END:VEVENT
BEGIN:VEVENT
UID:https://hbb.rivio.dev/senioren/2020/wedstrijd/27027
DTSTAMP:20260420T090348Z
SUMMARY:Hanevoet 4 - Geldrop 3
DESCRIPTION:Baan 3\, Wedstrijdnummer 1182\, Afdeling 3e klasse I
DTSTART:20210415T200000
DTEND:20210415T230000
LOCATION:City Resort Helmond
ATTACH;FMTTYPE=text/plain:https://hbb.rivio.dev/senioren/2020/wedstrijd/270
 27
END:VEVENT
BEGIN:VTIMEZONE
TZID:Europe/Amsterdam
BEGIN:STANDARD
DTSTART:20200101T000000
TZNAME:CET
TZOFFSETTO:+0100
TZOFFSETFROM:+0100
END:STANDARD
BEGIN:DAYLIGHT
DTSTART:20200329T030000
TZNAME:CEST
TZOFFSETTO:+0200
TZOFFSETFROM:+0100
END:DAYLIGHT
BEGIN:STANDARD
DTSTART:20201025T020000
TZNAME:CET
TZOFFSETTO:+0100
TZOFFSETFROM:+0200
END:STANDARD
BEGIN:DAYLIGHT
DTSTART:20210328T030000
TZNAME:CEST
TZOFFSETTO:+0200
TZOFFSETFROM:+0100
END:DAYLIGHT
BEGIN:STANDARD
DTSTART:20211031T020000
TZNAME:CET
TZOFFSETTO:+0100
TZOFFSETFROM:+0200
END:STANDARD
END:VTIMEZONE
END:VCALENDAR
