BEGIN:VCALENDAR
PRODID:-//eluceo/ical//2.0/EN
VERSION:2.0
CALSCALE:GREGORIAN
BEGIN:VEVENT
UID:https://hbb.rivio.dev/senioren/2020/wedstrijd/26604
DTSTAMP:20260420T184420Z
SUMMARY:Hanevoet 2 - Mierlo 5
DESCRIPTION:Baan 3\, Wedstrijdnummer 81\, Afdeling 1e klasse 
DTSTART:20200924T200000
DTEND:20200924T230000
LOCATION:City Resort Helmond
ATTACH;FMTTYPE=text/plain:https://hbb.rivio.dev/senioren/2020/wedstrijd/266
 04
END:VEVENT
BEGIN:VEVENT
UID:https://hbb.rivio.dev/senioren/2020/wedstrijd/26629
DTSTAMP:20260420T184420Z
SUMMARY:Mixed 4 - Hanevoet 2
DESCRIPTION:Baan 13\, Wedstrijdnummer 85\, Afdeling 1e klasse 
DTSTART:20201001T200000
DTEND:20201001T230000
LOCATION:City Resort Helmond
ATTACH;FMTTYPE=text/plain:https://hbb.rivio.dev/senioren/2020/wedstrijd/266
 29
END:VEVENT
BEGIN:VEVENT
UID:https://hbb.rivio.dev/senioren/2020/wedstrijd/26666
DTSTAMP:20260420T184420Z
SUMMARY:Hanevoet 2 - Smashing Bruang 2
DESCRIPTION:Baan 5\, Wedstrijdnummer 89\, Afdeling 1e klasse 
DTSTART:20201015T200000
DTEND:20201015T230000
LOCATION:City Resort Helmond
ATTACH;FMTTYPE=text/plain:https://hbb.rivio.dev/senioren/2020/wedstrijd/266
 66
END:VEVENT
BEGIN:VEVENT
UID:https://hbb.rivio.dev/senioren/2020/wedstrijd/26691
DTSTAMP:20260420T184420Z
SUMMARY:Hanevoet 2 - Bakel 2
DESCRIPTION:Baan 15\, Wedstrijdnummer 91\, Afdeling 1e klasse 
DTSTART:20201029T200000
DTEND:20201029T230000
LOCATION:City Resort Helmond
ATTACH;FMTTYPE=text/plain:https://hbb.rivio.dev/senioren/2020/wedstrijd/266
 91
END:VEVENT
BEGIN:VEVENT
UID:https://hbb.rivio.dev/senioren/2020/wedstrijd/27036
DTSTAMP:20260420T184420Z
SUMMARY:Smashing Bruang 2 - Hanevoet 2
DESCRIPTION:Baan 11\, Wedstrijdnummer 2056\, Afdeling 1e klasse 
DTSTART:20201112T200000
DTEND:20201112T230000
LOCATION:City Resort Helmond
ATTACH;FMTTYPE=text/plain:https://hbb.rivio.dev/senioren/2020/wedstrijd/270
 36
END:VEVENT
BEGIN:VEVENT
UID:https://hbb.rivio.dev/senioren/2020/wedstrijd/26762
DTSTAMP:20260420T184420Z
SUMMARY:BC '85 1 - Hanevoet 2
DESCRIPTION:Baan 4\, Wedstrijdnummer 96\, Afdeling 1e klasse 
DTSTART:20201126T200000
DTEND:20201126T230000
LOCATION:City Resort Helmond
ATTACH;FMTTYPE=text/plain:https://hbb.rivio.dev/senioren/2020/wedstrijd/267
 62
END:VEVENT
BEGIN:VEVENT
UID:https://hbb.rivio.dev/senioren/2020/wedstrijd/26826
DTSTAMP:20260420T184420Z
SUMMARY:De Valken 2 - Hanevoet 2
DESCRIPTION:Baan 13\, Wedstrijdnummer 106\, Afdeling 1e klasse 
DTSTART:20201217T200000
DTEND:20201217T230000
LOCATION:City Resort Helmond
ATTACH;FMTTYPE=text/plain:https://hbb.rivio.dev/senioren/2020/wedstrijd/268
 26
END:VEVENT
BEGIN:VEVENT
UID:https://hbb.rivio.dev/senioren/2020/wedstrijd/26856
DTSTAMP:20260420T184420Z
SUMMARY:Mierlo 5 - Hanevoet 2
DESCRIPTION:Baan 12\, Wedstrijdnummer 1081\, Afdeling 1e klasse 
DTSTART:20210114T200000
DTEND:20210114T230000
LOCATION:City Resort Helmond
ATTACH;FMTTYPE=text/plain:https://hbb.rivio.dev/senioren/2020/wedstrijd/268
 56
END:VEVENT
BEGIN:VEVENT
UID:https://hbb.rivio.dev/senioren/2020/wedstrijd/26889
DTSTAMP:20260420T184420Z
SUMMARY:Hanevoet 2 - Mixed 4
DESCRIPTION:Baan 5\, Wedstrijdnummer 1085\, Afdeling 1e klasse 
DTSTART:20210128T200000
DTEND:20210128T230000
LOCATION:City Resort Helmond
ATTACH;FMTTYPE=text/plain:https://hbb.rivio.dev/senioren/2020/wedstrijd/268
 89
END:VEVENT
BEGIN:VEVENT
UID:https://hbb.rivio.dev/senioren/2020/wedstrijd/26927
DTSTAMP:20260420T184420Z
SUMMARY:Smashing Bruang 2 - Hanevoet 2
DESCRIPTION:Baan 3\, Wedstrijdnummer 1089\, Afdeling 1e klasse 
DTSTART:20210211T200000
DTEND:20210211T230000
LOCATION:City Resort Helmond
ATTACH;FMTTYPE=text/plain:https://hbb.rivio.dev/senioren/2020/wedstrijd/269
 27
END:VEVENT
BEGIN:VEVENT
UID:https://hbb.rivio.dev/senioren/2020/wedstrijd/26942
DTSTAMP:20260420T184420Z
SUMMARY:Bakel 2 - Hanevoet 2
DESCRIPTION:Baan 11\, Wedstrijdnummer 1091\, Afdeling 1e klasse 
DTSTART:20210225T200000
DTEND:20210225T230000
LOCATION:City Resort Helmond
ATTACH;FMTTYPE=text/plain:https://hbb.rivio.dev/senioren/2020/wedstrijd/269
 42
END:VEVENT
BEGIN:VEVENT
UID:https://hbb.rivio.dev/senioren/2020/wedstrijd/26963
DTSTAMP:20260420T184420Z
SUMMARY:Hanevoet 2 - BC '85 1
DESCRIPTION:Baan 14\, Wedstrijdnummer 1096\, Afdeling 1e klasse 
DTSTART:20210304T200000
DTEND:20210304T230000
LOCATION:City Resort Helmond
ATTACH;FMTTYPE=text/plain:https://hbb.rivio.dev/senioren/2020/wedstrijd/269
 63
END:VEVENT
BEGIN:VEVENT
UID:https://hbb.rivio.dev/senioren/2020/wedstrijd/27019
DTSTAMP:20260420T184420Z
SUMMARY:Hanevoet 2 - De Valken 2
DESCRIPTION:Baan 3\, Wedstrijdnummer 1106\, Afdeling 1e klasse 
DTSTART:20210401T200000
DTEND:20210401T230000
LOCATION:City Resort Helmond
ATTACH;FMTTYPE=text/plain:https://hbb.rivio.dev/senioren/2020/wedstrijd/270
 19
END:VEVENT
BEGIN:VTIMEZONE
TZID:Europe/Amsterdam
BEGIN:STANDARD
DTSTART:20200101T000000
TZNAME:CET
TZOFFSETTO:+0100
TZOFFSETFROM:+0100
END:STANDARD
BEGIN:DAYLIGHT
DTSTART:20200329T030000
TZNAME:CEST
TZOFFSETTO:+0200
TZOFFSETFROM:+0100
END:DAYLIGHT
BEGIN:STANDARD
DTSTART:20201025T020000
TZNAME:CET
TZOFFSETTO:+0100
TZOFFSETFROM:+0200
END:STANDARD
BEGIN:DAYLIGHT
DTSTART:20210328T030000
TZNAME:CEST
TZOFFSETTO:+0200
TZOFFSETFROM:+0100
END:DAYLIGHT
BEGIN:STANDARD
DTSTART:20211031T020000
TZNAME:CET
TZOFFSETTO:+0100
TZOFFSETFROM:+0200
END:STANDARD
END:VTIMEZONE
END:VCALENDAR
