BEGIN:VCALENDAR
PRODID:-//eluceo/ical//2.0/EN
VERSION:2.0
CALSCALE:GREGORIAN
BEGIN:VEVENT
UID:https://hbb.rivio.dev/senioren/2019/wedstrijd/25794
DTSTAMP:20260420T234113Z
SUMMARY:BCV '73 2 - Geldrop 2
DESCRIPTION:Baan 12\, Wedstrijdnummer 159\, Afdeling 3e klasse I
DTSTART:20190919T200000
DTEND:20190919T230000
LOCATION:City Resort Helmond
ATTACH;FMTTYPE=text/plain:https://hbb.rivio.dev/senioren/2019/wedstrijd/257
 94
END:VEVENT
BEGIN:VEVENT
UID:https://hbb.rivio.dev/senioren/2019/wedstrijd/25806
DTSTAMP:20260420T234113Z
SUMMARY:Geldrop 2 - Veldhoven 1
DESCRIPTION:Baan 14\, Wedstrijdnummer 162\, Afdeling 3e klasse I
DTSTART:20190925T200000
DTEND:20190925T230000
LOCATION:City Resort Helmond
ATTACH;FMTTYPE=text/plain:https://hbb.rivio.dev/senioren/2019/wedstrijd/258
 06
END:VEVENT
BEGIN:VEVENT
UID:https://hbb.rivio.dev/senioren/2019/wedstrijd/25900
DTSTAMP:20260420T234113Z
SUMMARY:Geldrop 2 - Someren 4
DESCRIPTION:Baan 3\, Wedstrijdnummer 3026\, Afdeling 3e klasse I
DTSTART:20191106T200000
DTEND:20191106T230000
LOCATION:City Resort Helmond
ATTACH;FMTTYPE=text/plain:https://hbb.rivio.dev/senioren/2019/wedstrijd/259
 00
END:VEVENT
BEGIN:VEVENT
UID:https://hbb.rivio.dev/senioren/2019/wedstrijd/25930
DTSTAMP:20260420T234113Z
SUMMARY:Never Down 2 - Geldrop 2
DESCRIPTION:Baan 3\, Wedstrijdnummer 168\, Afdeling 3e klasse I
DTSTART:20191114T200000
DTEND:20191114T230000
LOCATION:City Resort Helmond
ATTACH;FMTTYPE=text/plain:https://hbb.rivio.dev/senioren/2019/wedstrijd/259
 30
END:VEVENT
BEGIN:VEVENT
UID:https://hbb.rivio.dev/senioren/2019/wedstrijd/25958
DTSTAMP:20260420T234113Z
SUMMARY:Geldrop 2 - Gemert 3
DESCRIPTION:Baan 1\, Wedstrijdnummer 171\, Afdeling 3e klasse I
DTSTART:20191127T200000
DTEND:20191127T230000
LOCATION:City Resort Helmond
ATTACH;FMTTYPE=text/plain:https://hbb.rivio.dev/senioren/2019/wedstrijd/259
 58
END:VEVENT
BEGIN:VEVENT
UID:https://hbb.rivio.dev/senioren/2019/wedstrijd/26005
DTSTAMP:20260420T234113Z
SUMMARY:BCAB 4 - Geldrop 2
DESCRIPTION:Baan 13\, Wedstrijdnummer 173\, Afdeling 3e klasse I
DTSTART:20191212T200000
DTEND:20191212T230000
LOCATION:City Resort Helmond
ATTACH;FMTTYPE=text/plain:https://hbb.rivio.dev/senioren/2019/wedstrijd/260
 05
END:VEVENT
BEGIN:VEVENT
UID:https://hbb.rivio.dev/senioren/2019/wedstrijd/26013
DTSTAMP:20260420T234113Z
SUMMARY:Geldrop 2 - Mierlo 9
DESCRIPTION:Baan 11\, Wedstrijdnummer 176\, Afdeling 3e klasse I
DTSTART:20191218T200000
DTEND:20191218T230000
LOCATION:City Resort Helmond
ATTACH;FMTTYPE=text/plain:https://hbb.rivio.dev/senioren/2019/wedstrijd/260
 13
END:VEVENT
BEGIN:VEVENT
UID:https://hbb.rivio.dev/senioren/2019/wedstrijd/26290
DTSTAMP:20260420T234113Z
SUMMARY:Geldrop 2 - Never Down 2
DESCRIPTION:Baan 13\, Wedstrijdnummer 3055\, Afdeling 3e klasse I
DTSTART:20200122T200000
DTEND:20200122T230000
LOCATION:City Resort Helmond
ATTACH;FMTTYPE=text/plain:https://hbb.rivio.dev/senioren/2019/wedstrijd/262
 90
END:VEVENT
BEGIN:VEVENT
UID:https://hbb.rivio.dev/senioren/2019/wedstrijd/26078
DTSTAMP:20260420T234113Z
SUMMARY:Geldrop 2 - BCV '73 2
DESCRIPTION:Baan 12\, Wedstrijdnummer 1159\, Afdeling 3e klasse I
DTSTART:20200129T200000
DTEND:20200129T230000
LOCATION:City Resort Helmond
ATTACH;FMTTYPE=text/plain:https://hbb.rivio.dev/senioren/2019/wedstrijd/260
 78
END:VEVENT
BEGIN:VEVENT
UID:https://hbb.rivio.dev/senioren/2019/wedstrijd/26110
DTSTAMP:20260420T234113Z
SUMMARY:Veldhoven 1 - Geldrop 2
DESCRIPTION:Baan 14\, Wedstrijdnummer 1162\, Afdeling 3e klasse I
DTSTART:20200206T200000
DTEND:20200206T230000
LOCATION:City Resort Helmond
ATTACH;FMTTYPE=text/plain:https://hbb.rivio.dev/senioren/2019/wedstrijd/261
 10
END:VEVENT
BEGIN:VEVENT
UID:https://hbb.rivio.dev/senioren/2019/wedstrijd/26177
DTSTAMP:20260420T234113Z
SUMMARY:Geldrop 2 - Never Down 2
DESCRIPTION:Baan 11\, Wedstrijdnummer 1168\, Afdeling 3e klasse I
DTSTART:20200311T200000
DTEND:20200311T230000
LOCATION:City Resort Helmond
ATTACH;FMTTYPE=text/plain:https://hbb.rivio.dev/senioren/2019/wedstrijd/261
 77
END:VEVENT
BEGIN:VEVENT
UID:https://hbb.rivio.dev/senioren/2019/wedstrijd/26211
DTSTAMP:20260420T234113Z
SUMMARY:Gemert 3 - Geldrop 2
DESCRIPTION:Baan 3\, Wedstrijdnummer 1171\, Afdeling 3e klasse I
DTSTART:20200325T200000
DTEND:20200325T230000
LOCATION:City Resort Helmond
ATTACH;FMTTYPE=text/plain:https://hbb.rivio.dev/senioren/2019/wedstrijd/262
 11
END:VEVENT
BEGIN:VEVENT
UID:https://hbb.rivio.dev/senioren/2019/wedstrijd/26237
DTSTAMP:20260420T234113Z
SUMMARY:Geldrop 2 - BCAB 4
DESCRIPTION:Baan 1\, Wedstrijdnummer 1173\, Afdeling 3e klasse I
DTSTART:20200415T200000
DTEND:20200415T230000
LOCATION:City Resort Helmond
ATTACH;FMTTYPE=text/plain:https://hbb.rivio.dev/senioren/2019/wedstrijd/262
 37
END:VEVENT
BEGIN:VEVENT
UID:https://hbb.rivio.dev/senioren/2019/wedstrijd/26271
DTSTAMP:20260420T234113Z
SUMMARY:Mierlo 9 - Geldrop 2
DESCRIPTION:Baan 1\, Wedstrijdnummer 1176\, Afdeling 3e klasse I
DTSTART:20200520T200000
DTEND:20200520T230000
LOCATION:City Resort Helmond
ATTACH;FMTTYPE=text/plain:https://hbb.rivio.dev/senioren/2019/wedstrijd/262
 71
END:VEVENT
BEGIN:VTIMEZONE
TZID:Europe/Amsterdam
BEGIN:STANDARD
DTSTART:20190101T000000
TZNAME:CET
TZOFFSETTO:+0100
TZOFFSETFROM:+0100
END:STANDARD
BEGIN:DAYLIGHT
DTSTART:20190331T030000
TZNAME:CEST
TZOFFSETTO:+0200
TZOFFSETFROM:+0100
END:DAYLIGHT
BEGIN:STANDARD
DTSTART:20191027T020000
TZNAME:CET
TZOFFSETTO:+0100
TZOFFSETFROM:+0200
END:STANDARD
BEGIN:DAYLIGHT
DTSTART:20200329T030000
TZNAME:CEST
TZOFFSETTO:+0200
TZOFFSETFROM:+0100
END:DAYLIGHT
BEGIN:STANDARD
DTSTART:20201025T020000
TZNAME:CET
TZOFFSETTO:+0100
TZOFFSETFROM:+0200
END:STANDARD
END:VTIMEZONE
END:VCALENDAR
