BEGIN:VCALENDAR
PRODID:-//eluceo/ical//2.0/EN
VERSION:2.0
CALSCALE:GREGORIAN
BEGIN:VEVENT
UID:https://hbb.rivio.dev/senioren/2019/wedstrijd/25813
DTSTAMP:20260420T234409Z
SUMMARY:Someren 5 - BC '85 2
DESCRIPTION:Baan 11\, Wedstrijdnummer 204\, Afdeling 4e klasse I
DTSTART:20190926T200000
DTEND:20190926T230000
LOCATION:City Resort Helmond
ATTACH;FMTTYPE=text/plain:https://hbb.rivio.dev/senioren/2019/wedstrijd/258
 13
END:VEVENT
BEGIN:VEVENT
UID:https://hbb.rivio.dev/senioren/2019/wedstrijd/25830
DTSTAMP:20260420T234409Z
SUMMARY:BC '85 2 - RBC 3
DESCRIPTION:Baan 3\, Wedstrijdnummer 207\, Afdeling 4e klasse I
DTSTART:20191003T200000
DTEND:20191003T230000
LOCATION:City Resort Helmond
ATTACH;FMTTYPE=text/plain:https://hbb.rivio.dev/senioren/2019/wedstrijd/258
 30
END:VEVENT
BEGIN:VEVENT
UID:https://hbb.rivio.dev/senioren/2019/wedstrijd/25886
DTSTAMP:20260420T234409Z
SUMMARY:Ganzeveer 4 - BC '85 2
DESCRIPTION:Baan 14\, Wedstrijdnummer 209\, Afdeling 4e klasse I
DTSTART:20191030T200000
DTEND:20191030T230000
LOCATION:City Resort Helmond
ATTACH;FMTTYPE=text/plain:https://hbb.rivio.dev/senioren/2019/wedstrijd/258
 86
END:VEVENT
BEGIN:VEVENT
UID:https://hbb.rivio.dev/senioren/2019/wedstrijd/25922
DTSTAMP:20260420T234409Z
SUMMARY:BC '85 2 - Mierlo 12
DESCRIPTION:Baan 5\, Wedstrijdnummer 3035\, Afdeling 4e klasse I
DTSTART:20191113T200000
DTEND:20191113T230000
LOCATION:City Resort Helmond
ATTACH;FMTTYPE=text/plain:https://hbb.rivio.dev/senioren/2019/wedstrijd/259
 22
END:VEVENT
BEGIN:VEVENT
UID:https://hbb.rivio.dev/senioren/2019/wedstrijd/25941
DTSTAMP:20260420T234409Z
SUMMARY:BC '85 2 - Con Brio 7
DESCRIPTION:Baan 4\, Wedstrijdnummer 212\, Afdeling 4e klasse I
DTSTART:20191120T200000
DTEND:20191120T230000
LOCATION:City Resort Helmond
ATTACH;FMTTYPE=text/plain:https://hbb.rivio.dev/senioren/2019/wedstrijd/259
 41
END:VEVENT
BEGIN:VEVENT
UID:https://hbb.rivio.dev/senioren/2019/wedstrijd/25965
DTSTAMP:20260420T234409Z
SUMMARY:Mixed 7 - BC '85 2
DESCRIPTION:Baan 13\, Wedstrijdnummer 214\, Afdeling 4e klasse I
DTSTART:20191127T200000
DTEND:20191127T230000
LOCATION:City Resort Helmond
ATTACH;FMTTYPE=text/plain:https://hbb.rivio.dev/senioren/2019/wedstrijd/259
 65
END:VEVENT
BEGIN:VEVENT
UID:https://hbb.rivio.dev/senioren/2019/wedstrijd/25995
DTSTAMP:20260420T234409Z
SUMMARY:BC '85 2 - Mierlo 11
DESCRIPTION:Baan 13\, Wedstrijdnummer 217\, Afdeling 4e klasse I
DTSTART:20191211T200000
DTEND:20191211T230000
LOCATION:City Resort Helmond
ATTACH;FMTTYPE=text/plain:https://hbb.rivio.dev/senioren/2019/wedstrijd/259
 95
END:VEVENT
BEGIN:VEVENT
UID:https://hbb.rivio.dev/senioren/2019/wedstrijd/26293
DTSTAMP:20260420T234409Z
SUMMARY:BC '85 2 - Ganzeveer 4
DESCRIPTION:Baan 12\, Wedstrijdnummer 3058\, Afdeling 4e klasse I
DTSTART:20200108T200000
DTEND:20200108T230000
LOCATION:City Resort Helmond
ATTACH;FMTTYPE=text/plain:https://hbb.rivio.dev/senioren/2019/wedstrijd/262
 93
END:VEVENT
BEGIN:VEVENT
UID:https://hbb.rivio.dev/senioren/2019/wedstrijd/26070
DTSTAMP:20260420T234409Z
SUMMARY:BC '85 2 - Someren 5
DESCRIPTION:Baan 14\, Wedstrijdnummer 1204\, Afdeling 4e klasse I
DTSTART:20200123T200000
DTEND:20200123T230000
LOCATION:City Resort Helmond
ATTACH;FMTTYPE=text/plain:https://hbb.rivio.dev/senioren/2019/wedstrijd/260
 70
END:VEVENT
BEGIN:VEVENT
UID:https://hbb.rivio.dev/senioren/2019/wedstrijd/26152
DTSTAMP:20260420T234409Z
SUMMARY:RBC 3 - BC '85 2
DESCRIPTION:Baan 13\, Wedstrijdnummer 1207\, Afdeling 4e klasse I
DTSTART:20200220T200000
DTEND:20200220T230000
LOCATION:City Resort Helmond
ATTACH;FMTTYPE=text/plain:https://hbb.rivio.dev/senioren/2019/wedstrijd/261
 52
END:VEVENT
BEGIN:VEVENT
UID:https://hbb.rivio.dev/senioren/2019/wedstrijd/26157
DTSTAMP:20260420T234409Z
SUMMARY:BC '85 2 - Ganzeveer 4
DESCRIPTION:Baan 13\, Wedstrijdnummer 1209\, Afdeling 4e klasse I
DTSTART:20200304T200000
DTEND:20200304T230000
LOCATION:City Resort Helmond
ATTACH;FMTTYPE=text/plain:https://hbb.rivio.dev/senioren/2019/wedstrijd/261
 57
END:VEVENT
BEGIN:VEVENT
UID:https://hbb.rivio.dev/senioren/2019/wedstrijd/26194
DTSTAMP:20260420T234409Z
SUMMARY:Con Brio 7 - BC '85 2
DESCRIPTION:Baan 12\, Wedstrijdnummer 1212\, Afdeling 4e klasse I
DTSTART:20200318T200000
DTEND:20200318T230000
LOCATION:City Resort Helmond
ATTACH;FMTTYPE=text/plain:https://hbb.rivio.dev/senioren/2019/wedstrijd/261
 94
END:VEVENT
BEGIN:VEVENT
UID:https://hbb.rivio.dev/senioren/2019/wedstrijd/26219
DTSTAMP:20260420T234409Z
SUMMARY:BC '85 2 - Mixed 7
DESCRIPTION:Baan 14\, Wedstrijdnummer 1214\, Afdeling 4e klasse I
DTSTART:20200326T200000
DTEND:20200326T230000
LOCATION:City Resort Helmond
ATTACH;FMTTYPE=text/plain:https://hbb.rivio.dev/senioren/2019/wedstrijd/262
 19
END:VEVENT
BEGIN:VEVENT
UID:https://hbb.rivio.dev/senioren/2019/wedstrijd/26355
DTSTAMP:20260420T234409Z
SUMMARY:BC '85 2 - Mixed 7
DESCRIPTION:Baan 3\, Wedstrijdnummer 3069\, Afdeling 4e klasse I
DTSTART:20200416T200000
DTEND:20200416T230000
LOCATION:City Resort Helmond
ATTACH;FMTTYPE=text/plain:https://hbb.rivio.dev/senioren/2019/wedstrijd/263
 55
END:VEVENT
BEGIN:VEVENT
UID:https://hbb.rivio.dev/senioren/2019/wedstrijd/26252
DTSTAMP:20260420T234409Z
SUMMARY:Mierlo 11 - BC '85 2
DESCRIPTION:Baan 4\, Wedstrijdnummer 1217\, Afdeling 4e klasse I
DTSTART:20200513T200000
DTEND:20200513T230000
LOCATION:City Resort Helmond
ATTACH;FMTTYPE=text/plain:https://hbb.rivio.dev/senioren/2019/wedstrijd/262
 52
END:VEVENT
BEGIN:VTIMEZONE
TZID:Europe/Amsterdam
BEGIN:STANDARD
DTSTART:20190101T000000
TZNAME:CET
TZOFFSETTO:+0100
TZOFFSETFROM:+0100
END:STANDARD
BEGIN:DAYLIGHT
DTSTART:20190331T030000
TZNAME:CEST
TZOFFSETTO:+0200
TZOFFSETFROM:+0100
END:DAYLIGHT
BEGIN:STANDARD
DTSTART:20191027T020000
TZNAME:CET
TZOFFSETTO:+0100
TZOFFSETFROM:+0200
END:STANDARD
BEGIN:DAYLIGHT
DTSTART:20200329T030000
TZNAME:CEST
TZOFFSETTO:+0200
TZOFFSETFROM:+0100
END:DAYLIGHT
BEGIN:STANDARD
DTSTART:20201025T020000
TZNAME:CET
TZOFFSETTO:+0100
TZOFFSETFROM:+0200
END:STANDARD
END:VTIMEZONE
END:VCALENDAR
