BEGIN:VCALENDAR
PRODID:-//eluceo/ical//2.0/EN
VERSION:2.0
CALSCALE:GREGORIAN
BEGIN:VEVENT
UID:https://hbb.rivio.dev/senioren/2019/wedstrijd/25826
DTSTAMP:20260420T090438Z
SUMMARY:Smashing Bruang 2 - BC '85 1
DESCRIPTION:Baan 14\, Wedstrijdnummer 85\, Afdeling 1e klasse 
DTSTART:20191002T200000
DTEND:20191002T230000
LOCATION:City Resort Helmond
ATTACH;FMTTYPE=text/plain:https://hbb.rivio.dev/senioren/2019/wedstrijd/258
 26
END:VEVENT
BEGIN:VEVENT
UID:https://hbb.rivio.dev/senioren/2019/wedstrijd/25857
DTSTAMP:20260420T090438Z
SUMMARY:BC '85 1 - Bakel 2
DESCRIPTION:Baan 15\, Wedstrijdnummer 88\, Afdeling 1e klasse 
DTSTART:20191010T200000
DTEND:20191010T230000
LOCATION:City Resort Helmond
ATTACH;FMTTYPE=text/plain:https://hbb.rivio.dev/senioren/2019/wedstrijd/258
 57
END:VEVENT
BEGIN:VEVENT
UID:https://hbb.rivio.dev/senioren/2019/wedstrijd/25909
DTSTAMP:20260420T090438Z
SUMMARY:Mixed 4 - BC '85 1
DESCRIPTION:Baan 2\, Wedstrijdnummer 90\, Afdeling 1e klasse 
DTSTART:20191107T200000
DTEND:20191107T230000
LOCATION:City Resort Helmond
ATTACH;FMTTYPE=text/plain:https://hbb.rivio.dev/senioren/2019/wedstrijd/259
 09
END:VEVENT
BEGIN:VEVENT
UID:https://hbb.rivio.dev/senioren/2019/wedstrijd/25952
DTSTAMP:20260420T090438Z
SUMMARY:BC '85 1 - Never Down 1
DESCRIPTION:Baan 5\, Wedstrijdnummer 93\, Afdeling 1e klasse 
DTSTART:20191121T200000
DTEND:20191121T230000
LOCATION:City Resort Helmond
ATTACH;FMTTYPE=text/plain:https://hbb.rivio.dev/senioren/2019/wedstrijd/259
 52
END:VEVENT
BEGIN:VEVENT
UID:https://hbb.rivio.dev/senioren/2019/wedstrijd/26001
DTSTAMP:20260420T090438Z
SUMMARY:Hanevoet 2 - BC '85 1
DESCRIPTION:Baan 4\, Wedstrijdnummer 95\, Afdeling 1e klasse 
DTSTART:20191212T200000
DTEND:20191212T230000
LOCATION:City Resort Helmond
ATTACH;FMTTYPE=text/plain:https://hbb.rivio.dev/senioren/2019/wedstrijd/260
 01
END:VEVENT
BEGIN:VEVENT
UID:https://hbb.rivio.dev/senioren/2019/wedstrijd/26034
DTSTAMP:20260420T090438Z
SUMMARY:BC '85 1 - BCAB 3
DESCRIPTION:Baan 1\, Wedstrijdnummer 98\, Afdeling 1e klasse 
DTSTART:20200109T200000
DTEND:20200109T230000
LOCATION:City Resort Helmond
ATTACH;FMTTYPE=text/plain:https://hbb.rivio.dev/senioren/2019/wedstrijd/260
 34
END:VEVENT
BEGIN:VEVENT
UID:https://hbb.rivio.dev/senioren/2019/wedstrijd/26282
DTSTAMP:20260420T090438Z
SUMMARY:Smashing Bruang 2 - BC '85 1
DESCRIPTION:Baan 3\, Wedstrijdnummer 3015\, Afdeling 1e klasse 
DTSTART:20200129T200000
DTEND:20200129T230000
LOCATION:City Resort Helmond
ATTACH;FMTTYPE=text/plain:https://hbb.rivio.dev/senioren/2019/wedstrijd/262
 82
END:VEVENT
BEGIN:VEVENT
UID:https://hbb.rivio.dev/senioren/2019/wedstrijd/26108
DTSTAMP:20260420T090438Z
SUMMARY:BC '85 1 - Smashing Bruang 2
DESCRIPTION:Baan 12\, Wedstrijdnummer 1085\, Afdeling 1e klasse 
DTSTART:20200206T200000
DTEND:20200206T230000
LOCATION:City Resort Helmond
ATTACH;FMTTYPE=text/plain:https://hbb.rivio.dev/senioren/2019/wedstrijd/261
 08
END:VEVENT
BEGIN:VEVENT
UID:https://hbb.rivio.dev/senioren/2019/wedstrijd/26146
DTSTAMP:20260420T090438Z
SUMMARY:Bakel 2 - BC '85 1
DESCRIPTION:Baan 3\, Wedstrijdnummer 1088\, Afdeling 1e klasse 
DTSTART:20200220T200000
DTEND:20200220T230000
LOCATION:City Resort Helmond
ATTACH;FMTTYPE=text/plain:https://hbb.rivio.dev/senioren/2019/wedstrijd/261
 46
END:VEVENT
BEGIN:VEVENT
UID:https://hbb.rivio.dev/senioren/2019/wedstrijd/26169
DTSTAMP:20260420T090438Z
SUMMARY:BC '85 1 - Mixed 4
DESCRIPTION:Baan 14\, Wedstrijdnummer 1090\, Afdeling 1e klasse 
DTSTART:20200305T200000
DTEND:20200305T230000
LOCATION:City Resort Helmond
ATTACH;FMTTYPE=text/plain:https://hbb.rivio.dev/senioren/2019/wedstrijd/261
 69
END:VEVENT
BEGIN:VEVENT
UID:https://hbb.rivio.dev/senioren/2019/wedstrijd/26202
DTSTAMP:20260420T090438Z
SUMMARY:Never Down 1 - BC '85 1
DESCRIPTION:Baan 5\, Wedstrijdnummer 1093\, Afdeling 1e klasse 
DTSTART:20200319T200000
DTEND:20200319T230000
LOCATION:City Resort Helmond
ATTACH;FMTTYPE=text/plain:https://hbb.rivio.dev/senioren/2019/wedstrijd/262
 02
END:VEVENT
BEGIN:VEVENT
UID:https://hbb.rivio.dev/senioren/2019/wedstrijd/26349
DTSTAMP:20260420T090438Z
SUMMARY:BC '85 1 - Bakel 2
DESCRIPTION:Baan 5\, Wedstrijdnummer 3046\, Afdeling 1e klasse 
DTSTART:20200326T200000
DTEND:20200326T230000
LOCATION:City Resort Helmond
ATTACH;FMTTYPE=text/plain:https://hbb.rivio.dev/senioren/2019/wedstrijd/263
 49
END:VEVENT
BEGIN:VEVENT
UID:https://hbb.rivio.dev/senioren/2019/wedstrijd/26235
DTSTAMP:20260420T090438Z
SUMMARY:BC '85 1 - Hanevoet 2
DESCRIPTION:Baan 14\, Wedstrijdnummer 1095\, Afdeling 1e klasse 
DTSTART:20200402T200000
DTEND:20200402T230000
LOCATION:City Resort Helmond
ATTACH;FMTTYPE=text/plain:https://hbb.rivio.dev/senioren/2019/wedstrijd/262
 35
END:VEVENT
BEGIN:VEVENT
UID:https://hbb.rivio.dev/senioren/2019/wedstrijd/26265
DTSTAMP:20260420T090438Z
SUMMARY:BCAB 3 - BC '85 1
DESCRIPTION:Baan 10\, Wedstrijdnummer 1098\, Afdeling 1e klasse 
DTSTART:20200514T200000
DTEND:20200514T230000
LOCATION:City Resort Helmond
ATTACH;FMTTYPE=text/plain:https://hbb.rivio.dev/senioren/2019/wedstrijd/262
 65
END:VEVENT
BEGIN:VTIMEZONE
TZID:Europe/Amsterdam
BEGIN:STANDARD
DTSTART:20190101T000000
TZNAME:CET
TZOFFSETTO:+0100
TZOFFSETFROM:+0100
END:STANDARD
BEGIN:DAYLIGHT
DTSTART:20190331T030000
TZNAME:CEST
TZOFFSETTO:+0200
TZOFFSETFROM:+0100
END:DAYLIGHT
BEGIN:STANDARD
DTSTART:20191027T020000
TZNAME:CET
TZOFFSETTO:+0100
TZOFFSETFROM:+0200
END:STANDARD
BEGIN:DAYLIGHT
DTSTART:20200329T030000
TZNAME:CEST
TZOFFSETTO:+0200
TZOFFSETFROM:+0100
END:DAYLIGHT
BEGIN:STANDARD
DTSTART:20201025T020000
TZNAME:CET
TZOFFSETTO:+0100
TZOFFSETFROM:+0200
END:STANDARD
END:VTIMEZONE
END:VCALENDAR
