BEGIN:VCALENDAR
PRODID:-//eluceo/ical//2.0/EN
VERSION:2.0
CALSCALE:GREGORIAN
BEGIN:VEVENT
UID:https://hbb.rivio.dev/senioren/2019/wedstrijd/25767
DTSTAMP:20260420T234136Z
SUMMARY:Smashing Bruang 3 - Phoenix 4
DESCRIPTION:Baan 15\, Wedstrijdnummer 222\, Afdeling 4e klasse II
DTSTART:20190911T200000
DTEND:20190911T230000
LOCATION:City Resort Helmond
ATTACH;FMTTYPE=text/plain:https://hbb.rivio.dev/senioren/2019/wedstrijd/257
 67
END:VEVENT
BEGIN:VEVENT
UID:https://hbb.rivio.dev/senioren/2019/wedstrijd/25803
DTSTAMP:20260420T234136Z
SUMMARY:Gemert 4 - Smashing Bruang 3
DESCRIPTION:Baan 11\, Wedstrijdnummer 224\, Afdeling 4e klasse II
DTSTART:20190925T200000
DTEND:20190925T230000
LOCATION:City Resort Helmond
ATTACH;FMTTYPE=text/plain:https://hbb.rivio.dev/senioren/2019/wedstrijd/258
 03
END:VEVENT
BEGIN:VEVENT
UID:https://hbb.rivio.dev/senioren/2019/wedstrijd/25842
DTSTAMP:20260420T234136Z
SUMMARY:Smashing Bruang 3 - Mierlo 10
DESCRIPTION:Baan 10\, Wedstrijdnummer 227\, Afdeling 4e klasse II
DTSTART:20191009T200000
DTEND:20191009T230000
LOCATION:City Resort Helmond
ATTACH;FMTTYPE=text/plain:https://hbb.rivio.dev/senioren/2019/wedstrijd/258
 42
END:VEVENT
BEGIN:VEVENT
UID:https://hbb.rivio.dev/senioren/2019/wedstrijd/25895
DTSTAMP:20260420T234136Z
SUMMARY:Mierlo 12 - Smashing Bruang 3
DESCRIPTION:Baan 13\, Wedstrijdnummer 229\, Afdeling 4e klasse II
DTSTART:20191031T200000
DTEND:20191031T230000
LOCATION:City Resort Helmond
ATTACH;FMTTYPE=text/plain:https://hbb.rivio.dev/senioren/2019/wedstrijd/258
 95
END:VEVENT
BEGIN:VEVENT
UID:https://hbb.rivio.dev/senioren/2019/wedstrijd/25924
DTSTAMP:20260420T234136Z
SUMMARY:Mierlo 11 - Smashing Bruang 3
DESCRIPTION:Baan 12\, Wedstrijdnummer 3037\, Afdeling 4e klasse I
DTSTART:20191113T200000
DTEND:20191113T230000
LOCATION:City Resort Helmond
ATTACH;FMTTYPE=text/plain:https://hbb.rivio.dev/senioren/2019/wedstrijd/259
 24
END:VEVENT
BEGIN:VEVENT
UID:https://hbb.rivio.dev/senioren/2019/wedstrijd/25945
DTSTAMP:20260420T234136Z
SUMMARY:Smashing Bruang 3 - BC '85 3
DESCRIPTION:Baan 13\, Wedstrijdnummer 232\, Afdeling 4e klasse II
DTSTART:20191120T200000
DTEND:20191120T230000
LOCATION:City Resort Helmond
ATTACH;FMTTYPE=text/plain:https://hbb.rivio.dev/senioren/2019/wedstrijd/259
 45
END:VEVENT
BEGIN:VEVENT
UID:https://hbb.rivio.dev/senioren/2019/wedstrijd/26010
DTSTAMP:20260420T234136Z
SUMMARY:Dommelen 3 - Smashing Bruang 3
DESCRIPTION:Baan 3\, Wedstrijdnummer 238\, Afdeling 4e klasse II
DTSTART:20191218T200000
DTEND:20191218T230000
LOCATION:City Resort Helmond
ATTACH;FMTTYPE=text/plain:https://hbb.rivio.dev/senioren/2019/wedstrijd/260
 10
END:VEVENT
BEGIN:VEVENT
UID:https://hbb.rivio.dev/senioren/2019/wedstrijd/26292
DTSTAMP:20260420T234136Z
SUMMARY:Someren 5 - Smashing Bruang 3
DESCRIPTION:Baan 11\, Wedstrijdnummer 3057\, Afdeling 4e klasse I
DTSTART:20200108T200000
DTEND:20200108T230000
LOCATION:City Resort Helmond
ATTACH;FMTTYPE=text/plain:https://hbb.rivio.dev/senioren/2019/wedstrijd/262
 92
END:VEVENT
BEGIN:VEVENT
UID:https://hbb.rivio.dev/senioren/2019/wedstrijd/26077
DTSTAMP:20260420T234136Z
SUMMARY:Phoenix 4 - Smashing Bruang 3
DESCRIPTION:Baan 11\, Wedstrijdnummer 1222\, Afdeling 4e klasse II
DTSTART:20200129T200000
DTEND:20200129T230000
LOCATION:City Resort Helmond
ATTACH;FMTTYPE=text/plain:https://hbb.rivio.dev/senioren/2019/wedstrijd/260
 77
END:VEVENT
BEGIN:VEVENT
UID:https://hbb.rivio.dev/senioren/2019/wedstrijd/26099
DTSTAMP:20260420T234136Z
SUMMARY:Smashing Bruang 3 - Gemert 4
DESCRIPTION:Baan 13\, Wedstrijdnummer 1224\, Afdeling 4e klasse II
DTSTART:20200205T200000
DTEND:20200205T230000
LOCATION:City Resort Helmond
ATTACH;FMTTYPE=text/plain:https://hbb.rivio.dev/senioren/2019/wedstrijd/260
 99
END:VEVENT
BEGIN:VEVENT
UID:https://hbb.rivio.dev/senioren/2019/wedstrijd/26140
DTSTAMP:20260420T234136Z
SUMMARY:Mierlo 10 - Smashing Bruang 3
DESCRIPTION:Baan 12\, Wedstrijdnummer 1227\, Afdeling 4e klasse II
DTSTART:20200219T200000
DTEND:20200219T230000
LOCATION:City Resort Helmond
ATTACH;FMTTYPE=text/plain:https://hbb.rivio.dev/senioren/2019/wedstrijd/261
 40
END:VEVENT
BEGIN:VEVENT
UID:https://hbb.rivio.dev/senioren/2019/wedstrijd/26174
DTSTAMP:20260420T234136Z
SUMMARY:Smashing Bruang 3 - Mierlo 12
DESCRIPTION:Baan 4\, Wedstrijdnummer 1229\, Afdeling 4e klasse II
DTSTART:20200311T200000
DTEND:20200311T230000
LOCATION:City Resort Helmond
ATTACH;FMTTYPE=text/plain:https://hbb.rivio.dev/senioren/2019/wedstrijd/261
 74
END:VEVENT
BEGIN:VEVENT
UID:https://hbb.rivio.dev/senioren/2019/wedstrijd/26209
DTSTAMP:20260420T234136Z
SUMMARY:BC '85 3 - Smashing Bruang 3
DESCRIPTION:Baan 1\, Wedstrijdnummer 1232\, Afdeling 4e klasse II
DTSTART:20200325T200000
DTEND:20200325T230000
LOCATION:City Resort Helmond
ATTACH;FMTTYPE=text/plain:https://hbb.rivio.dev/senioren/2019/wedstrijd/262
 09
END:VEVENT
BEGIN:VEVENT
UID:https://hbb.rivio.dev/senioren/2019/wedstrijd/26356
DTSTAMP:20260420T234136Z
SUMMARY:Con Brio 7 - Smashing Bruang 3
DESCRIPTION:Baan 4\, Wedstrijdnummer 3070\, Afdeling 4e klasse I
DTSTART:20200416T200000
DTEND:20200416T230000
LOCATION:City Resort Helmond
ATTACH;FMTTYPE=text/plain:https://hbb.rivio.dev/senioren/2019/wedstrijd/263
 56
END:VEVENT
BEGIN:VEVENT
UID:https://hbb.rivio.dev/senioren/2019/wedstrijd/26256
DTSTAMP:20260420T234136Z
SUMMARY:Smashing Bruang 3 - Dommelen 3
DESCRIPTION:Baan 12\, Wedstrijdnummer 1238\, Afdeling 4e klasse II
DTSTART:20200513T200000
DTEND:20200513T230000
LOCATION:City Resort Helmond
ATTACH;FMTTYPE=text/plain:https://hbb.rivio.dev/senioren/2019/wedstrijd/262
 56
END:VEVENT
BEGIN:VTIMEZONE
TZID:Europe/Amsterdam
BEGIN:STANDARD
DTSTART:20190101T000000
TZNAME:CET
TZOFFSETTO:+0100
TZOFFSETFROM:+0100
END:STANDARD
BEGIN:DAYLIGHT
DTSTART:20190331T030000
TZNAME:CEST
TZOFFSETTO:+0200
TZOFFSETFROM:+0100
END:DAYLIGHT
BEGIN:STANDARD
DTSTART:20191027T020000
TZNAME:CET
TZOFFSETTO:+0100
TZOFFSETFROM:+0200
END:STANDARD
BEGIN:DAYLIGHT
DTSTART:20200329T030000
TZNAME:CEST
TZOFFSETTO:+0200
TZOFFSETFROM:+0100
END:DAYLIGHT
BEGIN:STANDARD
DTSTART:20201025T020000
TZNAME:CET
TZOFFSETTO:+0100
TZOFFSETFROM:+0200
END:STANDARD
END:VTIMEZONE
END:VCALENDAR
