BEGIN:VCALENDAR
PRODID:-//eluceo/ical//2.0/EN
VERSION:2.0
CALSCALE:GREGORIAN
BEGIN:VEVENT
UID:https://hbb.rivio.dev/senioren/2019/wedstrijd/25794
DTSTAMP:20260420T234222Z
SUMMARY:BCV '73 2 - Geldrop 2
DESCRIPTION:Baan 12\, Wedstrijdnummer 159\, Afdeling 3e klasse I
DTSTART:20190919T200000
DTEND:20190919T230000
LOCATION:City Resort Helmond
ATTACH;FMTTYPE=text/plain:https://hbb.rivio.dev/senioren/2019/wedstrijd/257
 94
END:VEVENT
BEGIN:VEVENT
UID:https://hbb.rivio.dev/senioren/2019/wedstrijd/25831
DTSTAMP:20260420T234222Z
SUMMARY:Never Down 2 - BCV '73 2
DESCRIPTION:Baan 4\, Wedstrijdnummer 161\, Afdeling 3e klasse I
DTSTART:20191003T200000
DTEND:20191003T230000
LOCATION:City Resort Helmond
ATTACH;FMTTYPE=text/plain:https://hbb.rivio.dev/senioren/2019/wedstrijd/258
 31
END:VEVENT
BEGIN:VEVENT
UID:https://hbb.rivio.dev/senioren/2019/wedstrijd/25869
DTSTAMP:20260420T234222Z
SUMMARY:BCV '73 2 - Gemert 3
DESCRIPTION:Baan 2\, Wedstrijdnummer 164\, Afdeling 3e klasse I
DTSTART:20191024T200000
DTEND:20191024T230000
LOCATION:City Resort Helmond
ATTACH;FMTTYPE=text/plain:https://hbb.rivio.dev/senioren/2019/wedstrijd/258
 69
END:VEVENT
BEGIN:VEVENT
UID:https://hbb.rivio.dev/senioren/2019/wedstrijd/25904
DTSTAMP:20260420T234222Z
SUMMARY:Mierlo 8 - BCV '73 2
DESCRIPTION:Baan 12\, Wedstrijdnummer 3030\, Afdeling 3e klasse II
DTSTART:20191106T200000
DTEND:20191106T230000
LOCATION:City Resort Helmond
ATTACH;FMTTYPE=text/plain:https://hbb.rivio.dev/senioren/2019/wedstrijd/259
 04
END:VEVENT
BEGIN:VEVENT
UID:https://hbb.rivio.dev/senioren/2019/wedstrijd/25928
DTSTAMP:20260420T234222Z
SUMMARY:BCAB 4 - BCV '73 2
DESCRIPTION:Baan 1\, Wedstrijdnummer 166\, Afdeling 3e klasse I
DTSTART:20191114T200000
DTEND:20191114T230000
LOCATION:City Resort Helmond
ATTACH;FMTTYPE=text/plain:https://hbb.rivio.dev/senioren/2019/wedstrijd/259
 28
END:VEVENT
BEGIN:VEVENT
UID:https://hbb.rivio.dev/senioren/2019/wedstrijd/25954
DTSTAMP:20260420T234222Z
SUMMARY:BCV '73 2 - Mierlo 9
DESCRIPTION:Baan 12\, Wedstrijdnummer 169\, Afdeling 3e klasse I
DTSTART:20191121T200000
DTEND:20191121T230000
LOCATION:City Resort Helmond
ATTACH;FMTTYPE=text/plain:https://hbb.rivio.dev/senioren/2019/wedstrijd/259
 54
END:VEVENT
BEGIN:VEVENT
UID:https://hbb.rivio.dev/senioren/2019/wedstrijd/26037
DTSTAMP:20260420T234222Z
SUMMARY:Veldhoven 1 - BCV '73 2
DESCRIPTION:Baan 4\, Wedstrijdnummer 175\, Afdeling 3e klasse I
DTSTART:20200109T200000
DTEND:20200109T230000
LOCATION:City Resort Helmond
ATTACH;FMTTYPE=text/plain:https://hbb.rivio.dev/senioren/2019/wedstrijd/260
 37
END:VEVENT
BEGIN:VEVENT
UID:https://hbb.rivio.dev/senioren/2019/wedstrijd/26287
DTSTAMP:20260420T234222Z
SUMMARY:Mierlo 8 - BCV '73 2
DESCRIPTION:Baan 5\, Wedstrijdnummer 3052\, Afdeling 3e klasse II
DTSTART:20200122T200000
DTEND:20200122T230000
LOCATION:City Resort Helmond
ATTACH;FMTTYPE=text/plain:https://hbb.rivio.dev/senioren/2019/wedstrijd/262
 87
END:VEVENT
BEGIN:VEVENT
UID:https://hbb.rivio.dev/senioren/2019/wedstrijd/26078
DTSTAMP:20260420T234222Z
SUMMARY:Geldrop 2 - BCV '73 2
DESCRIPTION:Baan 12\, Wedstrijdnummer 1159\, Afdeling 3e klasse I
DTSTART:20200129T200000
DTEND:20200129T230000
LOCATION:City Resort Helmond
ATTACH;FMTTYPE=text/plain:https://hbb.rivio.dev/senioren/2019/wedstrijd/260
 78
END:VEVENT
BEGIN:VEVENT
UID:https://hbb.rivio.dev/senioren/2019/wedstrijd/26109
DTSTAMP:20260420T234222Z
SUMMARY:BCV '73 2 - Never Down 2
DESCRIPTION:Baan 13\, Wedstrijdnummer 1161\, Afdeling 3e klasse I
DTSTART:20200206T200000
DTEND:20200206T230000
LOCATION:City Resort Helmond
ATTACH;FMTTYPE=text/plain:https://hbb.rivio.dev/senioren/2019/wedstrijd/261
 09
END:VEVENT
BEGIN:VEVENT
UID:https://hbb.rivio.dev/senioren/2019/wedstrijd/26148
DTSTAMP:20260420T234222Z
SUMMARY:Gemert 3 - BCV '73 2
DESCRIPTION:Baan 5\, Wedstrijdnummer 1164\, Afdeling 3e klasse I
DTSTART:20200220T200000
DTEND:20200220T230000
LOCATION:City Resort Helmond
ATTACH;FMTTYPE=text/plain:https://hbb.rivio.dev/senioren/2019/wedstrijd/261
 48
END:VEVENT
BEGIN:VEVENT
UID:https://hbb.rivio.dev/senioren/2019/wedstrijd/26183
DTSTAMP:20260420T234222Z
SUMMARY:BCV '73 2 - BCAB 4
DESCRIPTION:Baan 2\, Wedstrijdnummer 1166\, Afdeling 3e klasse I
DTSTART:20200312T200000
DTEND:20200312T230000
LOCATION:City Resort Helmond
ATTACH;FMTTYPE=text/plain:https://hbb.rivio.dev/senioren/2019/wedstrijd/261
 83
END:VEVENT
BEGIN:VEVENT
UID:https://hbb.rivio.dev/senioren/2019/wedstrijd/26204
DTSTAMP:20260420T234222Z
SUMMARY:Mierlo 9 - BCV '73 2
DESCRIPTION:Baan 11\, Wedstrijdnummer 1169\, Afdeling 3e klasse I
DTSTART:20200319T200000
DTEND:20200319T230000
LOCATION:City Resort Helmond
ATTACH;FMTTYPE=text/plain:https://hbb.rivio.dev/senioren/2019/wedstrijd/262
 04
END:VEVENT
BEGIN:VEVENT
UID:https://hbb.rivio.dev/senioren/2019/wedstrijd/26268
DTSTAMP:20260420T234222Z
SUMMARY:BCV '73 2 - Veldhoven 1
DESCRIPTION:Baan 13\, Wedstrijdnummer 1175\, Afdeling 3e klasse I
DTSTART:20200514T200000
DTEND:20200514T230000
LOCATION:City Resort Helmond
ATTACH;FMTTYPE=text/plain:https://hbb.rivio.dev/senioren/2019/wedstrijd/262
 68
END:VEVENT
BEGIN:VTIMEZONE
TZID:Europe/Amsterdam
BEGIN:STANDARD
DTSTART:20190101T000000
TZNAME:CET
TZOFFSETTO:+0100
TZOFFSETFROM:+0100
END:STANDARD
BEGIN:DAYLIGHT
DTSTART:20190331T030000
TZNAME:CEST
TZOFFSETTO:+0200
TZOFFSETFROM:+0100
END:DAYLIGHT
BEGIN:STANDARD
DTSTART:20191027T020000
TZNAME:CET
TZOFFSETTO:+0100
TZOFFSETFROM:+0200
END:STANDARD
BEGIN:DAYLIGHT
DTSTART:20200329T030000
TZNAME:CEST
TZOFFSETTO:+0200
TZOFFSETFROM:+0100
END:DAYLIGHT
BEGIN:STANDARD
DTSTART:20201025T020000
TZNAME:CET
TZOFFSETTO:+0100
TZOFFSETFROM:+0200
END:STANDARD
END:VTIMEZONE
END:VCALENDAR
