BEGIN:VCALENDAR
PRODID:-//eluceo/ical//2.0/EN
VERSION:2.0
CALSCALE:GREGORIAN
BEGIN:VEVENT
UID:https://hbb.rivio.dev/senioren/2019/wedstrijd/25758
DTSTAMP:20260420T090544Z
SUMMARY:Mierlo 5 - Eindhoven 1
DESCRIPTION:Baan 1\, Wedstrijdnummer 51\, Afdeling Overgangsklasse D
DTSTART:20190911T200000
DTEND:20190911T230000
LOCATION:City Resort Helmond
ATTACH;FMTTYPE=text/plain:https://hbb.rivio.dev/senioren/2019/wedstrijd/257
 58
END:VEVENT
BEGIN:VEVENT
UID:https://hbb.rivio.dev/senioren/2019/wedstrijd/25810
DTSTAMP:20260420T090544Z
SUMMARY:Eindhoven 1 - Mixed 2
DESCRIPTION:Baan 3\, Wedstrijdnummer 54\, Afdeling Overgangsklasse D
DTSTART:20190926T200000
DTEND:20190926T230000
LOCATION:City Resort Helmond
ATTACH;FMTTYPE=text/plain:https://hbb.rivio.dev/senioren/2019/wedstrijd/258
 10
END:VEVENT
BEGIN:VEVENT
UID:https://hbb.rivio.dev/senioren/2019/wedstrijd/25836
DTSTAMP:20260420T090544Z
SUMMARY:Eindhoven 1 - Phoenix 3
DESCRIPTION:Baan 14\, Wedstrijdnummer 58\, Afdeling Overgangsklasse D
DTSTART:20191003T200000
DTEND:20191003T230000
LOCATION:City Resort Helmond
ATTACH;FMTTYPE=text/plain:https://hbb.rivio.dev/senioren/2019/wedstrijd/258
 36
END:VEVENT
BEGIN:VEVENT
UID:https://hbb.rivio.dev/senioren/2019/wedstrijd/25875
DTSTAMP:20260420T090544Z
SUMMARY:Con Brio 4 - Eindhoven 1
DESCRIPTION:Baan 13\, Wedstrijdnummer 61\, Afdeling Overgangsklasse K
DTSTART:20191024T200000
DTEND:20191024T230000
LOCATION:City Resort Helmond
ATTACH;FMTTYPE=text/plain:https://hbb.rivio.dev/senioren/2019/wedstrijd/258
 75
END:VEVENT
BEGIN:VEVENT
UID:https://hbb.rivio.dev/senioren/2019/wedstrijd/25882
DTSTAMP:20260420T090544Z
SUMMARY:Eindhoven 1 - Con Brio 5
DESCRIPTION:Baan 5\, Wedstrijdnummer 3011\, Afdeling Overgangsklasse D
DTSTART:20191030T200000
DTEND:20191030T230000
LOCATION:City Resort Helmond
ATTACH;FMTTYPE=text/plain:https://hbb.rivio.dev/senioren/2019/wedstrijd/258
 82
END:VEVENT
BEGIN:VEVENT
UID:https://hbb.rivio.dev/senioren/2019/wedstrijd/25933
DTSTAMP:20260420T090544Z
SUMMARY:Bakel 1 - Eindhoven 1
DESCRIPTION:Baan 11\, Wedstrijdnummer 62\, Afdeling Overgangsklasse K
DTSTART:20191114T200000
DTEND:20191114T230000
LOCATION:City Resort Helmond
ATTACH;FMTTYPE=text/plain:https://hbb.rivio.dev/senioren/2019/wedstrijd/259
 33
END:VEVENT
BEGIN:VEVENT
UID:https://hbb.rivio.dev/senioren/2019/wedstrijd/25972
DTSTAMP:20260420T090544Z
SUMMARY:Eindhoven 1 - Mierlo 5
DESCRIPTION:Baan 5\, Wedstrijdnummer 1051\, Afdeling Overgangsklasse D
DTSTART:20191128T200000
DTEND:20191128T230000
LOCATION:City Resort Helmond
ATTACH;FMTTYPE=text/plain:https://hbb.rivio.dev/senioren/2019/wedstrijd/259
 72
END:VEVENT
BEGIN:VEVENT
UID:https://hbb.rivio.dev/senioren/2019/wedstrijd/25990
DTSTAMP:20260420T090544Z
SUMMARY:Mixed 2 - Eindhoven 1
DESCRIPTION:Baan 3\, Wedstrijdnummer 1054\, Afdeling Overgangsklasse K
DTSTART:20191211T200000
DTEND:20191211T230000
LOCATION:City Resort Helmond
ATTACH;FMTTYPE=text/plain:https://hbb.rivio.dev/senioren/2019/wedstrijd/259
 90
END:VEVENT
BEGIN:VEVENT
UID:https://hbb.rivio.dev/senioren/2019/wedstrijd/26016
DTSTAMP:20260420T090544Z
SUMMARY:Phoenix 3 - Eindhoven 1
DESCRIPTION:Baan 14\, Wedstrijdnummer 1058\, Afdeling Overgangsklasse D
DTSTART:20191218T200000
DTEND:20191218T230000
LOCATION:City Resort Helmond
ATTACH;FMTTYPE=text/plain:https://hbb.rivio.dev/senioren/2019/wedstrijd/260
 16
END:VEVENT
BEGIN:VEVENT
UID:https://hbb.rivio.dev/senioren/2019/wedstrijd/26276
DTSTAMP:20260420T090544Z
SUMMARY:Eindhoven 1 - Con Brio 5
DESCRIPTION:Baan 1\, Wedstrijdnummer 3042\, Afdeling Overgangsklasse D
DTSTART:20200122T200000
DTEND:20200122T230000
LOCATION:City Resort Helmond
ATTACH;FMTTYPE=text/plain:https://hbb.rivio.dev/senioren/2019/wedstrijd/262
 76
END:VEVENT
BEGIN:VEVENT
UID:https://hbb.rivio.dev/senioren/2019/wedstrijd/26086
DTSTAMP:20260420T090544Z
SUMMARY:Eindhoven 1 - Con Brio 4
DESCRIPTION:Baan 5\, Wedstrijdnummer 1061\, Afdeling Overgangsklasse D
DTSTART:20200130T200000
DTEND:20200130T230000
LOCATION:City Resort Helmond
ATTACH;FMTTYPE=text/plain:https://hbb.rivio.dev/senioren/2019/wedstrijd/260
 86
END:VEVENT
BEGIN:VEVENT
UID:https://hbb.rivio.dev/senioren/2019/wedstrijd/26124
DTSTAMP:20260420T090544Z
SUMMARY:Eindhoven 1 - Bakel 1
DESCRIPTION:Baan 3\, Wedstrijdnummer 1062\, Afdeling Overgangsklasse D
DTSTART:20200213T200000
DTEND:20200213T230000
LOCATION:City Resort Helmond
ATTACH;FMTTYPE=text/plain:https://hbb.rivio.dev/senioren/2019/wedstrijd/261
 24
END:VEVENT
BEGIN:VEVENT
UID:https://hbb.rivio.dev/senioren/2019/wedstrijd/26360
DTSTAMP:20260420T090544Z
SUMMARY:Eindhoven 1 - Brabantia 2
DESCRIPTION:Baan 5\, Wedstrijdnummer 2003\, Afdeling Overgangsklasse D
DTSTART:20200304T200000
DTEND:20200304T230000
LOCATION:City Resort Helmond
ATTACH;FMTTYPE=text/plain:https://hbb.rivio.dev/senioren/2019/wedstrijd/263
 60
END:VEVENT
BEGIN:VEVENT
UID:https://hbb.rivio.dev/senioren/2019/wedstrijd/26366
DTSTAMP:20260420T090544Z
SUMMARY:Eindhoven 1 - Phoenix 3
DESCRIPTION:Baan 4\, Wedstrijdnummer 2009\, Afdeling Overgangsklasse D
DTSTART:20200318T200000
DTEND:20200318T230000
LOCATION:City Resort Helmond
ATTACH;FMTTYPE=text/plain:https://hbb.rivio.dev/senioren/2019/wedstrijd/263
 66
END:VEVENT
BEGIN:VEVENT
UID:https://hbb.rivio.dev/senioren/2019/wedstrijd/26374
DTSTAMP:20260420T090544Z
SUMMARY:Phoenix 2 - Eindhoven 1
DESCRIPTION:Baan 15\, Wedstrijdnummer 2017\, Afdeling Overgangsklasse D
DTSTART:20200325T200000
DTEND:20200325T230000
LOCATION:City Resort Helmond
ATTACH;FMTTYPE=text/plain:https://hbb.rivio.dev/senioren/2019/wedstrijd/263
 74
END:VEVENT
BEGIN:VEVENT
UID:https://hbb.rivio.dev/senioren/2019/wedstrijd/26380
DTSTAMP:20260420T090544Z
SUMMARY:Eindhoven 1 - Con Brio 5
DESCRIPTION:Baan 14\, Wedstrijdnummer 2023\, Afdeling Overgangsklasse D
DTSTART:20200415T200000
DTEND:20200415T230000
LOCATION:City Resort Helmond
ATTACH;FMTTYPE=text/plain:https://hbb.rivio.dev/senioren/2019/wedstrijd/263
 80
END:VEVENT
BEGIN:VEVENT
UID:https://hbb.rivio.dev/senioren/2019/wedstrijd/26386
DTSTAMP:20260420T090544Z
SUMMARY:Mierlo 5 - Eindhoven 1
DESCRIPTION:Baan 15\, Wedstrijdnummer 2029\, Afdeling Overgangsklasse D
DTSTART:20200520T200000
DTEND:20200520T230000
LOCATION:City Resort Helmond
ATTACH;FMTTYPE=text/plain:https://hbb.rivio.dev/senioren/2019/wedstrijd/263
 86
END:VEVENT
BEGIN:VTIMEZONE
TZID:Europe/Amsterdam
BEGIN:STANDARD
DTSTART:20190101T000000
TZNAME:CET
TZOFFSETTO:+0100
TZOFFSETFROM:+0100
END:STANDARD
BEGIN:DAYLIGHT
DTSTART:20190331T030000
TZNAME:CEST
TZOFFSETTO:+0200
TZOFFSETFROM:+0100
END:DAYLIGHT
BEGIN:STANDARD
DTSTART:20191027T020000
TZNAME:CET
TZOFFSETTO:+0100
TZOFFSETFROM:+0200
END:STANDARD
BEGIN:DAYLIGHT
DTSTART:20200329T030000
TZNAME:CEST
TZOFFSETTO:+0200
TZOFFSETFROM:+0100
END:DAYLIGHT
BEGIN:STANDARD
DTSTART:20201025T020000
TZNAME:CET
TZOFFSETTO:+0100
TZOFFSETFROM:+0200
END:STANDARD
END:VTIMEZONE
END:VCALENDAR
