BEGIN:VCALENDAR
PRODID:-//eluceo/ical//2.0/EN
VERSION:2.0
CALSCALE:GREGORIAN
BEGIN:VEVENT
UID:https://hbb.rivio.dev/senioren/2019/wedstrijd/25776
DTSTAMP:20260420T220654Z
SUMMARY:Hanevoet 3 - Con Brio 6
DESCRIPTION:Baan 14\, Wedstrijdnummer 131\, Afdeling 2e klasse II
DTSTART:20190912T200000
DTEND:20190912T230000
LOCATION:City Resort Helmond
ATTACH;FMTTYPE=text/plain:https://hbb.rivio.dev/senioren/2019/wedstrijd/257
 76
END:VEVENT
BEGIN:VEVENT
UID:https://hbb.rivio.dev/senioren/2019/wedstrijd/25816
DTSTAMP:20260420T220654Z
SUMMARY:Con Brio 6 - Bakel 3
DESCRIPTION:Baan 14\, Wedstrijdnummer 135\, Afdeling 2e klasse II
DTSTART:20190926T200000
DTEND:20190926T230000
LOCATION:City Resort Helmond
ATTACH;FMTTYPE=text/plain:https://hbb.rivio.dev/senioren/2019/wedstrijd/258
 16
END:VEVENT
BEGIN:VEVENT
UID:https://hbb.rivio.dev/senioren/2019/wedstrijd/25854
DTSTAMP:20260420T220654Z
SUMMARY:BCV '73 1 - Con Brio 6
DESCRIPTION:Baan 12\, Wedstrijdnummer 140\, Afdeling 2e klasse II
DTSTART:20191010T200000
DTEND:20191010T230000
LOCATION:City Resort Helmond
ATTACH;FMTTYPE=text/plain:https://hbb.rivio.dev/senioren/2019/wedstrijd/258
 54
END:VEVENT
BEGIN:VEVENT
UID:https://hbb.rivio.dev/senioren/2019/wedstrijd/25862
DTSTAMP:20260420T220654Z
SUMMARY:Con Brio 6 - Ganzeveer 3
DESCRIPTION:Baan 5\, Wedstrijdnummer 3019\, Afdeling 2e klasse II
DTSTART:20191023T200000
DTEND:20191023T230000
LOCATION:City Resort Helmond
ATTACH;FMTTYPE=text/plain:https://hbb.rivio.dev/senioren/2019/wedstrijd/258
 62
END:VEVENT
BEGIN:VEVENT
UID:https://hbb.rivio.dev/senioren/2019/wedstrijd/25907
DTSTAMP:20260420T220654Z
SUMMARY:Dommelen 2 - Con Brio 6
DESCRIPTION:Baan 15\, Wedstrijdnummer 143\, Afdeling 2e klasse II
DTSTART:20191106T200000
DTEND:20191106T230000
LOCATION:City Resort Helmond
ATTACH;FMTTYPE=text/plain:https://hbb.rivio.dev/senioren/2019/wedstrijd/259
 07
END:VEVENT
BEGIN:VEVENT
UID:https://hbb.rivio.dev/senioren/2019/wedstrijd/25944
DTSTAMP:20260420T220654Z
SUMMARY:Con Brio 6 - Ganzeveer 2
DESCRIPTION:Baan 12\, Wedstrijdnummer 147\, Afdeling 2e klasse II
DTSTART:20191120T200000
DTEND:20191120T230000
LOCATION:City Resort Helmond
ATTACH;FMTTYPE=text/plain:https://hbb.rivio.dev/senioren/2019/wedstrijd/259
 44
END:VEVENT
BEGIN:VEVENT
UID:https://hbb.rivio.dev/senioren/2019/wedstrijd/25979
DTSTAMP:20260420T220654Z
SUMMARY:Mierlo 7 - Con Brio 6
DESCRIPTION:Baan 2\, Wedstrijdnummer 150\, Afdeling 2e klasse II
DTSTART:20191204T200000
DTEND:20191204T230000
LOCATION:City Resort Helmond
ATTACH;FMTTYPE=text/plain:https://hbb.rivio.dev/senioren/2019/wedstrijd/259
 79
END:VEVENT
BEGIN:VEVENT
UID:https://hbb.rivio.dev/senioren/2019/wedstrijd/26026
DTSTAMP:20260420T220654Z
SUMMARY:Con Brio 6 - Someren 3
DESCRIPTION:Baan 14\, Wedstrijdnummer 154\, Afdeling 2e klasse II
DTSTART:20191219T200000
DTEND:20191219T230000
LOCATION:City Resort Helmond
ATTACH;FMTTYPE=text/plain:https://hbb.rivio.dev/senioren/2019/wedstrijd/260
 26
END:VEVENT
BEGIN:VEVENT
UID:https://hbb.rivio.dev/senioren/2019/wedstrijd/26286
DTSTAMP:20260420T220654Z
SUMMARY:Con Brio 6 - Mierlo 7
DESCRIPTION:Baan 12\, Wedstrijdnummer 3051\, Afdeling 2e klasse II
DTSTART:20200115T200000
DTEND:20200115T230000
LOCATION:City Resort Helmond
ATTACH;FMTTYPE=text/plain:https://hbb.rivio.dev/senioren/2019/wedstrijd/262
 86
END:VEVENT
BEGIN:VEVENT
UID:https://hbb.rivio.dev/senioren/2019/wedstrijd/26066
DTSTAMP:20260420T220654Z
SUMMARY:Con Brio 6 - Hanevoet 3
DESCRIPTION:Baan 5\, Wedstrijdnummer 1131\, Afdeling 2e klasse II
DTSTART:20200123T200000
DTEND:20200123T230000
LOCATION:City Resort Helmond
ATTACH;FMTTYPE=text/plain:https://hbb.rivio.dev/senioren/2019/wedstrijd/260
 66
END:VEVENT
BEGIN:VEVENT
UID:https://hbb.rivio.dev/senioren/2019/wedstrijd/26104
DTSTAMP:20260420T220654Z
SUMMARY:Bakel 3 - Con Brio 6
DESCRIPTION:Baan 3\, Wedstrijdnummer 1135\, Afdeling 2e klasse II
DTSTART:20200206T200000
DTEND:20200206T230000
LOCATION:City Resort Helmond
ATTACH;FMTTYPE=text/plain:https://hbb.rivio.dev/senioren/2019/wedstrijd/261
 04
END:VEVENT
BEGIN:VEVENT
UID:https://hbb.rivio.dev/senioren/2019/wedstrijd/26131
DTSTAMP:20260420T220654Z
SUMMARY:Con Brio 6 - BCV '73 1
DESCRIPTION:Baan 14\, Wedstrijdnummer 1140\, Afdeling 2e klasse II
DTSTART:20200213T200000
DTEND:20200213T230000
LOCATION:City Resort Helmond
ATTACH;FMTTYPE=text/plain:https://hbb.rivio.dev/senioren/2019/wedstrijd/261
 31
END:VEVENT
BEGIN:VEVENT
UID:https://hbb.rivio.dev/senioren/2019/wedstrijd/26173
DTSTAMP:20260420T220654Z
SUMMARY:Con Brio 6 - Dommelen 2
DESCRIPTION:Baan 3\, Wedstrijdnummer 1143\, Afdeling 2e klasse II
DTSTART:20200311T200000
DTEND:20200311T230000
LOCATION:City Resort Helmond
ATTACH;FMTTYPE=text/plain:https://hbb.rivio.dev/senioren/2019/wedstrijd/261
 73
END:VEVENT
BEGIN:VEVENT
UID:https://hbb.rivio.dev/senioren/2019/wedstrijd/26213
DTSTAMP:20260420T220654Z
SUMMARY:Ganzeveer 2 - Con Brio 6
DESCRIPTION:Baan 5\, Wedstrijdnummer 1147\, Afdeling 2e klasse II
DTSTART:20200325T200000
DTEND:20200325T230000
LOCATION:City Resort Helmond
ATTACH;FMTTYPE=text/plain:https://hbb.rivio.dev/senioren/2019/wedstrijd/262
 13
END:VEVENT
BEGIN:VEVENT
UID:https://hbb.rivio.dev/senioren/2019/wedstrijd/26226
DTSTAMP:20260420T220654Z
SUMMARY:Con Brio 6 - Mierlo 7
DESCRIPTION:Baan 10\, Wedstrijdnummer 1150\, Afdeling 2e klasse II
DTSTART:20200401T200000
DTEND:20200401T230000
LOCATION:City Resort Helmond
ATTACH;FMTTYPE=text/plain:https://hbb.rivio.dev/senioren/2019/wedstrijd/262
 26
END:VEVENT
BEGIN:VEVENT
UID:https://hbb.rivio.dev/senioren/2019/wedstrijd/26264
DTSTAMP:20260420T220654Z
SUMMARY:Someren 3 - Con Brio 6
DESCRIPTION:Baan 5\, Wedstrijdnummer 1154\, Afdeling 2e klasse II
DTSTART:20200514T200000
DTEND:20200514T230000
LOCATION:City Resort Helmond
ATTACH;FMTTYPE=text/plain:https://hbb.rivio.dev/senioren/2019/wedstrijd/262
 64
END:VEVENT
BEGIN:VTIMEZONE
TZID:Europe/Amsterdam
BEGIN:STANDARD
DTSTART:20190101T000000
TZNAME:CET
TZOFFSETTO:+0100
TZOFFSETFROM:+0100
END:STANDARD
BEGIN:DAYLIGHT
DTSTART:20190331T030000
TZNAME:CEST
TZOFFSETTO:+0200
TZOFFSETFROM:+0100
END:DAYLIGHT
BEGIN:STANDARD
DTSTART:20191027T020000
TZNAME:CET
TZOFFSETTO:+0100
TZOFFSETFROM:+0200
END:STANDARD
BEGIN:DAYLIGHT
DTSTART:20200329T030000
TZNAME:CEST
TZOFFSETTO:+0200
TZOFFSETFROM:+0100
END:DAYLIGHT
BEGIN:STANDARD
DTSTART:20201025T020000
TZNAME:CET
TZOFFSETTO:+0100
TZOFFSETFROM:+0200
END:STANDARD
END:VTIMEZONE
END:VCALENDAR
