BEGIN:VCALENDAR
PRODID:-//eluceo/ical//2.0/EN
VERSION:2.0
CALSCALE:GREGORIAN
BEGIN:VEVENT
UID:https://hbb.rivio.dev/senioren/2019/wedstrijd/25775
DTSTAMP:20260420T222747Z
SUMMARY:Mixed 1 - Con Brio 3
DESCRIPTION:Baan 13\, Wedstrijdnummer 25\, Afdeling Hoofdklasse 
DTSTART:20190912T200000
DTEND:20190912T230000
LOCATION:City Resort Helmond
ATTACH;FMTTYPE=text/plain:https://hbb.rivio.dev/senioren/2019/wedstrijd/257
 75
END:VEVENT
BEGIN:VEVENT
UID:https://hbb.rivio.dev/senioren/2019/wedstrijd/25814
DTSTAMP:20260420T222747Z
SUMMARY:Con Brio 3 - Hanevoet 1
DESCRIPTION:Baan 12\, Wedstrijdnummer 29\, Afdeling Hoofdklasse 
DTSTART:20190926T200000
DTEND:20190926T230000
LOCATION:City Resort Helmond
ATTACH;FMTTYPE=text/plain:https://hbb.rivio.dev/senioren/2019/wedstrijd/258
 14
END:VEVENT
BEGIN:VEVENT
UID:https://hbb.rivio.dev/senioren/2019/wedstrijd/25849
DTSTAMP:20260420T222747Z
SUMMARY:Con Brio 3 - BCAB 2
DESCRIPTION:Baan 2\, Wedstrijdnummer 33\, Afdeling Hoofdklasse 
DTSTART:20191010T200000
DTEND:20191010T230000
LOCATION:City Resort Helmond
ATTACH;FMTTYPE=text/plain:https://hbb.rivio.dev/senioren/2019/wedstrijd/258
 49
END:VEVENT
BEGIN:VEVENT
UID:https://hbb.rivio.dev/senioren/2019/wedstrijd/25892
DTSTAMP:20260420T222748Z
SUMMARY:Con Brio 3 - Smashing Bruang 1
DESCRIPTION:Baan 5\, Wedstrijdnummer 37\, Afdeling Hoofdklasse 
DTSTART:20191031T200000
DTEND:20191031T230000
LOCATION:City Resort Helmond
ATTACH;FMTTYPE=text/plain:https://hbb.rivio.dev/senioren/2019/wedstrijd/258
 92
END:VEVENT
BEGIN:VEVENT
UID:https://hbb.rivio.dev/senioren/2019/wedstrijd/25943
DTSTAMP:20260420T222748Z
SUMMARY:Con Brio 3 - Phoenix 1
DESCRIPTION:Baan 11\, Wedstrijdnummer 41\, Afdeling Hoofdklasse 
DTSTART:20191120T200000
DTEND:20191120T230000
LOCATION:City Resort Helmond
ATTACH;FMTTYPE=text/plain:https://hbb.rivio.dev/senioren/2019/wedstrijd/259
 43
END:VEVENT
BEGIN:VEVENT
UID:https://hbb.rivio.dev/senioren/2019/wedstrijd/25998
DTSTAMP:20260420T222748Z
SUMMARY:Con Brio 3 - Someren 1
DESCRIPTION:Baan 1\, Wedstrijdnummer 45\, Afdeling Hoofdklasse 
DTSTART:20191212T200000
DTEND:20191212T230000
LOCATION:City Resort Helmond
ATTACH;FMTTYPE=text/plain:https://hbb.rivio.dev/senioren/2019/wedstrijd/259
 98
END:VEVENT
BEGIN:VEVENT
UID:https://hbb.rivio.dev/senioren/2019/wedstrijd/26024
DTSTAMP:20260420T222748Z
SUMMARY:Con Brio 3 - Mierlo 3
DESCRIPTION:Baan 12\, Wedstrijdnummer 49\, Afdeling Hoofdklasse 
DTSTART:20191219T200000
DTEND:20191219T230000
LOCATION:City Resort Helmond
ATTACH;FMTTYPE=text/plain:https://hbb.rivio.dev/senioren/2019/wedstrijd/260
 24
END:VEVENT
BEGIN:VEVENT
UID:https://hbb.rivio.dev/senioren/2019/wedstrijd/26030
DTSTAMP:20260420T222748Z
SUMMARY:Con Brio 3 - Someren 1
DESCRIPTION:Baan 3\, Wedstrijdnummer 3005\, Afdeling Hoofdklasse 
DTSTART:20200108T200000
DTEND:20200108T230000
LOCATION:City Resort Helmond
ATTACH;FMTTYPE=text/plain:https://hbb.rivio.dev/senioren/2019/wedstrijd/260
 30
END:VEVENT
BEGIN:VEVENT
UID:https://hbb.rivio.dev/senioren/2019/wedstrijd/26053
DTSTAMP:20260420T222748Z
SUMMARY:Con Brio 3 - Mixed 1
DESCRIPTION:Baan 4\, Wedstrijdnummer 1025\, Afdeling Hoofdklasse 
DTSTART:20200116T200000
DTEND:20200116T230000
LOCATION:City Resort Helmond
ATTACH;FMTTYPE=text/plain:https://hbb.rivio.dev/senioren/2019/wedstrijd/260
 53
END:VEVENT
BEGIN:VEVENT
UID:https://hbb.rivio.dev/senioren/2019/wedstrijd/26091
DTSTAMP:20260420T222748Z
SUMMARY:Hanevoet 1 - Con Brio 3
DESCRIPTION:Baan 15\, Wedstrijdnummer 1029\, Afdeling Hoofdklasse 
DTSTART:20200130T200000
DTEND:20200130T230000
LOCATION:City Resort Helmond
ATTACH;FMTTYPE=text/plain:https://hbb.rivio.dev/senioren/2019/wedstrijd/260
 91
END:VEVENT
BEGIN:VEVENT
UID:https://hbb.rivio.dev/senioren/2019/wedstrijd/26154
DTSTAMP:20260420T222748Z
SUMMARY:BCAB 2 - Con Brio 3
DESCRIPTION:Baan 15\, Wedstrijdnummer 1033\, Afdeling Hoofdklasse 
DTSTART:20200220T200000
DTEND:20200220T230000
LOCATION:City Resort Helmond
ATTACH;FMTTYPE=text/plain:https://hbb.rivio.dev/senioren/2019/wedstrijd/261
 54
END:VEVENT
BEGIN:VEVENT
UID:https://hbb.rivio.dev/senioren/2019/wedstrijd/26164
DTSTAMP:20260420T222748Z
SUMMARY:Smashing Bruang 1 - Con Brio 3
DESCRIPTION:Baan 5\, Wedstrijdnummer 1037\, Afdeling Hoofdklasse 
DTSTART:20200305T200000
DTEND:20200305T230000
LOCATION:City Resort Helmond
ATTACH;FMTTYPE=text/plain:https://hbb.rivio.dev/senioren/2019/wedstrijd/261
 64
END:VEVENT
BEGIN:VEVENT
UID:https://hbb.rivio.dev/senioren/2019/wedstrijd/26197
DTSTAMP:20260420T222748Z
SUMMARY:Phoenix 1 - Con Brio 3
DESCRIPTION:Baan 15\, Wedstrijdnummer 1041\, Afdeling Hoofdklasse 
DTSTART:20200318T200000
DTEND:20200318T230000
LOCATION:City Resort Helmond
ATTACH;FMTTYPE=text/plain:https://hbb.rivio.dev/senioren/2019/wedstrijd/261
 97
END:VEVENT
BEGIN:VEVENT
UID:https://hbb.rivio.dev/senioren/2019/wedstrijd/26345
DTSTAMP:20260420T222748Z
SUMMARY:Mixed 1 - Con Brio 3
DESCRIPTION:Baan 3\, Wedstrijdnummer 3040\, Afdeling Hoofdklasse 
DTSTART:20200326T200000
DTEND:20200326T230000
LOCATION:City Resort Helmond
ATTACH;FMTTYPE=text/plain:https://hbb.rivio.dev/senioren/2019/wedstrijd/263
 45
END:VEVENT
BEGIN:VEVENT
UID:https://hbb.rivio.dev/senioren/2019/wedstrijd/26232
DTSTAMP:20260420T222748Z
SUMMARY:Someren 1 - Con Brio 3
DESCRIPTION:Baan 11\, Wedstrijdnummer 1045\, Afdeling Hoofdklasse 
DTSTART:20200402T200000
DTEND:20200402T230000
LOCATION:City Resort Helmond
ATTACH;FMTTYPE=text/plain:https://hbb.rivio.dev/senioren/2019/wedstrijd/262
 32
END:VEVENT
BEGIN:VEVENT
UID:https://hbb.rivio.dev/senioren/2019/wedstrijd/26248
DTSTAMP:20260420T222748Z
SUMMARY:Mierlo 3 - Con Brio 3
DESCRIPTION:Baan 15\, Wedstrijdnummer 1049\, Afdeling Hoofdklasse 
DTSTART:20200416T200000
DTEND:20200416T230000
LOCATION:City Resort Helmond
ATTACH;FMTTYPE=text/plain:https://hbb.rivio.dev/senioren/2019/wedstrijd/262
 48
END:VEVENT
BEGIN:VTIMEZONE
TZID:Europe/Amsterdam
BEGIN:STANDARD
DTSTART:20190101T000000
TZNAME:CET
TZOFFSETTO:+0100
TZOFFSETFROM:+0100
END:STANDARD
BEGIN:DAYLIGHT
DTSTART:20190331T030000
TZNAME:CEST
TZOFFSETTO:+0200
TZOFFSETFROM:+0100
END:DAYLIGHT
BEGIN:STANDARD
DTSTART:20191027T020000
TZNAME:CET
TZOFFSETTO:+0100
TZOFFSETFROM:+0200
END:STANDARD
BEGIN:DAYLIGHT
DTSTART:20200329T030000
TZNAME:CEST
TZOFFSETTO:+0200
TZOFFSETFROM:+0100
END:DAYLIGHT
BEGIN:STANDARD
DTSTART:20201025T020000
TZNAME:CET
TZOFFSETTO:+0100
TZOFFSETFROM:+0200
END:STANDARD
END:VTIMEZONE
END:VCALENDAR
