BEGIN:VCALENDAR
PRODID:-//eluceo/ical//2.0/EN
VERSION:2.0
CALSCALE:GREGORIAN
BEGIN:VEVENT
UID:https://hbb.rivio.dev/senioren/2019/wedstrijd/25791
DTSTAMP:20260420T151352Z
SUMMARY:BCAB 3 - Smashing Bruang 2
DESCRIPTION:Baan 4\, Wedstrijdnummer 82\, Afdeling 1e klasse 
DTSTART:20190919T200000
DTEND:20190919T230000
LOCATION:City Resort Helmond
ATTACH;FMTTYPE=text/plain:https://hbb.rivio.dev/senioren/2019/wedstrijd/257
 91
END:VEVENT
BEGIN:VEVENT
UID:https://hbb.rivio.dev/senioren/2019/wedstrijd/25829
DTSTAMP:20260420T151352Z
SUMMARY:Bakel 2 - BCAB 3
DESCRIPTION:Baan 2\, Wedstrijdnummer 84\, Afdeling 1e klasse 
DTSTART:20191003T200000
DTEND:20191003T230000
LOCATION:City Resort Helmond
ATTACH;FMTTYPE=text/plain:https://hbb.rivio.dev/senioren/2019/wedstrijd/258
 29
END:VEVENT
BEGIN:VEVENT
UID:https://hbb.rivio.dev/senioren/2019/wedstrijd/25856
DTSTAMP:20260420T151352Z
SUMMARY:BCAB 3 - Mixed 4
DESCRIPTION:Baan 14\, Wedstrijdnummer 87\, Afdeling 1e klasse 
DTSTART:20191010T200000
DTEND:20191010T230000
LOCATION:City Resort Helmond
ATTACH;FMTTYPE=text/plain:https://hbb.rivio.dev/senioren/2019/wedstrijd/258
 56
END:VEVENT
BEGIN:VEVENT
UID:https://hbb.rivio.dev/senioren/2019/wedstrijd/25908
DTSTAMP:20260420T151352Z
SUMMARY:Never Down 1 - BCAB 3
DESCRIPTION:Baan 1\, Wedstrijdnummer 89\, Afdeling 1e klasse 
DTSTART:20191107T200000
DTEND:20191107T230000
LOCATION:City Resort Helmond
ATTACH;FMTTYPE=text/plain:https://hbb.rivio.dev/senioren/2019/wedstrijd/259
 08
END:VEVENT
BEGIN:VEVENT
UID:https://hbb.rivio.dev/senioren/2019/wedstrijd/25951
DTSTAMP:20260420T151352Z
SUMMARY:BCAB 3 - Hanevoet 2
DESCRIPTION:Baan 4\, Wedstrijdnummer 92\, Afdeling 1e klasse 
DTSTART:20191121T200000
DTEND:20191121T230000
LOCATION:City Resort Helmond
ATTACH;FMTTYPE=text/plain:https://hbb.rivio.dev/senioren/2019/wedstrijd/259
 51
END:VEVENT
BEGIN:VEVENT
UID:https://hbb.rivio.dev/senioren/2019/wedstrijd/26034
DTSTAMP:20260420T151352Z
SUMMARY:BC '85 1 - BCAB 3
DESCRIPTION:Baan 1\, Wedstrijdnummer 98\, Afdeling 1e klasse 
DTSTART:20200109T200000
DTEND:20200109T230000
LOCATION:City Resort Helmond
ATTACH;FMTTYPE=text/plain:https://hbb.rivio.dev/senioren/2019/wedstrijd/260
 34
END:VEVENT
BEGIN:VEVENT
UID:https://hbb.rivio.dev/senioren/2019/wedstrijd/26057
DTSTAMP:20260420T151352Z
SUMMARY:Smashing Bruang 2 - BCAB 3
DESCRIPTION:Baan 13\, Wedstrijdnummer 1082\, Afdeling 1e klasse 
DTSTART:20200116T200000
DTEND:20200116T230000
LOCATION:City Resort Helmond
ATTACH;FMTTYPE=text/plain:https://hbb.rivio.dev/senioren/2019/wedstrijd/260
 57
END:VEVENT
BEGIN:VEVENT
UID:https://hbb.rivio.dev/senioren/2019/wedstrijd/26107
DTSTAMP:20260420T151352Z
SUMMARY:BCAB 3 - Bakel 2
DESCRIPTION:Baan 11\, Wedstrijdnummer 1084\, Afdeling 1e klasse 
DTSTART:20200206T200000
DTEND:20200206T230000
LOCATION:City Resort Helmond
ATTACH;FMTTYPE=text/plain:https://hbb.rivio.dev/senioren/2019/wedstrijd/261
 07
END:VEVENT
BEGIN:VEVENT
UID:https://hbb.rivio.dev/senioren/2019/wedstrijd/26145
DTSTAMP:20260420T151352Z
SUMMARY:Mixed 4 - BCAB 3
DESCRIPTION:Baan 2\, Wedstrijdnummer 1087\, Afdeling 1e klasse 
DTSTART:20200220T200000
DTEND:20200220T230000
LOCATION:City Resort Helmond
ATTACH;FMTTYPE=text/plain:https://hbb.rivio.dev/senioren/2019/wedstrijd/261
 45
END:VEVENT
BEGIN:VEVENT
UID:https://hbb.rivio.dev/senioren/2019/wedstrijd/26168
DTSTAMP:20260420T151352Z
SUMMARY:BCAB 3 - Never Down 1
DESCRIPTION:Baan 13\, Wedstrijdnummer 1089\, Afdeling 1e klasse 
DTSTART:20200305T200000
DTEND:20200305T230000
LOCATION:City Resort Helmond
ATTACH;FMTTYPE=text/plain:https://hbb.rivio.dev/senioren/2019/wedstrijd/261
 68
END:VEVENT
BEGIN:VEVENT
UID:https://hbb.rivio.dev/senioren/2019/wedstrijd/26192
DTSTAMP:20260420T151352Z
SUMMARY:Hanevoet 2 - BCAB 3
DESCRIPTION:Baan 15\, Wedstrijdnummer 1092\, Afdeling 1e klasse 
DTSTART:20200312T200000
DTEND:20200312T230000
LOCATION:City Resort Helmond
ATTACH;FMTTYPE=text/plain:https://hbb.rivio.dev/senioren/2019/wedstrijd/261
 92
END:VEVENT
BEGIN:VEVENT
UID:https://hbb.rivio.dev/senioren/2019/wedstrijd/26350
DTSTAMP:20260420T151352Z
SUMMARY:Mixed 4 - BCAB 3
DESCRIPTION:Baan 10\, Wedstrijdnummer 3047\, Afdeling 1e klasse 
DTSTART:20200326T200000
DTEND:20200326T230000
LOCATION:City Resort Helmond
ATTACH;FMTTYPE=text/plain:https://hbb.rivio.dev/senioren/2019/wedstrijd/263
 50
END:VEVENT
BEGIN:VEVENT
UID:https://hbb.rivio.dev/senioren/2019/wedstrijd/26265
DTSTAMP:20260420T151352Z
SUMMARY:BCAB 3 - BC '85 1
DESCRIPTION:Baan 10\, Wedstrijdnummer 1098\, Afdeling 1e klasse 
DTSTART:20200514T200000
DTEND:20200514T230000
LOCATION:City Resort Helmond
ATTACH;FMTTYPE=text/plain:https://hbb.rivio.dev/senioren/2019/wedstrijd/262
 65
END:VEVENT
BEGIN:VTIMEZONE
TZID:Europe/Amsterdam
BEGIN:STANDARD
DTSTART:20190101T000000
TZNAME:CET
TZOFFSETTO:+0100
TZOFFSETFROM:+0100
END:STANDARD
BEGIN:DAYLIGHT
DTSTART:20190331T030000
TZNAME:CEST
TZOFFSETTO:+0200
TZOFFSETFROM:+0100
END:DAYLIGHT
BEGIN:STANDARD
DTSTART:20191027T020000
TZNAME:CET
TZOFFSETTO:+0100
TZOFFSETFROM:+0200
END:STANDARD
BEGIN:DAYLIGHT
DTSTART:20200329T030000
TZNAME:CEST
TZOFFSETTO:+0200
TZOFFSETFROM:+0100
END:DAYLIGHT
BEGIN:STANDARD
DTSTART:20201025T020000
TZNAME:CET
TZOFFSETTO:+0100
TZOFFSETFROM:+0200
END:STANDARD
END:VTIMEZONE
END:VCALENDAR
