BEGIN:VCALENDAR
PRODID:-//eluceo/ical//2.0/EN
VERSION:2.0
CALSCALE:GREGORIAN
BEGIN:VEVENT
UID:https://hbb.rivio.dev/senioren/2019/wedstrijd/25774
DTSTAMP:20260420T190057Z
SUMMARY:Someren 1 - BCAB 2
DESCRIPTION:Baan 12\, Wedstrijdnummer 24\, Afdeling Hoofdklasse 
DTSTART:20190912T200000
DTEND:20190912T230000
LOCATION:City Resort Helmond
ATTACH;FMTTYPE=text/plain:https://hbb.rivio.dev/senioren/2019/wedstrijd/257
 74
END:VEVENT
BEGIN:VEVENT
UID:https://hbb.rivio.dev/senioren/2019/wedstrijd/25809
DTSTAMP:20260420T190057Z
SUMMARY:BCAB 2 - Mixed 1
DESCRIPTION:Baan 2\, Wedstrijdnummer 28\, Afdeling Hoofdklasse 
DTSTART:20190926T200000
DTEND:20190926T230000
LOCATION:City Resort Helmond
ATTACH;FMTTYPE=text/plain:https://hbb.rivio.dev/senioren/2019/wedstrijd/258
 09
END:VEVENT
BEGIN:VEVENT
UID:https://hbb.rivio.dev/senioren/2019/wedstrijd/25849
DTSTAMP:20260420T190057Z
SUMMARY:Con Brio 3 - BCAB 2
DESCRIPTION:Baan 2\, Wedstrijdnummer 33\, Afdeling Hoofdklasse 
DTSTART:20191010T200000
DTEND:20191010T230000
LOCATION:City Resort Helmond
ATTACH;FMTTYPE=text/plain:https://hbb.rivio.dev/senioren/2019/wedstrijd/258
 49
END:VEVENT
BEGIN:VEVENT
UID:https://hbb.rivio.dev/senioren/2019/wedstrijd/25887
DTSTAMP:20260420T190057Z
SUMMARY:Phoenix 1 - BCAB 2
DESCRIPTION:Baan 15\, Wedstrijdnummer 36\, Afdeling Hoofdklasse 
DTSTART:20191030T200000
DTEND:20191030T230000
LOCATION:City Resort Helmond
ATTACH;FMTTYPE=text/plain:https://hbb.rivio.dev/senioren/2019/wedstrijd/258
 87
END:VEVENT
BEGIN:VEVENT
UID:https://hbb.rivio.dev/senioren/2019/wedstrijd/25953
DTSTAMP:20260420T190057Z
SUMMARY:BCAB 2 - Mierlo 3
DESCRIPTION:Baan 11\, Wedstrijdnummer 40\, Afdeling Hoofdklasse 
DTSTART:20191121T200000
DTEND:20191121T230000
LOCATION:City Resort Helmond
ATTACH;FMTTYPE=text/plain:https://hbb.rivio.dev/senioren/2019/wedstrijd/259
 53
END:VEVENT
BEGIN:VEVENT
UID:https://hbb.rivio.dev/senioren/2019/wedstrijd/25977
DTSTAMP:20260420T190057Z
SUMMARY:Hanevoet 1 - BCAB 2
DESCRIPTION:Baan 15\, Wedstrijdnummer 43\, Afdeling Hoofdklasse 
DTSTART:20191128T200000
DTEND:20191128T230000
LOCATION:City Resort Helmond
ATTACH;FMTTYPE=text/plain:https://hbb.rivio.dev/senioren/2019/wedstrijd/259
 77
END:VEVENT
BEGIN:VEVENT
UID:https://hbb.rivio.dev/senioren/2019/wedstrijd/26023
DTSTAMP:20260420T190057Z
SUMMARY:BCAB 2 - Smashing Bruang 1
DESCRIPTION:Baan 11\, Wedstrijdnummer 47\, Afdeling Hoofdklasse 
DTSTART:20191219T200000
DTEND:20191219T230000
LOCATION:City Resort Helmond
ATTACH;FMTTYPE=text/plain:https://hbb.rivio.dev/senioren/2019/wedstrijd/260
 23
END:VEVENT
BEGIN:VEVENT
UID:https://hbb.rivio.dev/senioren/2019/wedstrijd/26028
DTSTAMP:20260420T190057Z
SUMMARY:BCAB 2 - Mierlo 3
DESCRIPTION:Baan 1\, Wedstrijdnummer 3003\, Afdeling Hoofdklasse 
DTSTART:20200108T200000
DTEND:20200108T230000
LOCATION:City Resort Helmond
ATTACH;FMTTYPE=text/plain:https://hbb.rivio.dev/senioren/2019/wedstrijd/260
 28
END:VEVENT
BEGIN:VEVENT
UID:https://hbb.rivio.dev/senioren/2019/wedstrijd/26071
DTSTAMP:20260420T190057Z
SUMMARY:BCAB 2 - Someren 1
DESCRIPTION:Baan 15\, Wedstrijdnummer 1024\, Afdeling Hoofdklasse 
DTSTART:20200123T200000
DTEND:20200123T230000
LOCATION:City Resort Helmond
ATTACH;FMTTYPE=text/plain:https://hbb.rivio.dev/senioren/2019/wedstrijd/260
 71
END:VEVENT
BEGIN:VEVENT
UID:https://hbb.rivio.dev/senioren/2019/wedstrijd/26097
DTSTAMP:20260420T190057Z
SUMMARY:Mixed 1 - BCAB 2
DESCRIPTION:Baan 11\, Wedstrijdnummer 1028\, Afdeling Hoofdklasse 
DTSTART:20200205T200000
DTEND:20200205T230000
LOCATION:City Resort Helmond
ATTACH;FMTTYPE=text/plain:https://hbb.rivio.dev/senioren/2019/wedstrijd/260
 97
END:VEVENT
BEGIN:VEVENT
UID:https://hbb.rivio.dev/senioren/2019/wedstrijd/26154
DTSTAMP:20260420T190057Z
SUMMARY:BCAB 2 - Con Brio 3
DESCRIPTION:Baan 15\, Wedstrijdnummer 1033\, Afdeling Hoofdklasse 
DTSTART:20200220T200000
DTEND:20200220T230000
LOCATION:City Resort Helmond
ATTACH;FMTTYPE=text/plain:https://hbb.rivio.dev/senioren/2019/wedstrijd/261
 54
END:VEVENT
BEGIN:VEVENT
UID:https://hbb.rivio.dev/senioren/2019/wedstrijd/26189
DTSTAMP:20260420T190057Z
SUMMARY:BCAB 2 - Phoenix 1
DESCRIPTION:Baan 12\, Wedstrijdnummer 1036\, Afdeling Hoofdklasse 
DTSTART:20200312T200000
DTEND:20200312T230000
LOCATION:City Resort Helmond
ATTACH;FMTTYPE=text/plain:https://hbb.rivio.dev/senioren/2019/wedstrijd/261
 89
END:VEVENT
BEGIN:VEVENT
UID:https://hbb.rivio.dev/senioren/2019/wedstrijd/26201
DTSTAMP:20260420T190057Z
SUMMARY:Mierlo 3 - BCAB 2
DESCRIPTION:Baan 4\, Wedstrijdnummer 1040\, Afdeling Hoofdklasse 
DTSTART:20200319T200000
DTEND:20200319T230000
LOCATION:City Resort Helmond
ATTACH;FMTTYPE=text/plain:https://hbb.rivio.dev/senioren/2019/wedstrijd/262
 01
END:VEVENT
BEGIN:VEVENT
UID:https://hbb.rivio.dev/senioren/2019/wedstrijd/26224
DTSTAMP:20260420T190057Z
SUMMARY:BCAB 2 - Hanevoet 1
DESCRIPTION:Baan 4\, Wedstrijdnummer 1043\, Afdeling Hoofdklasse 
DTSTART:20200401T200000
DTEND:20200401T230000
LOCATION:City Resort Helmond
ATTACH;FMTTYPE=text/plain:https://hbb.rivio.dev/senioren/2019/wedstrijd/262
 24
END:VEVENT
BEGIN:VEVENT
UID:https://hbb.rivio.dev/senioren/2019/wedstrijd/26241
DTSTAMP:20260420T190057Z
SUMMARY:Smashing Bruang 1 - BCAB 2
DESCRIPTION:Baan 15\, Wedstrijdnummer 1047\, Afdeling Hoofdklasse 
DTSTART:20200415T200000
DTEND:20200415T230000
LOCATION:City Resort Helmond
ATTACH;FMTTYPE=text/plain:https://hbb.rivio.dev/senioren/2019/wedstrijd/262
 41
END:VEVENT
BEGIN:VTIMEZONE
TZID:Europe/Amsterdam
BEGIN:STANDARD
DTSTART:20190101T000000
TZNAME:CET
TZOFFSETTO:+0100
TZOFFSETFROM:+0100
END:STANDARD
BEGIN:DAYLIGHT
DTSTART:20190331T030000
TZNAME:CEST
TZOFFSETTO:+0200
TZOFFSETFROM:+0100
END:DAYLIGHT
BEGIN:STANDARD
DTSTART:20191027T020000
TZNAME:CET
TZOFFSETTO:+0100
TZOFFSETFROM:+0200
END:STANDARD
BEGIN:DAYLIGHT
DTSTART:20200329T030000
TZNAME:CEST
TZOFFSETTO:+0200
TZOFFSETFROM:+0100
END:DAYLIGHT
BEGIN:STANDARD
DTSTART:20201025T020000
TZNAME:CET
TZOFFSETTO:+0100
TZOFFSETFROM:+0200
END:STANDARD
END:VTIMEZONE
END:VCALENDAR
