BEGIN:VCALENDAR
PRODID:-//eluceo/ical//2.0/EN
VERSION:2.0
CALSCALE:GREGORIAN
BEGIN:VEVENT
UID:https://hbb.rivio.dev/senioren/2019/wedstrijd/25779
DTSTAMP:20260420T082157Z
SUMMARY:Ganzeveer 1 - BCAB 1
DESCRIPTION:Baan 2\, Wedstrijdnummer 3\, Afdeling Topklasse 
DTSTART:20190918T200000
DTEND:20190918T230000
LOCATION:City Resort Helmond
ATTACH;FMTTYPE=text/plain:https://hbb.rivio.dev/senioren/2019/wedstrijd/257
 79
END:VEVENT
BEGIN:VEVENT
UID:https://hbb.rivio.dev/senioren/2019/wedstrijd/25832
DTSTAMP:20260420T082157Z
SUMMARY:BCAB 1 - Brabantia 1
DESCRIPTION:Baan 10\, Wedstrijdnummer 6\, Afdeling Topklasse 
DTSTART:20191003T200000
DTEND:20191003T230000
LOCATION:City Resort Helmond
ATTACH;FMTTYPE=text/plain:https://hbb.rivio.dev/senioren/2019/wedstrijd/258
 32
END:VEVENT
BEGIN:VEVENT
UID:https://hbb.rivio.dev/senioren/2019/wedstrijd/25911
DTSTAMP:20260420T082157Z
SUMMARY:Mierlo 2 - BCAB 1
DESCRIPTION:Baan 4\, Wedstrijdnummer 12\, Afdeling Topklasse 
DTSTART:20191107T200000
DTEND:20191107T230000
LOCATION:City Resort Helmond
ATTACH;FMTTYPE=text/plain:https://hbb.rivio.dev/senioren/2019/wedstrijd/259
 11
END:VEVENT
BEGIN:VEVENT
UID:https://hbb.rivio.dev/senioren/2019/wedstrijd/25957
DTSTAMP:20260420T082157Z
SUMMARY:BCAB 1 - Con Brio 2
DESCRIPTION:Baan 15\, Wedstrijdnummer 15\, Afdeling Topklasse 
DTSTART:20191121T200000
DTEND:20191121T230000
LOCATION:City Resort Helmond
ATTACH;FMTTYPE=text/plain:https://hbb.rivio.dev/senioren/2019/wedstrijd/259
 57
END:VEVENT
BEGIN:VEVENT
UID:https://hbb.rivio.dev/senioren/2019/wedstrijd/26007
DTSTAMP:20260420T082157Z
SUMMARY:Con Brio 1 - BCAB 1
DESCRIPTION:Baan 15\, Wedstrijdnummer 17\, Afdeling Topklasse 
DTSTART:20191212T200000
DTEND:20191212T230000
LOCATION:City Resort Helmond
ATTACH;FMTTYPE=text/plain:https://hbb.rivio.dev/senioren/2019/wedstrijd/260
 07
END:VEVENT
BEGIN:VEVENT
UID:https://hbb.rivio.dev/senioren/2019/wedstrijd/26039
DTSTAMP:20260420T082157Z
SUMMARY:BCAB 1 - Mierlo 1
DESCRIPTION:Baan 11\, Wedstrijdnummer 20\, Afdeling Topklasse 
DTSTART:20200109T200000
DTEND:20200109T230000
LOCATION:City Resort Helmond
ATTACH;FMTTYPE=text/plain:https://hbb.rivio.dev/senioren/2019/wedstrijd/260
 39
END:VEVENT
BEGIN:VEVENT
UID:https://hbb.rivio.dev/senioren/2019/wedstrijd/26044
DTSTAMP:20260420T082157Z
SUMMARY:Mierlo 1 - BCAB 1
DESCRIPTION:Baan 1\, Wedstrijdnummer 3000\, Afdeling Topklasse 
DTSTART:20200115T200000
DTEND:20200115T230000
LOCATION:City Resort Helmond
ATTACH;FMTTYPE=text/plain:https://hbb.rivio.dev/senioren/2019/wedstrijd/260
 44
END:VEVENT
BEGIN:VEVENT
UID:https://hbb.rivio.dev/senioren/2019/wedstrijd/26068
DTSTAMP:20260420T082157Z
SUMMARY:BCAB 1 - Ganzeveer 1
DESCRIPTION:Baan 12\, Wedstrijdnummer 1003\, Afdeling Topklasse 
DTSTART:20200123T200000
DTEND:20200123T230000
LOCATION:City Resort Helmond
ATTACH;FMTTYPE=text/plain:https://hbb.rivio.dev/senioren/2019/wedstrijd/260
 68
END:VEVENT
BEGIN:VEVENT
UID:https://hbb.rivio.dev/senioren/2019/wedstrijd/26111
DTSTAMP:20260420T082157Z
SUMMARY:Brabantia 1 - BCAB 1
DESCRIPTION:Baan 15\, Wedstrijdnummer 1006\, Afdeling Topklasse 
DTSTART:20200206T200000
DTEND:20200206T230000
LOCATION:City Resort Helmond
ATTACH;FMTTYPE=text/plain:https://hbb.rivio.dev/senioren/2019/wedstrijd/261
 11
END:VEVENT
BEGIN:VEVENT
UID:https://hbb.rivio.dev/senioren/2019/wedstrijd/26185
DTSTAMP:20260420T082157Z
SUMMARY:BCAB 1 - Mierlo 2
DESCRIPTION:Baan 4\, Wedstrijdnummer 1012\, Afdeling Topklasse 
DTSTART:20200312T200000
DTEND:20200312T230000
LOCATION:City Resort Helmond
ATTACH;FMTTYPE=text/plain:https://hbb.rivio.dev/senioren/2019/wedstrijd/261
 85
END:VEVENT
BEGIN:VEVENT
UID:https://hbb.rivio.dev/senioren/2019/wedstrijd/26207
DTSTAMP:20260420T082157Z
SUMMARY:Con Brio 2 - BCAB 1
DESCRIPTION:Baan 14\, Wedstrijdnummer 1015\, Afdeling Topklasse 
DTSTART:20200319T200000
DTEND:20200319T230000
LOCATION:City Resort Helmond
ATTACH;FMTTYPE=text/plain:https://hbb.rivio.dev/senioren/2019/wedstrijd/262
 07
END:VEVENT
BEGIN:VEVENT
UID:https://hbb.rivio.dev/senioren/2019/wedstrijd/26245
DTSTAMP:20260420T082157Z
SUMMARY:BCAB 1 - Con Brio 1
DESCRIPTION:Baan 12\, Wedstrijdnummer 1017\, Afdeling Topklasse 
DTSTART:20200416T200000
DTEND:20200416T230000
LOCATION:City Resort Helmond
ATTACH;FMTTYPE=text/plain:https://hbb.rivio.dev/senioren/2019/wedstrijd/262
 45
END:VEVENT
BEGIN:VEVENT
UID:https://hbb.rivio.dev/senioren/2019/wedstrijd/26273
DTSTAMP:20260420T082157Z
SUMMARY:Mierlo 1 - BCAB 1
DESCRIPTION:Baan 3\, Wedstrijdnummer 1020\, Afdeling Topklasse 
DTSTART:20200520T200000
DTEND:20200520T230000
LOCATION:City Resort Helmond
ATTACH;FMTTYPE=text/plain:https://hbb.rivio.dev/senioren/2019/wedstrijd/262
 73
END:VEVENT
BEGIN:VTIMEZONE
TZID:Europe/Amsterdam
BEGIN:STANDARD
DTSTART:20190101T000000
TZNAME:CET
TZOFFSETTO:+0100
TZOFFSETFROM:+0100
END:STANDARD
BEGIN:DAYLIGHT
DTSTART:20190331T030000
TZNAME:CEST
TZOFFSETTO:+0200
TZOFFSETFROM:+0100
END:DAYLIGHT
BEGIN:STANDARD
DTSTART:20191027T020000
TZNAME:CET
TZOFFSETTO:+0100
TZOFFSETFROM:+0200
END:STANDARD
BEGIN:DAYLIGHT
DTSTART:20200329T030000
TZNAME:CEST
TZOFFSETTO:+0200
TZOFFSETFROM:+0100
END:DAYLIGHT
BEGIN:STANDARD
DTSTART:20201025T020000
TZNAME:CET
TZOFFSETTO:+0100
TZOFFSETFROM:+0200
END:STANDARD
END:VTIMEZONE
END:VCALENDAR
