BEGIN:VCALENDAR
PRODID:-//eluceo/ical//2.0/EN
VERSION:2.0
CALSCALE:GREGORIAN
BEGIN:VEVENT
UID:https://hbb.rivio.dev/senioren/2019/wedstrijd/25782
DTSTAMP:20260420T234037Z
SUMMARY:Mierlo 8 - Heeze 1
DESCRIPTION:Baan 10\, Wedstrijdnummer 179\, Afdeling 3e klasse II
DTSTART:20190918T200000
DTEND:20190918T230000
LOCATION:City Resort Helmond
ATTACH;FMTTYPE=text/plain:https://hbb.rivio.dev/senioren/2019/wedstrijd/257
 82
END:VEVENT
BEGIN:VEVENT
UID:https://hbb.rivio.dev/senioren/2019/wedstrijd/25834
DTSTAMP:20260420T234037Z
SUMMARY:Heeze 1 - Someren 4
DESCRIPTION:Baan 12\, Wedstrijdnummer 182\, Afdeling 3e klasse II
DTSTART:20191003T200000
DTEND:20191003T230000
LOCATION:City Resort Helmond
ATTACH;FMTTYPE=text/plain:https://hbb.rivio.dev/senioren/2019/wedstrijd/258
 34
END:VEVENT
BEGIN:VEVENT
UID:https://hbb.rivio.dev/senioren/2019/wedstrijd/25858
DTSTAMP:20260420T234037Z
SUMMARY:Mixed 6 - Heeze 1
DESCRIPTION:Baan 1\, Wedstrijdnummer 186\, Afdeling 3e klasse II
DTSTART:20191023T200000
DTEND:20191023T230000
LOCATION:City Resort Helmond
ATTACH;FMTTYPE=text/plain:https://hbb.rivio.dev/senioren/2019/wedstrijd/258
 58
END:VEVENT
BEGIN:VEVENT
UID:https://hbb.rivio.dev/senioren/2019/wedstrijd/25902
DTSTAMP:20260420T234037Z
SUMMARY:Heeze 1 - Never Down 2
DESCRIPTION:Baan 5\, Wedstrijdnummer 3028\, Afdeling 3e klasse II
DTSTART:20191106T200000
DTEND:20191106T230000
LOCATION:City Resort Helmond
ATTACH;FMTTYPE=text/plain:https://hbb.rivio.dev/senioren/2019/wedstrijd/259
 02
END:VEVENT
BEGIN:VEVENT
UID:https://hbb.rivio.dev/senioren/2019/wedstrijd/25932
DTSTAMP:20260420T234037Z
SUMMARY:Heeze 1 - Heiakker 1
DESCRIPTION:Baan 5\, Wedstrijdnummer 189\, Afdeling 3e klasse II
DTSTART:20191114T200000
DTEND:20191114T230000
LOCATION:City Resort Helmond
ATTACH;FMTTYPE=text/plain:https://hbb.rivio.dev/senioren/2019/wedstrijd/259
 32
END:VEVENT
BEGIN:VEVENT
UID:https://hbb.rivio.dev/senioren/2019/wedstrijd/25989
DTSTAMP:20260420T234037Z
SUMMARY:Gemert 2 - Heeze 1
DESCRIPTION:Baan 2\, Wedstrijdnummer 195\, Afdeling 3e klasse II
DTSTART:20191211T200000
DTEND:20191211T230000
LOCATION:City Resort Helmond
ATTACH;FMTTYPE=text/plain:https://hbb.rivio.dev/senioren/2019/wedstrijd/259
 89
END:VEVENT
BEGIN:VEVENT
UID:https://hbb.rivio.dev/senioren/2019/wedstrijd/26043
DTSTAMP:20260420T234037Z
SUMMARY:Heeze 1 - Hanevoet 4
DESCRIPTION:Baan 15\, Wedstrijdnummer 198\, Afdeling 3e klasse II
DTSTART:20200109T200000
DTEND:20200109T230000
LOCATION:City Resort Helmond
ATTACH;FMTTYPE=text/plain:https://hbb.rivio.dev/senioren/2019/wedstrijd/260
 43
END:VEVENT
BEGIN:VEVENT
UID:https://hbb.rivio.dev/senioren/2019/wedstrijd/26093
DTSTAMP:20260420T234037Z
SUMMARY:Heeze 1 - Mierlo 8
DESCRIPTION:Baan 2\, Wedstrijdnummer 1179\, Afdeling 3e klasse II
DTSTART:20200205T200000
DTEND:20200205T230000
LOCATION:City Resort Helmond
ATTACH;FMTTYPE=text/plain:https://hbb.rivio.dev/senioren/2019/wedstrijd/260
 93
END:VEVENT
BEGIN:VEVENT
UID:https://hbb.rivio.dev/senioren/2019/wedstrijd/26122
DTSTAMP:20260420T234037Z
SUMMARY:Someren 4 - Heeze 1
DESCRIPTION:Baan 1\, Wedstrijdnummer 1182\, Afdeling 3e klasse II
DTSTART:20200213T200000
DTEND:20200213T230000
LOCATION:City Resort Helmond
ATTACH;FMTTYPE=text/plain:https://hbb.rivio.dev/senioren/2019/wedstrijd/261
 22
END:VEVENT
BEGIN:VEVENT
UID:https://hbb.rivio.dev/senioren/2019/wedstrijd/26155
DTSTAMP:20260420T234037Z
SUMMARY:Heeze 1 - Mixed 6
DESCRIPTION:Baan 1\, Wedstrijdnummer 1186\, Afdeling 3e klasse II
DTSTART:20200304T200000
DTEND:20200304T230000
LOCATION:City Resort Helmond
ATTACH;FMTTYPE=text/plain:https://hbb.rivio.dev/senioren/2019/wedstrijd/261
 55
END:VEVENT
BEGIN:VEVENT
UID:https://hbb.rivio.dev/senioren/2019/wedstrijd/26187
DTSTAMP:20260420T234037Z
SUMMARY:Heiakker 1 - Heeze 1
DESCRIPTION:Baan 10\, Wedstrijdnummer 1189\, Afdeling 3e klasse II
DTSTART:20200312T200000
DTEND:20200312T230000
LOCATION:City Resort Helmond
ATTACH;FMTTYPE=text/plain:https://hbb.rivio.dev/senioren/2019/wedstrijd/261
 87
END:VEVENT
BEGIN:VEVENT
UID:https://hbb.rivio.dev/senioren/2019/wedstrijd/26240
DTSTAMP:20260420T234037Z
SUMMARY:Heeze 1 - Gemert 2
DESCRIPTION:Baan 4\, Wedstrijdnummer 1195\, Afdeling 3e klasse II
DTSTART:20200415T200000
DTEND:20200415T230000
LOCATION:City Resort Helmond
ATTACH;FMTTYPE=text/plain:https://hbb.rivio.dev/senioren/2019/wedstrijd/262
 40
END:VEVENT
BEGIN:VEVENT
UID:https://hbb.rivio.dev/senioren/2019/wedstrijd/26270
DTSTAMP:20260420T234037Z
SUMMARY:Hanevoet 4 - Heeze 1
DESCRIPTION:Baan 15\, Wedstrijdnummer 1198\, Afdeling 3e klasse II
DTSTART:20200514T200000
DTEND:20200514T230000
LOCATION:City Resort Helmond
ATTACH;FMTTYPE=text/plain:https://hbb.rivio.dev/senioren/2019/wedstrijd/262
 70
END:VEVENT
BEGIN:VTIMEZONE
TZID:Europe/Amsterdam
BEGIN:STANDARD
DTSTART:20190101T000000
TZNAME:CET
TZOFFSETTO:+0100
TZOFFSETFROM:+0100
END:STANDARD
BEGIN:DAYLIGHT
DTSTART:20190331T030000
TZNAME:CEST
TZOFFSETTO:+0200
TZOFFSETFROM:+0100
END:DAYLIGHT
BEGIN:STANDARD
DTSTART:20191027T020000
TZNAME:CET
TZOFFSETTO:+0100
TZOFFSETFROM:+0200
END:STANDARD
BEGIN:DAYLIGHT
DTSTART:20200329T030000
TZNAME:CEST
TZOFFSETTO:+0200
TZOFFSETFROM:+0100
END:DAYLIGHT
BEGIN:STANDARD
DTSTART:20201025T020000
TZNAME:CET
TZOFFSETTO:+0100
TZOFFSETFROM:+0200
END:STANDARD
END:VTIMEZONE
END:VCALENDAR
